BEGIN:VCALENDAR
VERSION:2.0
PRODID:-//Ludwig Van Montreal - ECPv5.9.1//NONSGML v1.0//EN
CALSCALE:GREGORIAN
METHOD:PUBLISH
X-WR-CALNAME:Ludwig Van Montreal
X-ORIGINAL-URL:https://www.ludwig-van.com/montreal
X-WR-CALDESC:évènements pour Ludwig Van Montreal
BEGIN:VTIMEZONE
TZID:America/Toronto
BEGIN:DAYLIGHT
TZOFFSETFROM:-0500
TZOFFSETTO:-0400
TZNAME:EDT
DTSTART:20180311T070000
END:DAYLIGHT
BEGIN:STANDARD
TZOFFSETFROM:-0400
TZOFFSETTO:-0500
TZNAME:EST
DTSTART:20181104T060000
END:STANDARD
END:VTIMEZONE
BEGIN:VEVENT
DTSTART;TZID=America/Toronto:20180721T140000
DTEND;TZID=America/Toronto:20180721T160000
DTSTAMP:20260421T215129
CREATED:20180502T005242Z
LAST-MODIFIED:20180502T005242Z
UID:53791-1532181600-1532188800@www.ludwig-van.com
SUMMARY:Orford Musique | Suzie LeBlanc : chants des Ursulines
DESCRIPTION:Suzie LeBlanc : chants des Ursulines \nGrande étoile de la scène internationale et lauréate de nombreux prix\, la cantatrice Suzie LeBlanc vous propose un concert en quatuor mettant à l’honneur les chants des Ursulines de Québec. D’autres motets et œuvres sacrées des couvents d’ici et d’ailleurs de la même époque viendront compléter ce magnifique programme. \nSuzie LeBlanc\, soprano\nElizabeth MacIsaac\, soprano\n[Artiste à venir]\, viole de gambe\nChristophe Gauthier\, orgue
URL:https://www.ludwig-van.com/montreal/event/orford-musique-suzie-leblanc-chants-ursulines/
LOCATION:Abbaye de Saint-Benoît-du-lac\, 1 rue Principale\, Saint-Benoît-du-Lac\, Québec\, J0B 2M0\, Canada
CATEGORIES:Festival,Organ,Period ensemble,Vocal
ATTACH;FMTTYPE=image/jpeg:https://www.ludwig-van.com/montreal/wp-content/uploads/sites/3/2017/11/Suzie-LeBlanc-calendrier.jpg
ORGANIZER;CN="Orford%20Musique":MAILTO:billetterie@orford.mu
GEO:45.16635;-72.271
X-APPLE-STRUCTURED-LOCATION;VALUE=URI;X-ADDRESS=Abbaye de Saint-Benoît-du-lac 1 rue Principale Saint-Benoît-du-Lac Québec J0B 2M0 Canada;X-APPLE-RADIUS=500;X-TITLE=1 rue Principale:geo:-72.271,45.16635
END:VEVENT
BEGIN:VEVENT
DTSTART;TZID=America/Toronto:20180721T200000
DTEND;TZID=America/Toronto:20180721T220000
DTSTAMP:20260421T215129
CREATED:20180710T000206Z
LAST-MODIFIED:20180710T000206Z
UID:55292-1532203200-1532210400@www.ludwig-van.com
SUMMARY:CIOC | Feux d'artifice à l'orgue
DESCRIPTION:L’union fait la force! Sortez votre drapeau rouge\, jaune et noir pour célébrer la fête nationale de la Belgique avec le Concours international d’orgue du Canada. \nNicholas Capozzoli (finaliste du CIOC 2017) et le ténor Thomas Leslie ont sélectionné des oeuvres de maîtres belges. Laissez-vous surprendre par ces feux d’artifice à l’orgue de la Chapelle Notre-Dame-de-Bon-Secours!
URL:https://www.ludwig-van.com/montreal/event/cioc-feux-dartifice-a-lorgue/
LOCATION:Chapelle Notre-Dame-de-Bon-Secours\, 400\, Rue Saint-paul Est\, Montréal\, Québec\, H2Y 1H4\, Canada
CATEGORIES:Organ,Vocal
ATTACH;FMTTYPE=image/jpeg:https://www.ludwig-van.com/montreal/wp-content/uploads/sites/3/2018/07/Nicholas-Capozzoli-c-seven-eight-artists-calendrier.jpg
ORGANIZER;CN="Concours%20International%20d%E2%80%99Orgue%20du%20Canada":MAILTO:info@ciocm.org
GEO:45.5097546;-73.5508393
X-APPLE-STRUCTURED-LOCATION;VALUE=URI;X-ADDRESS=Chapelle Notre-Dame-de-Bon-Secours 400 Rue Saint-paul Est Montréal Québec H2Y 1H4 Canada;X-APPLE-RADIUS=500;X-TITLE=400\, Rue Saint-paul Est:geo:-73.5508393,45.5097546
END:VEVENT
END:VCALENDAR