BEGIN:VCALENDAR
VERSION:2.0
PRODID:-//Ludwig Van Montreal - ECPv5.9.1//NONSGML v1.0//EN
CALSCALE:GREGORIAN
METHOD:PUBLISH
X-WR-CALNAME:Ludwig Van Montreal
X-ORIGINAL-URL:https://www.ludwig-van.com/montreal
X-WR-CALDESC:évènements pour Ludwig Van Montreal
BEGIN:VTIMEZONE
TZID:America/Toronto
BEGIN:DAYLIGHT
TZOFFSETFROM:-0500
TZOFFSETTO:-0400
TZNAME:EDT
DTSTART:20180311T070000
END:DAYLIGHT
BEGIN:STANDARD
TZOFFSETFROM:-0400
TZOFFSETTO:-0500
TZNAME:EST
DTSTART:20181104T060000
END:STANDARD
END:VTIMEZONE
BEGIN:VEVENT
DTSTART;TZID=America/Toronto:20180520T143000
DTEND;TZID=America/Toronto:20180520T163000
DTSTAMP:20260422T011422
CREATED:20180328T235238Z
LAST-MODIFIED:20180328T235913Z
UID:52914-1526826600-1526833800@www.ludwig-van.com
SUMMARY:OSM | Dr. Jekyll & Mr. Hyde avec David Briggs
DESCRIPTION:Festival de films de sciences et de fictions\, Série orgue 17-18.  Musique improvisée à l’orgue en accompagnement de la projection du film. Considéré comme l’un des plus talentueux organistes de sa génération\, l’interprète émérite et compositeur anglais David Briggs est reconnu pour son grand talent d’improvisateur. Son accompagnement du film réalisé par réalisé par John S. Robertson en 1920 se métamorphosera au rythme des transmutations du bon Dr. Jekyll en horrible Mr. Hyde. \nARTISTES ET OEUVRES\nSérie orgue : Orgue et cinéma\nDr. Jekyll and Mr. Hyde\nDavid Briggs\, orgue
URL:https://www.ludwig-van.com/montreal/event/osm-dr-jekyll-mr-hyde-david-briggs/
LOCATION:Maison Symphonique\, 1600 rue St-Urbain\, Montréal\, Québec\, H2S0X1\, Canada
CATEGORIES:Festival,Film,Organ
ATTACH;FMTTYPE=image/jpeg:https://www.ludwig-van.com/montreal/wp-content/uploads/sites/3/2018/03/Jekyll_bandeau.jpg
GEO:45.5310103;-73.613956
X-APPLE-STRUCTURED-LOCATION;VALUE=URI;X-ADDRESS=Maison Symphonique 1600 rue St-Urbain Montréal Québec H2S0X1 Canada;X-APPLE-RADIUS=500;X-TITLE=1600 rue St-Urbain:geo:-73.613956,45.5310103
END:VEVENT
END:VCALENDAR