BEGIN:VCALENDAR
VERSION:2.0
PRODID:-//Ludwig Van Montreal - ECPv5.9.1//NONSGML v1.0//EN
CALSCALE:GREGORIAN
METHOD:PUBLISH
X-WR-CALNAME:Ludwig Van Montreal
X-ORIGINAL-URL:https://www.ludwig-van.com/montreal
X-WR-CALDESC:évènements pour Ludwig Van Montreal
BEGIN:VTIMEZONE
TZID:America/Toronto
BEGIN:DAYLIGHT
TZOFFSETFROM:-0500
TZOFFSETTO:-0400
TZNAME:EDT
DTSTART:20180311T070000
END:DAYLIGHT
BEGIN:STANDARD
TZOFFSETFROM:-0400
TZOFFSETTO:-0500
TZNAME:EST
DTSTART:20181104T060000
END:STANDARD
END:VTIMEZONE
BEGIN:VEVENT
DTSTART;TZID=America/Toronto:20180506T153000
DTEND;TZID=America/Toronto:20180506T170000
DTSTAMP:20260422T011422
CREATED:20180413T230757Z
LAST-MODIFIED:20180413T230757Z
UID:53427-1525620600-1525626000@www.ludwig-van.com
SUMMARY:Oratoire Saint-Joseph | La Folia - Amazing Grace : BlackWatch Pipes et Vincent Boucher\, orgue
DESCRIPTION:Amazing Grace : œuvres pour cornemuses\, percussions et orgue avec le BlackWatch Pipes et Vincent Boucher\, orgue \nLA FOLIA\n6 mai au 24 juin 2018\nBasilique de l’Oratoire Saint-Joseph\nLes dimanches à 15:30\nEntrée libre – contribution à discrétion – Projection sur grand écran
URL:https://www.ludwig-van.com/montreal/event/oratoire-saint-joseph-folia-amazing-grace-blackwatch-pipes-vincent-boucher-orgue/
LOCATION:L’Oratoire Saint-Joseph du Mont-Royal\, 3800\, chemin Queen-Mary\, Montréal\, Québec\, H3V 1H6\, Canada
CATEGORIES:Organ,percussion,World Music
ATTACH;FMTTYPE=image/jpeg:https://www.ludwig-van.com/montreal/wp-content/uploads/sites/3/2017/09/Oratoire-soirée-_Samuel-Martin.jpg
ORGANIZER;CN="L%27Oratoire%20Saint-Joseph%20du%20Mont-Royal":MAILTO:info@osj.qc.ca
GEO:45.4921716;-73.616944
X-APPLE-STRUCTURED-LOCATION;VALUE=URI;X-ADDRESS=L’Oratoire Saint-Joseph du Mont-Royal 3800 chemin Queen-Mary Montréal Québec H3V 1H6 Canada;X-APPLE-RADIUS=500;X-TITLE=3800\, chemin Queen-Mary:geo:-73.616944,45.4921716
END:VEVENT
END:VCALENDAR