BEGIN:VCALENDAR
VERSION:2.0
PRODID:-//Ludwig Van Montreal - ECPv5.9.1//NONSGML v1.0//EN
CALSCALE:GREGORIAN
METHOD:PUBLISH
X-WR-CALNAME:Ludwig Van Montreal
X-ORIGINAL-URL:https://www.ludwig-van.com/montreal
X-WR-CALDESC:évènements pour Ludwig Van Montreal
BEGIN:VTIMEZONE
TZID:America/Toronto
BEGIN:DAYLIGHT
TZOFFSETFROM:-0500
TZOFFSETTO:-0400
TZNAME:EDT
DTSTART:20180311T070000
END:DAYLIGHT
BEGIN:STANDARD
TZOFFSETFROM:-0400
TZOFFSETTO:-0500
TZNAME:EST
DTSTART:20181104T060000
END:STANDARD
END:VTIMEZONE
BEGIN:VEVENT
DTSTART;TZID=America/Toronto:20180429T153000
DTEND;TZID=America/Toronto:20180429T170000
DTSTAMP:20260422T030928
CREATED:20180224T001146Z
LAST-MODIFIED:20180224T001146Z
UID:51994-1525015800-1525021200@www.ludwig-van.com
SUMMARY:Oratoire Saint-Joseph | Montréal musique sacrée : Éclats de mémoire avec Jean Marchand\, narration et Hampus Lindwall\, orgue
DESCRIPTION:Éclats de mémoire\, événement littéraire et musical avec Jean Marchand\, narration et Hampus Lindwall (Suède)\, orgue. Présenté dans le cadre de la série Montréal musique sacrée. \n\n\nSÉRIE MONTRÉAL MUSIQUE SACRÉE \nDU 4 mars au 29 avril 2018 \n\n\nCette série permettra aux mélomanes d’applaudir l’organiste réputé Daniel Roth\, titulaire de l’église Saint-Sulpice à Paris\, pour la première fois à Montréal depuis plus de 20 ans. Ils pourront également entendre quatre ensembles vocaux dans des œuvres majeures du répertoire\, dont les Leçons de ténèbres de François Couperin et la Messe pour deux chœurs et deux orgues de Louis Vierne. \nDans la basilique à 15:30\, projection sur grand écran\, contribution à discrétion \nDétails et programmes complets des concerts du dimanche disponible ici.
URL:https://www.ludwig-van.com/montreal/event/oratoire-saint-joseph-montreal-musique-sacree-eclats-de-memoire-jean-marchand-narration-hampus-lindwall-orgue/
LOCATION:L’Oratoire Saint-Joseph du Mont-Royal\, 3800\, chemin Queen-Mary\, Montréal\, Québec\, H3V 1H6\, Canada
CATEGORIES:Organ
ATTACH;FMTTYPE=image/jpeg:https://www.ludwig-van.com/montreal/wp-content/uploads/sites/3/2018/02/oratoire-concerts-orgue-musique-sacree-2017.jpg
ORGANIZER;CN="L%27Oratoire%20Saint-Joseph%20du%20Mont-Royal":MAILTO:info@osj.qc.ca
GEO:45.4921716;-73.616944
X-APPLE-STRUCTURED-LOCATION;VALUE=URI;X-ADDRESS=L’Oratoire Saint-Joseph du Mont-Royal 3800 chemin Queen-Mary Montréal Québec H3V 1H6 Canada;X-APPLE-RADIUS=500;X-TITLE=3800\, chemin Queen-Mary:geo:-73.616944,45.4921716
END:VEVENT
END:VCALENDAR