BEGIN:VCALENDAR
VERSION:2.0
PRODID:-//Ludwig Van Montreal - ECPv5.9.1//NONSGML v1.0//EN
CALSCALE:GREGORIAN
METHOD:PUBLISH
X-WR-CALNAME:Ludwig Van Montreal
X-ORIGINAL-URL:https://www.ludwig-van.com/montreal
X-WR-CALDESC:évènements pour Ludwig Van Montreal
BEGIN:VTIMEZONE
TZID:America/Toronto
BEGIN:DAYLIGHT
TZOFFSETFROM:-0500
TZOFFSETTO:-0400
TZNAME:EDT
DTSTART:20180311T070000
END:DAYLIGHT
BEGIN:STANDARD
TZOFFSETFROM:-0400
TZOFFSETTO:-0500
TZNAME:EST
DTSTART:20181104T060000
END:STANDARD
END:VTIMEZONE
BEGIN:VEVENT
DTSTART;TZID=America/Toronto:20180311T143000
DTEND;TZID=America/Toronto:20180311T163000
DTSTAMP:20260422T050438
CREATED:20180223T000051Z
LAST-MODIFIED:20180223T000051Z
UID:51940-1520778600-1520785800@www.ludwig-van.com
SUMMARY:OSM | Grand récital avec Nathan J. Laube
DESCRIPTION:S’imposant comme l’un des meilleurs organistes de sa génération\, Nathan J Laube se distingue par son jeu prodigieux et ses arrangements virtuoses de grandes œuvres symphoniques. Dans un programme alliant le romantisme allemand à la musique française du début du XXe siècle\, ce jeune artiste aux commandes du Grand Orgue Pierre-Béique vous coupera le souffle! \nARTISTES ET ŒUVRES\nOrchestre symphonique de Montréal\nNathan J Laube\, orgue \nBrahms\, Ouverture pour une fête académique\, op. 80 (transcription de N. J. Laube)\nJean Roger-Ducasse\, Pastorale\nMaurice Duruflé\, Suite pour orgue\, op. 5\nMendelssohn\, Variations sérieuses\, op. 54 (transcription de N. J. Laube)\nLiszt\, Les préludes\, poème symphonique (transcription de N. J. Laube)
URL:https://www.ludwig-van.com/montreal/event/osm-grand-recital-nathan-j-laube/
LOCATION:Maison Symphonique\, 1600 rue St-Urbain\, Montréal\, Québec\, H2S0X1\, Canada
CATEGORIES:Orchestra,Organ
ATTACH;FMTTYPE=image/jpeg:https://www.ludwig-van.com/montreal/wp-content/uploads/sites/3/2017/10/Nathan-Laube-Grand-Recital-Orgue.jpg
GEO:45.5310103;-73.613956
X-APPLE-STRUCTURED-LOCATION;VALUE=URI;X-ADDRESS=Maison Symphonique 1600 rue St-Urbain Montréal Québec H2S0X1 Canada;X-APPLE-RADIUS=500;X-TITLE=1600 rue St-Urbain:geo:-73.613956,45.5310103
END:VEVENT
BEGIN:VEVENT
DTSTART;TZID=America/Toronto:20180311T153000
DTEND;TZID=America/Toronto:20180311T170000
DTSTAMP:20260422T050438
CREATED:20180223T233519Z
LAST-MODIFIED:20180223T233519Z
UID:51980-1520782200-1520787600@www.ludwig-van.com
SUMMARY:Oratoire Saint-Joseph | Montréal musique sacrée : Chœur Modulation\, Jonathan Oldengarm et Raphaël Ashby
DESCRIPTION:CONCERT POUR CHOEUR ET ORGUE\, PRÉSENTÉ DANS LE CADRE DE LA SÉRIE MONTRÉAL MUSIQUE SACRÉE. \nChœur Modulation\, Lucie Roy\, direction.\nJonathan Oldengarm et Raphaël Ashby\, orgue. \n\n\nSÉRIE MONTRÉAL MUSIQUE SACRÉE \nDU 4 mars au 29 avril 2018 \n\n\nCette série permettra aux mélomanes d’applaudir l’organiste réputé Daniel Roth\, titulaire de l’église Saint-Sulpice à Paris\, pour la première fois à Montréal depuis plus de 20 ans. Ils pourront également entendre quatre ensembles vocaux dans des œuvres majeures du répertoire\, dont les Leçons de ténèbres de François Couperin et la Messe pour deux chœurs et deux orgues de Louis Vierne. \nDans la basilique à 15:30\, projection sur grand écran\, contribution à discrétion \nDétails et programmes complets des concerts du dimanche disponible ici.
URL:https://www.ludwig-van.com/montreal/event/oratoire-saint-joseph-montreal-musique-sacree-choeur-modulation-jonathan-oldengarm-raphael-ashby/
LOCATION:L’Oratoire Saint-Joseph du Mont-Royal\, 3800\, chemin Queen-Mary\, Montréal\, Québec\, H3V 1H6\, Canada
CATEGORIES:Organ,Vocal
ATTACH;FMTTYPE=image/jpeg:https://www.ludwig-van.com/montreal/wp-content/uploads/sites/3/2018/02/oratoire-concerts-orgue-musique-sacree-2017.jpg
ORGANIZER;CN="L%27Oratoire%20Saint-Joseph%20du%20Mont-Royal":MAILTO:info@osj.qc.ca
GEO:45.4921716;-73.616944
X-APPLE-STRUCTURED-LOCATION;VALUE=URI;X-ADDRESS=L’Oratoire Saint-Joseph du Mont-Royal 3800 chemin Queen-Mary Montréal Québec H3V 1H6 Canada;X-APPLE-RADIUS=500;X-TITLE=3800\, chemin Queen-Mary:geo:-73.616944,45.4921716
END:VEVENT
END:VCALENDAR