BEGIN:VCALENDAR
VERSION:2.0
PRODID:-//Ludwig Van Montreal - ECPv5.9.1//NONSGML v1.0//EN
CALSCALE:GREGORIAN
METHOD:PUBLISH
X-WR-CALNAME:Ludwig Van Montreal
X-ORIGINAL-URL:https://www.ludwig-van.com/montreal
X-WR-CALDESC:évènements pour Ludwig Van Montreal
BEGIN:VTIMEZONE
TZID:America/Toronto
BEGIN:DAYLIGHT
TZOFFSETFROM:-0500
TZOFFSETTO:-0400
TZNAME:EDT
DTSTART:20180311T070000
END:DAYLIGHT
BEGIN:STANDARD
TZOFFSETFROM:-0400
TZOFFSETTO:-0500
TZNAME:EST
DTSTART:20181104T060000
END:STANDARD
END:VTIMEZONE
BEGIN:VEVENT
DTSTART;TZID=America/Toronto:20180128T153000
DTEND;TZID=America/Toronto:20180128T170000
DTSTAMP:20260422T074814
CREATED:20180103T201921Z
LAST-MODIFIED:20180103T201921Z
UID:50626-1517153400-1517158800@www.ludwig-van.com
SUMMARY:SMCQ et l'Oratoire Saint-Joseph | NouvelleGénération.orgue: Concert 4 (Alcee Chris)
DESCRIPTION:Alcee Chris interprète les œuvres de Demessieux\, Duruflé\, Guillou\, Messiaen. \nQuelle plus belle façon de passer son dimanche après-midi\, si ce n’est avec l’orgue? L’Oratoire Saint-Joseph et la Société de musique contemporaine du Québec collaborent pour vous offrir une série de récitals des plus belles œuvres du répertoire contemporain\, comme Ecos d’Evangelista\, ainsi que des créations pour cet instrument riche et envoûtant. Selon les œuvres\, solistes et ensembles accompagneront l’organiste invité. \nTous les dimanches à 15:30 – contribution à discrétion et projection sur écran géant. \n\n\nParticipant \n\nAlcee Chris\, orgue\n\n\n\nProgramme \n\n\nJean Guillou\, Toccata\, op 9\n\n\nOlivier Messiaen\, [œuvre inconnue]\n\n\nJeanne Demessieux\, [œuvre inconnue]\n\n\nMaurice Duruflé\, [œuvre inconnue]\n\n\n\n\n\n\nUne production Oratoire Saint-Joseph en partenariat avec la SMCQ
URL:https://www.ludwig-van.com/montreal/event/smcq-loratoire-saint-joseph-nouvellegeneration-orgue-concert-4-alcee-chris/
LOCATION:L’Oratoire Saint-Joseph du Mont-Royal\, 3800\, chemin Queen-Mary\, Montréal\, Québec\, H3V 1H6\, Canada
CATEGORIES:Contemporary Music,Organ
ATTACH;FMTTYPE=image/jpeg:https://www.ludwig-van.com/montreal/wp-content/uploads/sites/3/2018/01/NouvelleGénération-orgue-series.jpg
ORGANIZER;CN="L%27Oratoire%20Saint-Joseph%20du%20Mont-Royal":MAILTO:info@osj.qc.ca
GEO:45.4921716;-73.616944
X-APPLE-STRUCTURED-LOCATION;VALUE=URI;X-ADDRESS=L’Oratoire Saint-Joseph du Mont-Royal 3800 chemin Queen-Mary Montréal Québec H3V 1H6 Canada;X-APPLE-RADIUS=500;X-TITLE=3800\, chemin Queen-Mary:geo:-73.616944,45.4921716
END:VEVENT
END:VCALENDAR