BEGIN:VCALENDAR
VERSION:2.0
PRODID:-//Ludwig Van Montreal - ECPv5.9.1//NONSGML v1.0//EN
CALSCALE:GREGORIAN
METHOD:PUBLISH
X-WR-CALNAME:Ludwig Van Montreal
X-ORIGINAL-URL:https://www.ludwig-van.com/montreal
X-WR-CALDESC:évènements pour Ludwig Van Montreal
BEGIN:VTIMEZONE
TZID:America/Toronto
BEGIN:DAYLIGHT
TZOFFSETFROM:-0500
TZOFFSETTO:-0400
TZNAME:EDT
DTSTART:20170312T070000
END:DAYLIGHT
BEGIN:STANDARD
TZOFFSETFROM:-0400
TZOFFSETTO:-0500
TZNAME:EST
DTSTART:20171105T060000
END:STANDARD
END:VTIMEZONE
BEGIN:VEVENT
DTSTART;TZID=America/Toronto:20171215T200000
DTEND;TZID=America/Toronto:20171215T220000
DTSTAMP:20260422T092751
CREATED:20171103T231126Z
LAST-MODIFIED:20171103T231126Z
UID:49463-1513368000-1513375200@www.ludwig-van.com
SUMMARY:OSM | Du classique au jazz
DESCRIPTION:Saxophone et orgue\, voilà un duo inusité qui promet de belles découvertes. Branford Marsalis\, saxophoniste abordant autant le jazz que le classique\, se joint à Jean-Willy Kunz\, organiste en résidence de l’OSM. Un concert dans le vent! \nOrchestre symphonique de Montréal \n\n\n\n\n\n\n\n\nBranford Marsalis\, saxophone\nJean-Willy Kunz\, orgue \nŒuvres \n\n\n\n\n\n\n\n\n\n\n\n\nMaxime Goulet\, Citius\, altius\, fortius !\, version pour orgue (4 min) \nDebussy\, Première rhapsodie\, L. 116\, trans. pour saxophone et orgue (11 min) \nDebussy\, Arabesque no 1\, L. 66\, trans. pour orgue (4 min) \nHenri Tomasi\, Concerto pour saxophone alto et orchestre : 1er mouv. (« Andante et allegro »)\, trans. pour saxophone et orgue (13 min) \nPedro Iturralde\, Pequeña czarda\, trans. pour saxophone et orgue (8 min) \n— Entracte — \nMilhaud\, Scaramouche\, op. 165b\, trans. pour saxophone et orgue (11 min)\nVif – Modéré – Brazileira \nJean-Willy Kunz\, Improvisation (6 min) \nPiazzolla\, Histoire du tango : 2e mouv. (« Café 1930 »)\, trans. pour saxophone et orgue (7 min) \nBranford Marsalis\, Blues for One (7 min) \nMarsalis\, Endymion\, trans. pour saxophone et orgue (6 min)
URL:https://www.ludwig-van.com/montreal/event/osm-classique-jazz/
LOCATION:Maison Symphonique\, 1600 rue St-Urbain\, Montréal\, Québec\, H2S0X1\, Canada
CATEGORIES:Jazz,Organ
ATTACH;FMTTYPE=image/jpeg:https://www.ludwig-van.com/montreal/wp-content/uploads/sites/3/2017/10/Branford-Marsalis-Du-Classique-au-Jazz.jpg
GEO:45.5310103;-73.613956
X-APPLE-STRUCTURED-LOCATION;VALUE=URI;X-ADDRESS=Maison Symphonique 1600 rue St-Urbain Montréal Québec H2S0X1 Canada;X-APPLE-RADIUS=500;X-TITLE=1600 rue St-Urbain:geo:-73.613956,45.5310103
END:VEVENT
END:VCALENDAR