BEGIN:VCALENDAR
VERSION:2.0
PRODID:-//Ludwig Van Montreal - ECPv5.9.1//NONSGML v1.0//EN
CALSCALE:GREGORIAN
METHOD:PUBLISH
X-WR-CALNAME:Ludwig Van Montreal
X-ORIGINAL-URL:https://www.ludwig-van.com/montreal
X-WR-CALDESC:évènements pour Ludwig Van Montreal
BEGIN:VTIMEZONE
TZID:America/Toronto
BEGIN:DAYLIGHT
TZOFFSETFROM:-0500
TZOFFSETTO:-0400
TZNAME:EDT
DTSTART:20170312T070000
END:DAYLIGHT
BEGIN:STANDARD
TZOFFSETFROM:-0400
TZOFFSETTO:-0500
TZNAME:EST
DTSTART:20171105T060000
END:STANDARD
END:VTIMEZONE
BEGIN:VEVENT
DTSTART;TZID=America/Toronto:20171126T153000
DTEND;TZID=America/Toronto:20171126T163000
DTSTAMP:20260422T112223
CREATED:20171018T020533Z
LAST-MODIFIED:20171025T184651Z
UID:48891-1511710200-1511713800@www.ludwig-van.com
SUMMARY:Festival Bach Montréal et l'Oratoire Saint-Joseph | Jeunes maîtres de l’orgue
DESCRIPTION:Lauréat du Prix Bach Gérard-Coulombe du Concours international d’orgue du Canada 2017. \nC’est avec grand plaisir que le Festival Bach présentera le lauréat du Prix Bach du Concours international d’orgue du Canada 2017.  Il s’agit d’un prix tout à fait spécial puisque le Concours n’a lieu qu’à tous les trois ans\, et qu’il sera décerné pour la meilleure interprétation d’une œuvre de Johann Sebastian Bach. \nProjection sur grand écran
URL:https://www.ludwig-van.com/montreal/event/festival-bach-montreal-jeunes-maitres-de-lorgue/
LOCATION:L’Oratoire Saint-Joseph du Mont-Royal\, 3800\, chemin Queen-Mary\, Montréal\, Québec\, H3V 1H6\, Canada
CATEGORIES:Festival,Organ
ATTACH;FMTTYPE=image/jpeg:https://www.ludwig-van.com/montreal/wp-content/uploads/sites/3/2017/09/oratoire-calendrier-orgue-cathedrales-en-musique-2017.jpg
ORGANIZER;CN="Festival%20Bach%20Montr%C3%A9al":MAILTO:info@festivalbachmontreal.com
GEO:45.4921716;-73.616944
X-APPLE-STRUCTURED-LOCATION;VALUE=URI;X-ADDRESS=L’Oratoire Saint-Joseph du Mont-Royal 3800 chemin Queen-Mary Montréal Québec H3V 1H6 Canada;X-APPLE-RADIUS=500;X-TITLE=3800\, chemin Queen-Mary:geo:-73.616944,45.4921716
END:VEVENT
END:VCALENDAR