BEGIN:VCALENDAR
VERSION:2.0
PRODID:-//Ludwig Van Montreal - ECPv5.9.1//NONSGML v1.0//EN
CALSCALE:GREGORIAN
METHOD:PUBLISH
X-WR-CALNAME:Ludwig Van Montreal
X-ORIGINAL-URL:https://www.ludwig-van.com/montreal
X-WR-CALDESC:évènements pour Ludwig Van Montreal
BEGIN:VTIMEZONE
TZID:America/Toronto
BEGIN:DAYLIGHT
TZOFFSETFROM:-0500
TZOFFSETTO:-0400
TZNAME:EDT
DTSTART:20170312T070000
END:DAYLIGHT
BEGIN:STANDARD
TZOFFSETFROM:-0400
TZOFFSETTO:-0500
TZNAME:EST
DTSTART:20171105T060000
END:STANDARD
END:VTIMEZONE
BEGIN:VEVENT
DTSTART;TZID=America/Toronto:20171121T193000
DTEND;TZID=America/Toronto:20171121T213000
DTSTAMP:20260422T121424
CREATED:20170926T222201Z
LAST-MODIFIED:20171025T192752Z
UID:48008-1511292600-1511299800@www.ludwig-van.com
SUMMARY:Festival Bach Montréal et l'Oratoire Saint-Joseph | La Passion selon Saint-Jean d’Arvo Pärt
DESCRIPTION:Arvo Pärt (*1935)\nJohannespassion (Passio Domini nostri Jesu Christi secundum Joannem) pour solistes\, chœur mixte\, 4 instruments (hautbois\, basson\, violon\, violoncelle) et orgue \nGeorge Frideric Handel (1685-1759)\nConcerto pour orgue en si bemol majeur op.4 no.2 \nJohann Sebastian Bach (1685-1750)\nToccata et fugue en ré mineur\, BWV 565 \nChœur et ensemble instrumental de l’Église St. Andrew et St. Paul\nJean-Sébastien Vallée\, direction\nVincent Boucher\, orgue\nGilles Cantagrel\, animation (en français seulement) \nProjection sur grand écran \nOriginaire d’Estonie\, un pays de l’ancienne Union soviétique\, Arvo Pärt est sans aucun doute l’un des compositeurs contemporains les plus connus. Dans ses oeuvres\, qui presque toutes traitent de sujets religieux\, se rencontrent et s’enrichissent mutuellement les traditions musicales des églises orthodoxes\, catholiques et protestantes. La Passion selon Saint Jean est typique de son écriture simple tout à fait originale\, c’est le style tintinnabuli qui nous rappelle le son de cloches. \nCe concert souligne le 100e anniversaire de la crypte de l’Oratoire Saint-Joseph du Mont-Royal et de son orgue Casavant Opus 708.
URL:https://www.ludwig-van.com/montreal/event/festival-bach-montreal-passion-selon-saint-jean-darvo-part/
LOCATION:L’Oratoire Saint-Joseph du Mont-Royal\, 3800\, chemin Queen-Mary\, Montréal\, Québec\, H3V 1H6\, Canada
CATEGORIES:Contemporary Music,Organ
ATTACH;FMTTYPE=image/jpeg:https://www.ludwig-van.com/montreal/wp-content/uploads/sites/3/2017/09/orgue_11.jpg
ORGANIZER;CN="Festival%20Bach%20Montr%C3%A9al":MAILTO:info@festivalbachmontreal.com
GEO:45.4921716;-73.616944
X-APPLE-STRUCTURED-LOCATION;VALUE=URI;X-ADDRESS=L’Oratoire Saint-Joseph du Mont-Royal 3800 chemin Queen-Mary Montréal Québec H3V 1H6 Canada;X-APPLE-RADIUS=500;X-TITLE=3800\, chemin Queen-Mary:geo:-73.616944,45.4921716
END:VEVENT
BEGIN:VEVENT
DTSTART;TZID=America/Toronto:20171121T200000
DTEND;TZID=America/Toronto:20171121T213000
DTSTAMP:20260422T121424
CREATED:20171017T223658Z
LAST-MODIFIED:20171017T223658Z
UID:48873-1511294400-1511299800@www.ludwig-van.com
SUMMARY:Festival Bach Montréal et l'OSM | Magnificience de Bach et de Mozart
DESCRIPTION:Bach et Mozart réunis dans un seul concert: voilà vraiment un divin duo! Tandis que Martin Fröst\, le virtuose suédois de la clarinette\, vous propose peut-être l’oeuvre la plus connue du répertoire de son instrument\, notre flûtiste-étoile\, Timothy Hutchins\, vous fera danser aux rythmes entraînants de l’Ouverture en si mineur de Bach. \nEn plein cœur de la semaine du Concours OSM\, venez entendre trois membres du jury\, soit Masaaki Suzuki\, l’un des grands spécialistes de Bach\, le maître de la clarinette Martin Fröst dans le chef-d’œuvre de Mozart et Timothy Hutchins\, flûtiste solo de l’OSM\, qui fête ses 40 ans à l’orchestre! \nWolfgang Amadeus Mozart (1756-1991)\nConcerto pour clarinette et orchestra\, en la majeur\, KV 622 (25′) \nJohann Sebastian Bach\nOuverture n°2 pour orchestre\, en si mineur\, BWV 1067 (19′) \nWolfgang Amadeus Mozart\nSymphonie n° 31\, en ré majeur « Paris »\, KV 297 (17′) \nOrchestre symphonique de Montréal \nMasaaki Suzuki\, chef d’orchestre\nMartin Fröst\, clarinette\nTimothy Hutchins\, flûte \nPré-concert à l’orgue\nRashaan Allvood\, orgue\nLauréat du 1er prix catégorie orgue du concours OSM Manuvie 2016. Œuvres de J.S. Bach et de Mozart.
URL:https://www.ludwig-van.com/montreal/event/festival-bach-montreal-magnificience-de-bach-et-mozart/
LOCATION:Maison Symphonique\, 1600 rue St-Urbain\, Montréal\, Québec\, H2S0X1\, Canada
CATEGORIES:Festival,Orchestra,Organ
ATTACH;FMTTYPE=image/jpeg:https://www.ludwig-van.com/montreal/wp-content/uploads/sites/3/2017/10/Masaaki-Suzuk.jpg
ORGANIZER;CN="Festival%20Bach%20Montr%C3%A9al":MAILTO:info@festivalbachmontreal.com
GEO:45.5310103;-73.613956
X-APPLE-STRUCTURED-LOCATION;VALUE=URI;X-ADDRESS=Maison Symphonique 1600 rue St-Urbain Montréal Québec H2S0X1 Canada;X-APPLE-RADIUS=500;X-TITLE=1600 rue St-Urbain:geo:-73.613956,45.5310103
END:VEVENT
END:VCALENDAR