BEGIN:VCALENDAR
VERSION:2.0
PRODID:-//Ludwig Van Montreal - ECPv5.9.1//NONSGML v1.0//EN
CALSCALE:GREGORIAN
METHOD:PUBLISH
X-WR-CALNAME:Ludwig Van Montreal
X-ORIGINAL-URL:https://www.ludwig-van.com/montreal
X-WR-CALDESC:évènements pour Ludwig Van Montreal
BEGIN:VTIMEZONE
TZID:America/Toronto
BEGIN:DAYLIGHT
TZOFFSETFROM:-0500
TZOFFSETTO:-0400
TZNAME:EDT
DTSTART:20170312T070000
END:DAYLIGHT
BEGIN:STANDARD
TZOFFSETFROM:-0400
TZOFFSETTO:-0500
TZNAME:EST
DTSTART:20171105T060000
END:STANDARD
END:VTIMEZONE
BEGIN:VEVENT
DTSTART;TZID=America/Toronto:20171029T150000
DTEND;TZID=America/Toronto:20171029T160000
DTSTAMP:20260422T131914
CREATED:20170927T010911Z
LAST-MODIFIED:20170927T010911Z
UID:48079-1509289200-1509292800@www.ludwig-van.com
SUMMARY:CIOC | FCOF: Yves-G. Préfontaine au Grand Séminaire
DESCRIPTION:Festival des couleurs de l’orgue français\, présenté par le CIOC : Yves-G. Préfontaine au Grand Séminaire \nLa presse\, reprenant à son compte les mots de François Couperin\, a dit de lui qu’il possédait un « art admirable de toucher et l’orgue et le clavecin». Ses maîtres ont été Bernard et Mireille Lagacé\, Scott Ross et Gustav Leonhardt. Après avoir obtenu quelques premiers prix\, il est devenu très actif sur la scène montréalaise et québécoise\, en particulier comme membre des conseils d’administration de Laudem\, du Clavier d’autrefois\, puis par ses fonctions de président des Amis de l’Orgue de Montréal (2003-2009)\, de directeur artistique du Festival des Couleurs de l’Orgue français ainsi que de L’Orgue en Mai\, d’organiste et maître de chapelle au Grand Séminaire de Montréal et d’organiste au Sanctuaire Marie-Reine-des- Coeurs. De plus\, Yves-G. Préfontaine est appelé à proposer des récitals au Canada\, et en Europe. Il a collaboré à la création du stage Orgues et Cimes dans le Valais suisse. Après une intense carrière radiophonique qui a duré quelques années\, il a mis sur pied le Département de musique du Cégep Marie- Victorin de Montréal où il a enseigné 27 ans. Il a présenté au public montréalais la totalité des oeuvres pour clavier de François Couperin\, de Jean-Henry d’Anglebert\, de Jean- Philippe Rameau ainsi qu’une bonne partie de l’oeuvre de Johann Jakob Froberge \nEntrée libre (contribution volontaire suggérée de 10$) 
URL:https://www.ludwig-van.com/montreal/event/cioc-fcof-yves-g-prefontaine-grand-seminaire/
LOCATION:Grand Séminaire de Montréal\, 2065 Rue Sherbrooke O\, Montréal\, Québec\, H3H 1G6\, Canada
CATEGORIES:Organ
ATTACH;FMTTYPE=image/jpeg:https://www.ludwig-van.com/montreal/wp-content/uploads/sites/3/2017/09/yves20prefontaine20couleur.jpg
ORGANIZER;CN="Concours%20International%20d%E2%80%99Orgue%20du%20Canada":MAILTO:info@ciocm.org
GEO:45.4934612;-73.5848685
X-APPLE-STRUCTURED-LOCATION;VALUE=URI;X-ADDRESS=Grand Séminaire de Montréal 2065 Rue Sherbrooke O Montréal Québec H3H 1G6 Canada;X-APPLE-RADIUS=500;X-TITLE=2065 Rue Sherbrooke O:geo:-73.5848685,45.4934612
END:VEVENT
BEGIN:VEVENT
DTSTART;TZID=America/Toronto:20171029T153000
DTEND;TZID=America/Toronto:20171029T163000
DTSTAMP:20260422T131914
CREATED:20170920T200248Z
LAST-MODIFIED:20170927T010942Z
UID:47848-1509291000-1509294600@www.ludwig-van.com
SUMMARY:Oratoire Saint-Joseph et le CIOC | Cathédrales en musique : Les symphonies avec orgue de Saint-Saëns et Guilmant
DESCRIPTION:Jacques Boucher\, Jonathan Oldengarm et Vincent Boucher\, orgue\navec l’Ensemble Sinfonia de Montréal\, dir. Louis Lavigueur \nEn collaboration avec le CIOC \nProjection sur écran géant \nBillets en vente sur le site internet de la CIOC et à la porte le jour du concert. \n\nVincent Boucher\nMenant une véritable double carrière en musique et en finance\, Vincent Boucher a étudié avec les clavecinistes Dom André Laberge et Luc Beauséjour\, l’organiste Bernard Lagacé\, et a reçu deux Premiers Prix à l’unanimité du jury en orgue et en clavecin du Conservatoire de musique de Montréal dans la classe de Mireille Lagacé. Il a également complété un doctorat en interprétation à l’Université McGill sous la direction de John Grew et William Porter. Il s’est finalement perfectionné à Vienne avec Michael Gailit\, puis à Paris avec Pierre Pincemaille.\n\nJacques Boucher\nJacques Boucher est considéré comme un des principaux animateurs de la vie de l’orgue au Canada. En effet\, il a produit plus de 1 500 récitals consacrés à l’instrument à tuyaux\, ainsi qu’à l’école et la facture québécoise\, mettant à contribution une centaine d’organistes du Québec. En outre\, il a assumé la direction artistique de plus de deux cents disques. La collection Les orgues anciens du Québec\, qui a reçu le Grand Prix du disque du Canada\, fut publiée sous sa direction. Enfin\, il a conçu plusieurs séries thématiques consacrées non seulement à la littérature de l’orgue\, mais aussi à la musique de chambre des organistes français. \nJonathan Oldengarm\nBasé à Montréal\, Jonathan Oldengarm est actif comme récitaliste\, professeur et musicien d’église. Son répertoire d’interprétation à l’orgue et au clavecin puise parmi les œuvres les plus anciennes de la musique pour clavier allant jusqu’à l’avant-garde du XXIe siècle. Artiste collaboratif polyvalent\, le Dr Oldengarm est titulaire de diplômes en orgue et en clavecin des universités Wilfrid Laurier et McGill. Il a de plus étudié à la Hochschule für Musik à Stuttgart\, en Allemagne. Il est Fellow du Collège royal canadien des organistes et membre du comité de certification professionnelle du Collège. Il est également membre du Comité des orgues du Conseil du patrimoine religieux du Québec. Depuis 2008\, il occupe la fonction de directeur musical de l’église St. Andrew & St. Paul\, à Montréal\, où le programme musical compte un chœur semi-professionnel à cinquante voix\, deux séries de récitals d’orgue et plusieurs prestations annuelles d’oratorios pour chœur et orchestre. Par ailleurs\, le Dr Oldengarm enseigne l’interprétation à l’orgue\, l’accompagnement et l’improvisation liturgiques à l’École de musique Schulich de l’Université McGill.
URL:https://www.ludwig-van.com/montreal/event/oratoire-saint-joseph-cathedrales-musique-symphonies-orgue-de-saint-saens-guilmant/
LOCATION:L’Oratoire Saint-Joseph du Mont-Royal\, 3800\, chemin Queen-Mary\, Montréal\, Québec\, H3V 1H6\, Canada
CATEGORIES:Orchestra,Organ
ATTACH;FMTTYPE=image/jpeg:https://www.ludwig-van.com/montreal/wp-content/uploads/sites/3/2017/09/oratoire-calendrier-orgue-cathedrales-en-musique-2017.jpg
ORGANIZER;CN="L%27Oratoire%20Saint-Joseph%20du%20Mont-Royal":MAILTO:info@osj.qc.ca
GEO:45.4921716;-73.616944
X-APPLE-STRUCTURED-LOCATION;VALUE=URI;X-ADDRESS=L’Oratoire Saint-Joseph du Mont-Royal 3800 chemin Queen-Mary Montréal Québec H3V 1H6 Canada;X-APPLE-RADIUS=500;X-TITLE=3800\, chemin Queen-Mary:geo:-73.616944,45.4921716
END:VEVENT
END:VCALENDAR