BEGIN:VCALENDAR
VERSION:2.0
PRODID:-//Ludwig Van Montreal - ECPv5.9.1//NONSGML v1.0//EN
CALSCALE:GREGORIAN
METHOD:PUBLISH
X-WR-CALNAME:Ludwig Van Montreal
X-ORIGINAL-URL:https://www.ludwig-van.com/montreal
X-WR-CALDESC:évènements pour Ludwig Van Montreal
BEGIN:VTIMEZONE
TZID:America/Toronto
BEGIN:DAYLIGHT
TZOFFSETFROM:-0500
TZOFFSETTO:-0400
TZNAME:EDT
DTSTART:20170312T070000
END:DAYLIGHT
BEGIN:STANDARD
TZOFFSETFROM:-0400
TZOFFSETTO:-0500
TZNAME:EST
DTSTART:20171105T060000
END:STANDARD
END:VTIMEZONE
BEGIN:VEVENT
DTSTART;TZID=America/Toronto:20171022T150000
DTEND;TZID=America/Toronto:20171022T160000
DTSTAMP:20260422T131949
CREATED:20170927T010415Z
LAST-MODIFIED:20170927T010415Z
UID:48075-1508684400-1508688000@www.ludwig-van.com
SUMMARY:CIOC | FCOF: Claude Lemieux au Grand Séminaire
DESCRIPTION:Festival des couleurs de l’orgue français\, présenté par le CIOC : Claude Lemieux au Grand Séminaire \nCLAUDE LEMIEUX a présenté plusieurs centaines de concerts au pays et à l’étranger. À titre de chef de chœur\, il a dirigé aux Choralies Internationales\, au Mondial Choral de Montréal ou encore au Festival d’été de Québec. Comme soliste\, il a joué dans différentes séries de concerts dont celles de la Basilique de Sainte-Anne-de-Beaupré\, des Cathédrales de Montréal\, Québec\, Chicoutimi\, St-Pierre de Caen (France) ou encore\, Notre-Dame-de-Coutances (France) où il inaugurait l’édition 2015 du Festival de Musique Sacrée. \nEntrée libre (contribution volontaire suggérée de 10$)
URL:https://www.ludwig-van.com/montreal/event/cioc-fcof-claude-lemieux-grand-seminaire/
LOCATION:Grand Séminaire de Montréal\, 2065 Rue Sherbrooke O\, Montréal\, Québec\, H3H 1G6\, Canada
CATEGORIES:Organ
ATTACH;FMTTYPE=image/jpeg:https://www.ludwig-van.com/montreal/wp-content/uploads/sites/3/2017/09/ClaudeLemiuex.jpg
ORGANIZER;CN="Concours%20International%20d%E2%80%99Orgue%20du%20Canada":MAILTO:info@ciocm.org
GEO:45.4934612;-73.5848685
X-APPLE-STRUCTURED-LOCATION;VALUE=URI;X-ADDRESS=Grand Séminaire de Montréal 2065 Rue Sherbrooke O Montréal Québec H3H 1G6 Canada;X-APPLE-RADIUS=500;X-TITLE=2065 Rue Sherbrooke O:geo:-73.5848685,45.4934612
END:VEVENT
BEGIN:VEVENT
DTSTART;TZID=America/Toronto:20171022T153000
DTEND;TZID=America/Toronto:20171022T173000
DTSTAMP:20260422T131949
CREATED:20170919T230114Z
LAST-MODIFIED:20170927T000205Z
UID:47755-1508686200-1508693400@www.ludwig-van.com
SUMMARY:Oratoire Saint-Joseph et le CIOC | Cathédrales en musique – Silvius von Kessel
DESCRIPTION:Concert pour orgue par Silvius von Kessel (cathédrale d’Erfurt\, Allemagne)\, en collaboration avec le Concours International d’Orgue du Canada (CIOC). \nDans la basilique à 15:30\, projection sur grand écran\, contribution à discrétion.
URL:https://www.ludwig-van.com/montreal/event/oratoire-saint-joseph-cathedrales-musique-silvius-von-kessel/
LOCATION:L’Oratoire Saint-Joseph du Mont-Royal\, 3800\, chemin Queen-Mary\, Montréal\, Québec\, H3V 1H6\, Canada
CATEGORIES:Organ
ATTACH;FMTTYPE=image/jpeg:https://www.ludwig-van.com/montreal/wp-content/uploads/sites/3/2017/09/oratoire-calendrier-orgue-cathedrales-en-musique-2017.jpg
ORGANIZER;CN="L%27Oratoire%20Saint-Joseph%20du%20Mont-Royal":MAILTO:info@osj.qc.ca
GEO:45.4921716;-73.616944
X-APPLE-STRUCTURED-LOCATION;VALUE=URI;X-ADDRESS=L’Oratoire Saint-Joseph du Mont-Royal 3800 chemin Queen-Mary Montréal Québec H3V 1H6 Canada;X-APPLE-RADIUS=500;X-TITLE=3800\, chemin Queen-Mary:geo:-73.616944,45.4921716
END:VEVENT
END:VCALENDAR