BEGIN:VCALENDAR
VERSION:2.0
PRODID:-//Ludwig Van Montreal - ECPv5.9.1//NONSGML v1.0//EN
CALSCALE:GREGORIAN
METHOD:PUBLISH
X-WR-CALNAME:Ludwig Van Montreal
X-ORIGINAL-URL:https://www.ludwig-van.com/montreal
X-WR-CALDESC:évènements pour Ludwig Van Montreal
BEGIN:VTIMEZONE
TZID:America/Toronto
BEGIN:DAYLIGHT
TZOFFSETFROM:-0500
TZOFFSETTO:-0400
TZNAME:EDT
DTSTART:20170312T070000
END:DAYLIGHT
BEGIN:STANDARD
TZOFFSETFROM:-0400
TZOFFSETTO:-0500
TZNAME:EST
DTSTART:20171105T060000
END:STANDARD
END:VTIMEZONE
BEGIN:VEVENT
DTSTART;TZID=America/Toronto:20171021T100000
DTEND;TZID=America/Toronto:20171021T130000
DTSTAMP:20260422T131914
CREATED:20170927T004407Z
LAST-MODIFIED:20170927T004407Z
UID:48066-1508580000-1508590800@www.ludwig-van.com
SUMMARY:CIOC | Visite guidée d'orgues
DESCRIPTION:Venez voir de près des grands orgues montréalais : Maison symphonique de Montréal\, Oratoire Saint-Joseph et l’église St. Matthias’ church. \n50 $ (Transport inclus) \nMaison symphonique de Montréal: \nL’orgue de la Maison symphonique de Montréal\, inauguré le 28 mai 2014\, a été réalisé par Casavant Frères pour le compte de l’OSM qui en est le propriétaire. Il porte le numéro d’opus 3900\, correspondant à la 3 900e commande d’orgue reçue par la maison Casavant depuis sa fondation. \nSa conception visuelle a été faite en collaboration avec les architectes de Diamond Schmitt et d’Ædifica. \nIl s’agit d’un orgue de quatre claviers\, comprenant 83 jeux\, 109 registres\, 116 rangs et un total de 6 489 tuyaux. Faits à la main\, les tuyaux sont en plomb et en étain. \nLe Grand Orgue Pierre-Béique est pourvu de deux consoles\, une mécanique et attachée à la base de l’instrument\, l’autre électrique et mobile. \n\nEglise St. John the Evangelist:\nEn 1981\, devant l’impossiblité de restaurer adéquatement l’orgue devenu trop vieux\, il est décidé d’acquérir un nouvel instrument et le contrat est accordé au facteur Hellmuth Wolff. Tout en conservant 4 jeux Warren et 1 jeu Casavant\, Wolff\, en collaboration avec le titulaire d’alors\, Donald Mackey\, conçoit un instrument dans la tradition de la grande facture anglaise des XVIIe et XVIIIe siècles avec les Diapasons ouverts ou bouchés\, les Twelfth et Fifteenth et surtout les Nason 4′ et 2′ (flûtes bouchées caractéristiques des orgues du facteur anglais Smith père). Wolff a également introduit des jeux français comme le Basson 16′ ou le Cromhorn 8′ qui\, malgré leurs noms anglais\, possèdent des tailles selon Dom Bedos. L’orgue est contenu dans un buffet inspiré de la Renaissance\, en occurrence celui de l’orgue Freund de Klosterneuburg\, en Autriche. \nOratoire Saint-Joseph:\n\nLa basilique de l’Oratoire Saint-Joseph est dotée d’un orgue magnifique. Il porte la signature du facteur d’orgues allemand Rudolf von Beckerath [1907-1976]. \n\nSa musique contribue à rehausser la prière et les rites des cérémonies religieuses célébrées à la basilique. Des concerts offrant des œuvres de divers répertoires mettent en valeur la puissance de ces grandes orgues. \nCet instrument à traction mécanique est composé de 5 811 tuyaux répartis en 78 jeux qui forment six sections : le positif\, le grand-orgue\, la bombarde\, le récit\, l’écho et la pédale. La console comprend cinq claviers et un pédalier correspondant aux six sections de l’orgue. Son imposante façade présente des tuyaux de 9\,75 m (32 pieds). \n\nLa fabrication de l’orgue dans les ateliers Beckerath en Allemagne a duré deux ans\, au cours des années 1958 et 1959. Son installation a nécessité sept mois de travail à Montréal. Le 13 novembre 1960\, l’orgue de l’Oratoire a été bénit et inauguré par un récital de l’organiste français de renom\, André Marchal.\n\nSt. Matthias: \nL’orgue de St. Matthias\, construit en 1973\, est le deuxième de Karl Wilhelm installé à Montréal\, le premier étant celui de l’église Saint-Bonaventure\, de Rosemont\, en 1966. \nD’excellente facture\, il emprunte sa composition aux traditions germaniques. L’harmonisation\, à pied ouvert\, et la taille des tuyaux sont l’oeuvre de Christoph Linde\, harmoniste bien connu au Québec puisqu’il avait participé en 1960 à l’harmonisation du grand Beckerath de l’Oratoire Saint-Joseph. \nLe devis et la composition sont de Karl Wilhelm. L’orgue a été inauguré le 4 novembre 1973 par l’organiste anglais Allan Wicks.
URL:https://www.ludwig-van.com/montreal/event/cioc-visite-guidee-dorgues/
LOCATION:Maison Symphonique\, 1600 rue St-Urbain\, Montréal\, Québec\, H2S0X1\, Canada
CATEGORIES:Organ
ATTACH;FMTTYPE=image/jpeg:https://www.ludwig-van.com/montreal/wp-content/uploads/sites/3/2017/09/orgue_11.jpg
ORGANIZER;CN="Concours%20International%20d%E2%80%99Orgue%20du%20Canada":MAILTO:info@ciocm.org
GEO:45.5310103;-73.613956
X-APPLE-STRUCTURED-LOCATION;VALUE=URI;X-ADDRESS=Maison Symphonique 1600 rue St-Urbain Montréal Québec H2S0X1 Canada;X-APPLE-RADIUS=500;X-TITLE=1600 rue St-Urbain:geo:-73.613956,45.5310103
END:VEVENT
BEGIN:VEVENT
DTSTART;TZID=America/Toronto:20171021T190000
DTEND;TZID=America/Toronto:20171021T220000
DTSTAMP:20260422T131914
CREATED:20170919T225358Z
LAST-MODIFIED:20170927T005207Z
UID:47749-1508612400-1508623200@www.ludwig-van.com
SUMMARY:CIOC et l'OSM | Concert gala : Concours international d’orgue du Canada 2017
DESCRIPTION:Venez célébrer les lauréats du concours international d’orgue du Canada 2017 ! \nTous les trois ans\, le CIOC invite vingt virtuoses de l’orgue à se produire à Montréal devant un jury de neuf organistes internationalement reconnus. \nEn seulement quelques années\, le CIOC est devenu l’un des plus grands concours au monde\, et utilise ce profil pour promouvoir l’orgue comment instrument majeur dans la culture musicale de notre pays. \nIl ne faut absolument pas manquer un événement musical spécial : les gagnants du CIOC présenteront un concert de gala à la prestigieuse Maison symphonique de Montréal accompagnés du Grand Orgue Pierre-Béique de l’Orchestre symphonique de Montréal.
URL:https://www.ludwig-van.com/montreal/event/cioc-concert-gala-concours-international-dorgue-canada-2017/
LOCATION:Maison Symphonique\, 1600 rue St-Urbain\, Montréal\, Québec\, H2S0X1\, Canada
CATEGORIES:Organ
ATTACH;FMTTYPE=image/jpeg:https://www.ludwig-van.com/montreal/wp-content/uploads/sites/3/2017/09/CIOC-Oct-19-2014-Paul-Eifert-1.jpg
GEO:45.5310103;-73.613956
X-APPLE-STRUCTURED-LOCATION;VALUE=URI;X-ADDRESS=Maison Symphonique 1600 rue St-Urbain Montréal Québec H2S0X1 Canada;X-APPLE-RADIUS=500;X-TITLE=1600 rue St-Urbain:geo:-73.613956,45.5310103
END:VEVENT
END:VCALENDAR