BEGIN:VCALENDAR
VERSION:2.0
PRODID:-//Ludwig Van Montreal - ECPv5.9.1//NONSGML v1.0//EN
CALSCALE:GREGORIAN
METHOD:PUBLISH
X-WR-CALNAME:Ludwig Van Montreal
X-ORIGINAL-URL:https://www.ludwig-van.com/montreal
X-WR-CALDESC:évènements pour Ludwig Van Montreal
BEGIN:VTIMEZONE
TZID:America/Toronto
BEGIN:DAYLIGHT
TZOFFSETFROM:-0500
TZOFFSETTO:-0400
TZNAME:EDT
DTSTART:20170312T070000
END:DAYLIGHT
BEGIN:STANDARD
TZOFFSETFROM:-0400
TZOFFSETTO:-0500
TZNAME:EST
DTSTART:20171105T060000
END:STANDARD
END:VTIMEZONE
BEGIN:VEVENT
DTSTART;TZID=America/Toronto:20171020T190000
DTEND;TZID=America/Toronto:20171020T200000
DTSTAMP:20260422T130832
CREATED:20170927T003920Z
LAST-MODIFIED:20170927T003920Z
UID:48062-1508526000-1508529600@www.ludwig-van.com
SUMMARY:CIOC | Délices danois
DESCRIPTION:Bine Bryndorf à Christ Church Cathedral \nNée à Elsinore (Danemark)\, Bine Bryndorf a étudié l’orgue avec Michael Radulescu et le clavecin avec Gordon Murray à l’école de musique the Hochschule für de Vienne et à l’international avec William Porter à Boston et Daniel Roth à Paris.
URL:https://www.ludwig-van.com/montreal/event/cioc-delices-danois/
LOCATION:Christ Church Cathedral\, 635 Saint-Catherine O\, Montréal\, Québec\, H3A 2B8\, Canada
CATEGORIES:Organ
ATTACH;FMTTYPE=image/jpeg:https://www.ludwig-van.com/montreal/wp-content/uploads/sites/3/2017/09/BineBryndorf.jpg
ORGANIZER;CN="Concours%20International%20d%E2%80%99Orgue%20du%20Canada":MAILTO:info@ciocm.org
GEO:45.5037441;-73.5701047
X-APPLE-STRUCTURED-LOCATION;VALUE=URI;X-ADDRESS=Christ Church Cathedral 635 Saint-Catherine O Montréal Québec H3A 2B8 Canada;X-APPLE-RADIUS=500;X-TITLE=635 Saint-Catherine O:geo:-73.5701047,45.5037441
END:VEVENT
END:VCALENDAR