BEGIN:VCALENDAR
VERSION:2.0
PRODID:-//Ludwig Van Montreal - ECPv5.9.1//NONSGML v1.0//EN
CALSCALE:GREGORIAN
METHOD:PUBLISH
X-WR-CALNAME:Ludwig Van Montreal
X-ORIGINAL-URL:https://www.ludwig-van.com/montreal
X-WR-CALDESC:évènements pour Ludwig Van Montreal
BEGIN:VTIMEZONE
TZID:America/Toronto
BEGIN:DAYLIGHT
TZOFFSETFROM:-0500
TZOFFSETTO:-0400
TZNAME:EDT
DTSTART:20170312T070000
END:DAYLIGHT
BEGIN:STANDARD
TZOFFSETFROM:-0400
TZOFFSETTO:-0500
TZNAME:EST
DTSTART:20171105T060000
END:STANDARD
END:VTIMEZONE
BEGIN:VEVENT
DTSTART;TZID=America/Toronto:20171019T130000
DTEND;TZID=America/Toronto:20171019T193000
DTSTAMP:20260422T131940
CREATED:20170927T002449Z
LAST-MODIFIED:20170927T002449Z
UID:48056-1508418000-1508441400@www.ludwig-van.com
SUMMARY:CIOC | Épreuve finale
DESCRIPTION:Ceci est la dernière épreuve éliminatoire du Concours international d’orgue du Canada. Un jury international sélectionnera le lauréat du Concours 2017 parmi les 5 finalistes. D’autres prix inclueront le Prix du Public Richard Bradshaw. \nEntrée libre (contribution volontaire suggérée de 15$) \nMembres du jury international:\nJohn Grew\, Canada\nDavid Briggs\, Royaume-Uni\nBine Bryndorf\, Danemark\nNeil Cockburn\, Canada\nLynne Davis\, États-Unis\nJean-Baptiste Robin\, France\nSilvius von Kessel\, Allemagne\nRéjean Poirier\, Canada\nCarole Terry\, USA
URL:https://www.ludwig-van.com/montreal/event/cioc-epreuve-finale/
LOCATION:Basilique Notre-Dame\, 110 Rue Notre-Dame Ouest\, Montréal\, Québec\, H2Y1T2\, Canada
CATEGORIES:competition,Organ
ATTACH;FMTTYPE=image/jpeg:https://www.ludwig-van.com/montreal/wp-content/uploads/sites/3/2017/09/orgue_11.jpg
ORGANIZER;CN="Concours%20International%20d%E2%80%99Orgue%20du%20Canada":MAILTO:info@ciocm.org
GEO:45.5044263;-73.5559176
X-APPLE-STRUCTURED-LOCATION;VALUE=URI;X-ADDRESS=Basilique Notre-Dame 110 Rue Notre-Dame Ouest Montréal Québec H2Y1T2 Canada;X-APPLE-RADIUS=500;X-TITLE=110 Rue Notre-Dame Ouest:geo:-73.5559176,45.5044263
END:VEVENT
END:VCALENDAR