BEGIN:VCALENDAR
VERSION:2.0
PRODID:-//Ludwig Van Montreal - ECPv5.9.1//NONSGML v1.0//EN
CALSCALE:GREGORIAN
METHOD:PUBLISH
X-WR-CALNAME:Ludwig Van Montreal
X-ORIGINAL-URL:https://www.ludwig-van.com/montreal
X-WR-CALDESC:évènements pour Ludwig Van Montreal
BEGIN:VTIMEZONE
TZID:America/Toronto
BEGIN:DAYLIGHT
TZOFFSETFROM:-0500
TZOFFSETTO:-0400
TZNAME:EDT
DTSTART:20170312T070000
END:DAYLIGHT
BEGIN:STANDARD
TZOFFSETFROM:-0400
TZOFFSETTO:-0500
TZNAME:EST
DTSTART:20171105T060000
END:STANDARD
END:VTIMEZONE
BEGIN:VEVENT
DTSTART;TZID=America/Toronto:20171017T190000
DTEND;TZID=America/Toronto:20171017T210000
DTSTAMP:20260422T131816
CREATED:20170919T220015Z
LAST-MODIFIED:20170919T220015Z
UID:47729-1508266800-1508274000@www.ludwig-van.com
SUMMARY:OSM | Vengerov joue le concerto de Brahms
DESCRIPTION:Maxim Vengerov – reconnu parmi les 25 plus grands violonistes de tous les temps selon la radio britannique Classic FM – fait le bonheur des mélomanes en interprétant le Concerto pour violon de Brahms. Ce concert met aussi de l’avant l’écriture orchestrale de Bartók\, ainsi qu’une œuvre de Samy Moussa. \nKent Nagano\, chef d’orchestre\nMaxim Vengerov\, violon\nJean-Willy Kunz\, orgue \nBrahms\, Concerto pour violon en ré majeur\, op. 77\nSamy Moussa\, A Globe Itself Infolding\, pour orgue et orchestre\nBartók\, Concerto pour orchestre\, Sz. 116
URL:https://www.ludwig-van.com/montreal/event/osm-vengerov-joue-concerto-de-brahms/
LOCATION:Maison Symphonique\, 1600 rue St-Urbain\, Montréal\, Québec\, H2S0X1\, Canada
CATEGORIES:Orchestra,Organ,Violin
ATTACH;FMTTYPE=image/jpeg:https://www.ludwig-van.com/montreal/wp-content/uploads/sites/3/2017/09/maxim_vengerov2.jpg
GEO:45.5310103;-73.613956
X-APPLE-STRUCTURED-LOCATION;VALUE=URI;X-ADDRESS=Maison Symphonique 1600 rue St-Urbain Montréal Québec H2S0X1 Canada;X-APPLE-RADIUS=500;X-TITLE=1600 rue St-Urbain:geo:-73.613956,45.5310103
END:VEVENT
END:VCALENDAR