BEGIN:VCALENDAR
VERSION:2.0
PRODID:-//Ludwig Van Montreal - ECPv5.9.1//NONSGML v1.0//EN
CALSCALE:GREGORIAN
METHOD:PUBLISH
X-WR-CALNAME:Ludwig Van Montreal
X-ORIGINAL-URL:https://www.ludwig-van.com/montreal
X-WR-CALDESC:évènements pour Ludwig Van Montreal
BEGIN:VTIMEZONE
TZID:America/Toronto
BEGIN:DAYLIGHT
TZOFFSETFROM:-0500
TZOFFSETTO:-0400
TZNAME:EDT
DTSTART:20170312T070000
END:DAYLIGHT
BEGIN:STANDARD
TZOFFSETFROM:-0400
TZOFFSETTO:-0500
TZNAME:EST
DTSTART:20171105T060000
END:STANDARD
END:VTIMEZONE
BEGIN:VEVENT
DTSTART;TZID=America/Toronto:20171013T190000
DTEND;TZID=America/Toronto:20171013T200000
DTSTAMP:20260422T131948
CREATED:20170926T235234Z
LAST-MODIFIED:20170926T235234Z
UID:48031-1507921200-1507924800@www.ludwig-van.com
SUMMARY:CIOC | Saveurs françaises
DESCRIPTION:Lynne Davis présente « Saveurs françaises » à Saints-Anges-Gardiens de Lachine \nOriginaire de Michigan\, Lynne Davis\, diplômée avec les honneurs de l’Université de Michigan en performance d’orgue\, a par la suite étudié en France avec Mari-Claire Alain et Jean Langlais. Épouse de Pierre Firmin-Didot\, fondateur de la Compétition internationale d’orgue de Chartres\, le couple a joué un rôle majeur dans la scène musicale française notamment en lançant l’exposition et l’enregistrement des Orgues de Paris en 1992.
URL:https://www.ludwig-van.com/montreal/event/cioc-saveurs-francaises/
LOCATION:Église Saints-Anges de Lachine\, 1400\, boul. Saint-Joseph\, Lachine\, Québec\, H8S 2M8\, Canada
CATEGORIES:Organ
ATTACH;FMTTYPE=image/jpeg:https://www.ludwig-van.com/montreal/wp-content/uploads/sites/3/2017/09/LynneDavis.jpg
ORGANIZER;CN="Concours%20International%20d%E2%80%99Orgue%20du%20Canada":MAILTO:info@ciocm.org
GEO:45.4326634;-73.6767626
X-APPLE-STRUCTURED-LOCATION;VALUE=URI;X-ADDRESS=Église Saints-Anges de Lachine 1400 boul. Saint-Joseph Lachine Québec H8S 2M8 Canada;X-APPLE-RADIUS=500;X-TITLE=1400\, boul. Saint-Joseph:geo:-73.6767626,45.4326634
END:VEVENT
END:VCALENDAR