BEGIN:VCALENDAR
VERSION:2.0
PRODID:-//Ludwig Van Montreal - ECPv5.9.1//NONSGML v1.0//EN
CALSCALE:GREGORIAN
METHOD:PUBLISH
X-WR-CALNAME:Ludwig Van Montreal
X-ORIGINAL-URL:https://www.ludwig-van.com/montreal
X-WR-CALDESC:évènements pour Ludwig Van Montreal
BEGIN:VTIMEZONE
TZID:America/Toronto
BEGIN:DAYLIGHT
TZOFFSETFROM:-0500
TZOFFSETTO:-0400
TZNAME:EDT
DTSTART:20170312T070000
END:DAYLIGHT
BEGIN:STANDARD
TZOFFSETFROM:-0400
TZOFFSETTO:-0500
TZNAME:EST
DTSTART:20171105T060000
END:STANDARD
END:VTIMEZONE
BEGIN:VEVENT
DTSTART;TZID=America/Toronto:20171008T153000
DTEND;TZID=America/Toronto:20171008T163000
DTSTAMP:20260422T130740
CREATED:20170919T031744Z
LAST-MODIFIED:20170927T004521Z
UID:47560-1507476600-1507480200@www.ludwig-van.com
SUMMARY:Oratoire Saint-Joseph et le CIOC | Cathédrales en musique: Jean Baptiste Robin présente Contes de fées musicaux
DESCRIPTION:Concert pour orgue par Jean-Baptiste Robin (Chapelle Royale de Versailles\, France) en collaboration avec le Concours International d’Orgue du Canada (CIOC). \nDans la basilique à 15:30\, projection sur grand écran\, contribution à discrétion. \nJean-Baptiste Robin est un organiste et compositeur français de renommée internationale. Organiste « par quartier » de la chapelle royale du château de Versailles\, il se produit en soliste dans une quinzaine de pays d’Europe\, en Asie\, en Russie\, au Canada\, en Israël et dans une vingtaine d’états en Amérique du nord.
URL:https://www.ludwig-van.com/montreal/event/oratoire-saint-joseph-cathedrales-musique-jean-baptiste-robin/
LOCATION:L’Oratoire Saint-Joseph du Mont-Royal\, 3800\, chemin Queen-Mary\, Montréal\, Québec\, H3V 1H6\, Canada
CATEGORIES:Organ
ATTACH;FMTTYPE=image/jpeg:https://www.ludwig-van.com/montreal/wp-content/uploads/sites/3/2017/09/oratoire-calendrier-orgue-cathedrales-en-musique-2017.jpg
ORGANIZER;CN="L%27Oratoire%20Saint-Joseph%20du%20Mont-Royal":MAILTO:info@osj.qc.ca
GEO:45.4921716;-73.616944
X-APPLE-STRUCTURED-LOCATION;VALUE=URI;X-ADDRESS=L’Oratoire Saint-Joseph du Mont-Royal 3800 chemin Queen-Mary Montréal Québec H3V 1H6 Canada;X-APPLE-RADIUS=500;X-TITLE=3800\, chemin Queen-Mary:geo:-73.616944,45.4921716
END:VEVENT
BEGIN:VEVENT
DTSTART;TZID=America/Toronto:20171008T153000
DTEND;TZID=America/Toronto:20171008T163000
DTSTAMP:20260422T130740
CREATED:20170926T232607Z
LAST-MODIFIED:20170926T232607Z
UID:48020-1507476600-1507480200@www.ludwig-van.com
SUMMARY:CIOC | FCOF : Rafael de Castro au Grand Séminaire
DESCRIPTION:Rafael de Castro est diplômé de l’Universidad de las Americas à Mexico.  Une bourse l’a amené à l’Université McGill où il a travaillé sur maîtrise.  Pendant ses études au Conservatoire de Musique de Montréal\, il a terminé sons concours dans la classe de Bernard Lagacé.  Au fil des ans\, il a enseigné la musique au Centennial Regional High School et occupé le poste d’organiste-chef de choeur à Church of the Resurrection à Pointe-Claire.  Ses études européennes comprennent des cours avec Guy Bovet et Monserrat Torrent.  Depuis mai\, 2014 il est vice-président du Collège Royal Canadien des Organistes et travaille actuellement sur un enregistrement CD de musique d’orgue baroque d’Allemagne.
URL:https://www.ludwig-van.com/montreal/event/cioc-fcof-rafael-de-castro-grand-seminaire/
LOCATION:Grand Séminaire de Montréal\, 2065 Rue Sherbrooke O\, Montréal\, Québec\, H3H 1G6\, Canada
CATEGORIES:Organ
ATTACH;FMTTYPE=image/jpeg:https://www.ludwig-van.com/montreal/wp-content/uploads/sites/3/2017/09/decastro.jpg
ORGANIZER;CN="Concours%20International%20d%E2%80%99Orgue%20du%20Canada":MAILTO:info@ciocm.org
GEO:45.4934612;-73.5848685
X-APPLE-STRUCTURED-LOCATION;VALUE=URI;X-ADDRESS=Grand Séminaire de Montréal 2065 Rue Sherbrooke O Montréal Québec H3H 1G6 Canada;X-APPLE-RADIUS=500;X-TITLE=2065 Rue Sherbrooke O:geo:-73.5848685,45.4934612
END:VEVENT
END:VCALENDAR