BEGIN:VCALENDAR
VERSION:2.0
PRODID:-//Ludwig Van Montreal - ECPv5.9.1//NONSGML v1.0//EN
CALSCALE:GREGORIAN
METHOD:PUBLISH
X-WR-CALNAME:Ludwig Van Montreal
X-ORIGINAL-URL:https://www.ludwig-van.com/montreal
X-WR-CALDESC:évènements pour Ludwig Van Montreal
BEGIN:VTIMEZONE
TZID:America/Toronto
BEGIN:DAYLIGHT
TZOFFSETFROM:-0500
TZOFFSETTO:-0400
TZNAME:EDT
DTSTART:20170312T070000
END:DAYLIGHT
BEGIN:STANDARD
TZOFFSETFROM:-0400
TZOFFSETTO:-0500
TZNAME:EST
DTSTART:20171105T060000
END:STANDARD
END:VTIMEZONE
BEGIN:VEVENT
DTSTART;TZID=America/Toronto:20171006T190000
DTEND;TZID=America/Toronto:20171006T210000
DTSTAMP:20260422T130833
CREATED:20170919T001559Z
LAST-MODIFIED:20170927T000804Z
UID:47546-1507316400-1507323600@www.ludwig-van.com
SUMMARY:OSM et le CIOC | L’orgue autrement
DESCRIPTION:Concert d’ouverture du CIOC avec Leif Vollebekk\, Jean-Willy Kunz et Christian Lane \nConcert d’initiation pour des foules de curieux. Les grands organistes Jean-Willy Kunz et Christian Lane\, avec la participation du chanteur montréalais Leif Vollebekk\, démontreront l’immense versatilité de l’orgue. \nLe CIOC est heureux de collaborer avec Leif Vollebekk\, dont l’album intitulé « Twin Solitude » était en lice pour le prix de musique Polaris parmi les 10 meilleurs albums canadiens. Récemment\, NPR a décrit « Elegy »\, une chanson du dernier album de Leif Vollebekk\, comme étant belle à briser le cœur. \nVollebekk a écrit une nouvelle pièce pour l’orgue solo\, que vous entendrez le 6 octobre 2017\,accompagnée de Jean-Willy Kunz. Sa pièce « Rest »\, interprétée originalement sur un orgue à soufflerie manuelle\, captivera certainement les auditoires dans l’incroyable Maison symphonique. \nJean-Willy Kunz aime beaucoup donner au grand orgue un style contemporain\, ayant déjà collaboré avec des artistes tels que Pierre Lapointe et Martha et Rufus Wainwright. \nCe concert est un incontournable.
URL:https://www.ludwig-van.com/montreal/event/osm-lorgue-autrement/
LOCATION:Maison Symphonique\, 1600 rue St-Urbain\, Montréal\, Québec\, H2S0X1\, Canada
CATEGORIES:Organ
ATTACH;FMTTYPE=image/jpeg:https://www.ludwig-van.com/montreal/wp-content/uploads/sites/3/2017/09/d55d3be9f14c5376fd904b9237a17f59.jpg
GEO:45.5310103;-73.613956
X-APPLE-STRUCTURED-LOCATION;VALUE=URI;X-ADDRESS=Maison Symphonique 1600 rue St-Urbain Montréal Québec H2S0X1 Canada;X-APPLE-RADIUS=500;X-TITLE=1600 rue St-Urbain:geo:-73.613956,45.5310103
END:VEVENT
END:VCALENDAR