BEGIN:VCALENDAR
VERSION:2.0
PRODID:-//Ludwig Van Montreal - ECPv5.9.1//NONSGML v1.0//EN
CALSCALE:GREGORIAN
METHOD:PUBLISH
X-WR-CALNAME:Ludwig Van Montreal
X-ORIGINAL-URL:https://www.ludwig-van.com/montreal
X-WR-CALDESC:évènements pour Ludwig Van Montreal
BEGIN:VTIMEZONE
TZID:America/Toronto
BEGIN:DAYLIGHT
TZOFFSETFROM:-0500
TZOFFSETTO:-0400
TZNAME:EDT
DTSTART:20170312T070000
END:DAYLIGHT
BEGIN:STANDARD
TZOFFSETFROM:-0400
TZOFFSETTO:-0500
TZNAME:EST
DTSTART:20171105T060000
END:STANDARD
END:VTIMEZONE
BEGIN:VEVENT
DTSTART;TZID=America/Toronto:20171001T150000
DTEND;TZID=America/Toronto:20171001T160000
DTSTAMP:20260422T131913
CREATED:20170926T231545Z
LAST-MODIFIED:20170926T231545Z
UID:48016-1506870000-1506873600@www.ludwig-van.com
SUMMARY:CIOC | FCOF: Réjean Poirier au Grand Séminaire
DESCRIPTION:Festival des couleurs de l’orgue français\, présenté par le CIOC : Réjean Poirier au Grand Séminaire \nRéjean Poirier a effectué ses études musicales aux conservatoires de Montréal et de Toulouse auprès de maîtres tels Bernard Lagacé\, Kenneth Gilbert et Xavier Darasse. Il s’y mérita le Premier Prix du Concours International J.S. Bach de Bruges. \nContribution volontaire
URL:https://www.ludwig-van.com/montreal/event/cioc-fcof-rejean-poirier-grand-seminaire/
LOCATION:Grand Séminaire de Montréal\, 2065 Rue Sherbrooke O\, Montréal\, Québec\, H3H 1G6\, Canada
CATEGORIES:Organ
ATTACH;FMTTYPE=image/jpeg:https://www.ludwig-van.com/montreal/wp-content/uploads/sites/3/2017/09/Poirier-Rejean-01.jpg
ORGANIZER;CN="Concours%20International%20d%E2%80%99Orgue%20du%20Canada":MAILTO:info@ciocm.org
GEO:45.4934612;-73.5848685
X-APPLE-STRUCTURED-LOCATION;VALUE=URI;X-ADDRESS=Grand Séminaire de Montréal 2065 Rue Sherbrooke O Montréal Québec H3H 1G6 Canada;X-APPLE-RADIUS=500;X-TITLE=2065 Rue Sherbrooke O:geo:-73.5848685,45.4934612
END:VEVENT
BEGIN:VEVENT
DTSTART;TZID=America/Toronto:20171001T153000
DTEND;TZID=America/Toronto:20171001T173000
DTSTAMP:20260422T131913
CREATED:20170918T183351Z
LAST-MODIFIED:20170927T000835Z
UID:47513-1506871800-1506879000@www.ludwig-van.com
SUMMARY:Oratoire Saint-Joseph et le CIOC | Cathédrales en musique – Dominique Joubert
DESCRIPTION:Concert pour orgue par Dominique Joubert (France). \nDans la basilique à 15:30\, projection sur grand écran\, contribution à discrétion.
URL:https://www.ludwig-van.com/montreal/event/oratoire-saint-joseph-cathedrales-musique-dominique-joubert/
LOCATION:L’Oratoire Saint-Joseph du Mont-Royal\, 3800\, chemin Queen-Mary\, Montréal\, Québec\, H3V 1H6\, Canada
CATEGORIES:Organ
ATTACH;FMTTYPE=image/jpeg:https://www.ludwig-van.com/montreal/wp-content/uploads/sites/3/2017/09/oratoire-calendrier-orgue-cathedrales-en-musique-2017.jpg
ORGANIZER;CN="L%27Oratoire%20Saint-Joseph%20du%20Mont-Royal":MAILTO:info@osj.qc.ca
GEO:45.4921716;-73.616944
X-APPLE-STRUCTURED-LOCATION;VALUE=URI;X-ADDRESS=L’Oratoire Saint-Joseph du Mont-Royal 3800 chemin Queen-Mary Montréal Québec H3V 1H6 Canada;X-APPLE-RADIUS=500;X-TITLE=3800\, chemin Queen-Mary:geo:-73.616944,45.4921716
END:VEVENT
END:VCALENDAR