BEGIN:VCALENDAR
VERSION:2.0
PRODID:-//Ludwig Van Montreal - ECPv5.9.1//NONSGML v1.0//EN
CALSCALE:GREGORIAN
METHOD:PUBLISH
X-WR-CALNAME:Ludwig Van Montreal
X-ORIGINAL-URL:https://www.ludwig-van.com/montreal
X-WR-CALDESC:évènements pour Ludwig Van Montreal
BEGIN:VTIMEZONE
TZID:America/Toronto
BEGIN:DAYLIGHT
TZOFFSETFROM:-0500
TZOFFSETTO:-0400
TZNAME:EDT
DTSTART:20170312T070000
END:DAYLIGHT
BEGIN:STANDARD
TZOFFSETFROM:-0400
TZOFFSETTO:-0500
TZNAME:EST
DTSTART:20171105T060000
END:STANDARD
END:VTIMEZONE
BEGIN:VEVENT
DTSTART;TZID=America/Toronto:20170930T140000
DTEND;TZID=America/Toronto:20170930T150000
DTSTAMP:20260422T132031
CREATED:20170918T023529Z
LAST-MODIFIED:20170927T000853Z
UID:47474-1506780000-1506783600@www.ludwig-van.com
SUMMARY:Oratoire Saint-Joseph et le CIOC | Full Orgue
DESCRIPTION:Les enfants de 6 à 12 ans pourront participer à un atelier festif animé par l’organiste titulaire de l’Oratoire\, Vincent Boucher\, au son de la musique de Star Wars et de Passe-Partout – le café pour les parents et la collation pour les enfants sont fournis. L’atelier aura lieu à la tribune de l’orgue de la basilique de l’Oratoire. \nParents et enfants pourront apprendre l’histoire millénaire de l’orgue et son fonctionnement ; ils auront l’occasion unique de jouer l’orgue Beckerath de la basilique\, un des plus grands orgues mécaniques du Canada ! \n\n\n\n\nÀ la tribune de l’orgue Beckerath de la basilique de l’Oratoire Saint-Joseph de 14:00 à 15:00. Atelier donné en français et en anglais. \nRéservations requises au www.ciocm.org
URL:https://www.ludwig-van.com/montreal/event/oratoire-saint-joseph-full-orgue/
LOCATION:L’Oratoire Saint-Joseph du Mont-Royal\, 3800\, chemin Queen-Mary\, Montréal\, Québec\, H3V 1H6\, Canada
CATEGORIES:Kids,Organ
ATTACH;FMTTYPE=image/jpeg:https://www.ludwig-van.com/montreal/wp-content/uploads/sites/3/2017/09/journees-de-la-culture-Full-Orgue-2017.jpg
ORGANIZER;CN="L%27Oratoire%20Saint-Joseph%20du%20Mont-Royal":MAILTO:info@osj.qc.ca
GEO:45.4921716;-73.616944
X-APPLE-STRUCTURED-LOCATION;VALUE=URI;X-ADDRESS=L’Oratoire Saint-Joseph du Mont-Royal 3800 chemin Queen-Mary Montréal Québec H3V 1H6 Canada;X-APPLE-RADIUS=500;X-TITLE=3800\, chemin Queen-Mary:geo:-73.616944,45.4921716
END:VEVENT
END:VCALENDAR