BEGIN:VCALENDAR
VERSION:2.0
PRODID:-//Ludwig Van Montreal - ECPv5.9.1//NONSGML v1.0//EN
CALSCALE:GREGORIAN
METHOD:PUBLISH
X-WR-CALNAME:Ludwig Van Montreal
X-ORIGINAL-URL:https://www.ludwig-van.com/montreal
X-WR-CALDESC:évènements pour Ludwig Van Montreal
BEGIN:VTIMEZONE
TZID:America/Toronto
BEGIN:DAYLIGHT
TZOFFSETFROM:-0500
TZOFFSETTO:-0400
TZNAME:EDT
DTSTART:20170312T070000
END:DAYLIGHT
BEGIN:STANDARD
TZOFFSETFROM:-0400
TZOFFSETTO:-0500
TZNAME:EST
DTSTART:20171105T060000
END:STANDARD
END:VTIMEZONE
BEGIN:VEVENT
DTSTART;TZID=America/Toronto:20170924T150000
DTEND;TZID=America/Toronto:20170924T170000
DTSTAMP:20260422T145921
CREATED:20170918T011255Z
LAST-MODIFIED:20171005T201756Z
UID:47435-1506265200-1506272400@www.ludwig-van.com
SUMMARY:Moments Musicaux | Autour du Livre d’orgue de Montréal
DESCRIPTION:Pour l’automne 2017\, moments musicaux propose une série de trois concerts autour du livre d’orgue de Montréal. \nChacun des trois concerts\, commentés par la musicologue Élisabeth Gallat-Morin\, sera truffé de commentaires historiques retraçant le parcours de cet imposant manuscrit\, apporté en Nouvelle-France par le Sulpicien Jean Girard\, et retrouvé à Montréal en 1978 par madame Gallat-Morin. Par ses présentations\, Élisabeth Gallat-Morin fera voyager les auditeurs dans la France du début du 18e siècle et dans la Nouvelle-France\, plus particulièrement à Montréal alors que Jean-Girard y débutait sa vie professionnelle. \nLes auditeurs auront l’occasion d’y entendre de larges extraits du Livre d’orgue de Montréal dans lesquels certaines pièces alterneront avec des versets de plain-chant. Aussi\, des Motets pour les principales festes de l’année de Nicolas Lebègue seront présentés ainsi que des extraits du Premier livre d’orgue de Guillaume-Gabriel Nivers\, ces deux livres ayant appartenu à Jean Girard. \nVoilà une occasion originale de découvrir la vie musicale du Montréal d’il y a près trois cents ans. \nLes dimanches 24 septembre\, 1er octobre et 15 octobre 2017 à 15h. \n24 septembre : Yves G. Préfontaine – orgue \n1er octobre : Jean-François Gauthier – orgue /Marie Magistry – voix / Johanne Gauthier – viole de gambe \n15 octobre : Marc-André Doran – orgue / Jean-Pierre Couturier – voix \nÉlisabeth Gallat-Morin – Conférencière lors des trois concerts \nTarif spécial pour la trilogie du Livre d’orgue de Montréal 60$
URL:https://www.ludwig-van.com/montreal/event/moments-musicaux-autour-livre-dorgue-de-montreal/2017-09-24/
LOCATION:Église de la Visitation\, 1847\, boul. Gouin Est\, Montréal\, Québec\, H2C 1C8\, Canada
CATEGORIES:Organ,Vocal
ATTACH;FMTTYPE=image/jpeg:https://www.ludwig-van.com/montreal/wp-content/uploads/sites/3/2017/09/MM_afficheautomne2017_VF.jpg
GEO:45.5706599;-73.661196
X-APPLE-STRUCTURED-LOCATION;VALUE=URI;X-ADDRESS=Église de la Visitation 1847 boul. Gouin Est Montréal Québec H2C 1C8 Canada;X-APPLE-RADIUS=500;X-TITLE=1847\, boul. Gouin Est:geo:-73.661196,45.5706599
END:VEVENT
END:VCALENDAR