BEGIN:VCALENDAR
VERSION:2.0
PRODID:-//Ludwig Van Montreal - ECPv5.9.1//NONSGML v1.0//EN
CALSCALE:GREGORIAN
METHOD:PUBLISH
X-WR-CALNAME:Ludwig Van Montreal
X-ORIGINAL-URL:https://www.ludwig-van.com/montreal
X-WR-CALDESC:évènements pour Ludwig Van Montreal
BEGIN:VTIMEZONE
TZID:America/Toronto
BEGIN:DAYLIGHT
TZOFFSETFROM:-0500
TZOFFSETTO:-0400
TZNAME:EDT
DTSTART:20210314T070000
END:DAYLIGHT
BEGIN:STANDARD
TZOFFSETFROM:-0400
TZOFFSETTO:-0500
TZNAME:EST
DTSTART:20211107T060000
END:STANDARD
END:VTIMEZONE
BEGIN:VEVENT
DTSTART;TZID=America/Toronto:20211010T143000
DTEND;TZID=America/Toronto:20211010T160000
DTSTAMP:20260419T165055
CREATED:20211004T162821Z
LAST-MODIFIED:20211004T162821Z
UID:68267-1633876200-1633881600@www.ludwig-van.com
SUMMARY:Orchestre symphonique du Conservatoire - Shérérazade
DESCRIPTION:Les musiciens et musiciennes de l’Orchestre symphonique du Conservatoire de musique de Montréal reviennent à la Maison symphonique pour présenter la Sheherazade sous la direction du chef Jacques Lacombe. \nDirection:\nJacques Lacombe\, chef d’orchestre\nLéa Moisan-Perrier\, élève en direction \nSolistes : Chloé Dumoulin\, piano \nProgramme: \nBootlegger’s Tarantella\, John ESTACIO\nConcerto en fa majeur\, George GERSHWIN (2eme et 3eme mouvements)\nSheherazade\, op. 35\, Nikolaï RIMSKY-KORSAKOV \n 
URL:https://www.ludwig-van.com/montreal/event/orchestre-symphonique-du-conservatoire-shererazade/
LOCATION:Maison Symphonique\, 1600 rue St-Urbain\, Montréal\, Québec\, H2S0X1\, Canada
CATEGORIES:Orchestra
ATTACH;FMTTYPE=image/jpeg:https://www.ludwig-van.com/montreal/wp-content/uploads/sites/3/2018/12/Jacques-Lacombe-cr-Steve-J-Sherman.jpg
ORGANIZER;CN="Conservatoire%20de%20musique%20de%20Montr%C3%A9al":MAILTO:CMM@conservatoire.gouv.qc.ca
GEO:45.5310103;-73.613956
X-APPLE-STRUCTURED-LOCATION;VALUE=URI;X-ADDRESS=Maison Symphonique 1600 rue St-Urbain Montréal Québec H2S0X1 Canada;X-APPLE-RADIUS=500;X-TITLE=1600 rue St-Urbain:geo:-73.613956,45.5310103
END:VEVENT
END:VCALENDAR