BEGIN:VCALENDAR
VERSION:2.0
PRODID:-//Ludwig Van Montreal - ECPv5.9.1//NONSGML v1.0//EN
CALSCALE:GREGORIAN
METHOD:PUBLISH
X-WR-CALNAME:Ludwig Van Montreal
X-ORIGINAL-URL:https://www.ludwig-van.com/montreal
X-WR-CALDESC:évènements pour Ludwig Van Montreal
BEGIN:VTIMEZONE
TZID:America/Toronto
BEGIN:DAYLIGHT
TZOFFSETFROM:-0500
TZOFFSETTO:-0400
TZNAME:EDT
DTSTART:20170312T070000
END:DAYLIGHT
BEGIN:STANDARD
TZOFFSETFROM:-0400
TZOFFSETTO:-0500
TZNAME:EST
DTSTART:20171105T060000
END:STANDARD
END:VTIMEZONE
BEGIN:VEVENT
DTSTART;TZID=America/Toronto:20171222T193000
DTEND;TZID=America/Toronto:20171222T213000
DTSTAMP:20260422T214548
CREATED:20170911T223004Z
LAST-MODIFIED:20170912T011234Z
UID:46873-1513971000-1513978200@www.ludwig-van.com
SUMMARY:Orchestre Métropolitain | Le Messie de Haendel
DESCRIPTION:Il y a de quoi se réjouir ! Yannick Nézet-Séguin s’entoure de chanteurs exceptionnels et dirige le Messie de Haendel pour la toute première fois avec l’OM. L’ultime expressivité de cette musique vient du défi que Haendel a voulu relever : raconter l’histoire du Sauveur avec le seul pouvoir des mots et de la musique\, sans mise en scène. Avec l’aide du Chœur Métropolitain et des solistes Carolyn Sampson\, Christophe Dumaux\, Pascal Charbonneau et Andrew Foster-Williams\, Yannick fait vivre l’émerveillement de cet incontournable du temps des fêtes. \nYannick Nézet-Séguin\, CHEF\nCarolyn Sampson\, SOPRANO\nChristophe Dumaux\, CONTRE-TÉNOR\nPascal Charbonneau\, TÉNOR\nAndrew Foster-Williams\, BARYTON-BASSE \nCHŒUR MÉTROPOLITAIN\, PRÉPARÉ PAR\nFrançois A. Ouimet et Pierre Tourville
URL:https://www.ludwig-van.com/montreal/event/orchestre-metropolitain-messie-de-haendel/2017-12-22/
LOCATION:Maison Symphonique\, 1600 rue St-Urbain\, Montréal\, Québec\, H2S0X1\, Canada
CATEGORIES:Holiday,Orchestra,Vocal
ATTACH;FMTTYPE=image/jpeg:https://www.ludwig-van.com/montreal/wp-content/uploads/sites/3/2017/09/OM7_Choeur_OM.jpg
ORGANIZER;CN="Orchestre%20M%C3%A9tropolitain":MAILTO:billets@placedesarts.com
GEO:45.5310103;-73.613956
X-APPLE-STRUCTURED-LOCATION;VALUE=URI;X-ADDRESS=Maison Symphonique 1600 rue St-Urbain Montréal Québec H2S0X1 Canada;X-APPLE-RADIUS=500;X-TITLE=1600 rue St-Urbain:geo:-73.613956,45.5310103
END:VEVENT
END:VCALENDAR