BEGIN:VCALENDAR
VERSION:2.0
PRODID:-//Ludwig Van Montreal - ECPv5.9.1//NONSGML v1.0//EN
CALSCALE:GREGORIAN
METHOD:PUBLISH
X-WR-CALNAME:Ludwig Van Montreal
X-ORIGINAL-URL:https://www.ludwig-van.com/montreal
X-WR-CALDESC:évènements pour Ludwig Van Montreal
BEGIN:VTIMEZONE
TZID:America/Toronto
BEGIN:DAYLIGHT
TZOFFSETFROM:-0500
TZOFFSETTO:-0400
TZNAME:EDT
DTSTART:20170312T070000
END:DAYLIGHT
BEGIN:STANDARD
TZOFFSETFROM:-0400
TZOFFSETTO:-0500
TZNAME:EST
DTSTART:20171105T060000
END:STANDARD
END:VTIMEZONE
BEGIN:VEVENT
DTSTART;TZID=America/Toronto:20171219T140000
DTEND;TZID=America/Toronto:20171219T160000
DTSTAMP:20260422T165148
CREATED:20171102T234549Z
LAST-MODIFIED:20171102T234549Z
UID:49445-1513692000-1513699200@www.ludwig-van.com
SUMMARY:Quartom | Les Noëls de Quartom
DESCRIPTION:Chants a cappella. Avec des arrangements originaux sur des mélodies connues\, le NOËL de QUARTOM nous met dans l’ambiance des fêtes. Les quatre chanteurs interprètent les plus grands classiques des Noël d’ici et des œuvres méconnues d’ailleurs. Formé de chanteurs au talent et au charisme manifestes\, le quatuor vocal propose des concerts où la musique classique s’accoquine à des airs populaires. Tantôt sérieux\, tantôt espiègles\, ces quatre chaleureux musiciens (Gaëtan Sauvageau\, Julien Patenaude\, Benoit Le Blanc et Philippe Martel) offrent des tours de chant d’une qualité irréprochable.
URL:https://www.ludwig-van.com/montreal/event/quartom-noels-de-quartom/
LOCATION:Maison de la culture Ahuntsic-Cartierville\, 10300\, rue Lajeunesse\, Montréal\, Québec\, H3L 2E5\, Canada
CATEGORIES:Holiday,Vocal
ATTACH;FMTTYPE=image/jpeg:https://www.ludwig-van.com/montreal/wp-content/uploads/sites/3/2017/10/Quartom-calendrier.jpg
ORGANIZER;CN="Quartom":MAILTO:info@quartom.com
GEO:45.5533616;-73.6626335
X-APPLE-STRUCTURED-LOCATION;VALUE=URI;X-ADDRESS=Maison de la culture Ahuntsic-Cartierville 10300 rue Lajeunesse Montréal Québec H3L 2E5 Canada;X-APPLE-RADIUS=500;X-TITLE=10300\, rue Lajeunesse:geo:-73.6626335,45.5533616
END:VEVENT
BEGIN:VEVENT
DTSTART;TZID=America/Toronto:20171219T200000
DTEND;TZID=America/Toronto:20171219T220000
DTSTAMP:20260422T165148
CREATED:20171103T235235Z
LAST-MODIFIED:20171103T235235Z
UID:49465-1513713600-1513720800@www.ludwig-van.com
SUMMARY:OSM | Le diable en canot d'écorce : un conte de Noël de Michel Tremblay
DESCRIPTION:La veille de Noël\, dans un camp de bucherons isolé où l’hiver est rude et le confort absent\, on donnerait cher pour quelques heures de plaisir. Et lorsqu’un mystérieux personnage propose un peu de divertissements\, c’est bien tentant. Magie et mystère se côtoient dans cette légende québécoise bien connue\, revisitée par Michel Tremblay dans une mise en espace de René Richard Cyr. La musique quant à elle crée le décor en interprétant des œuvres des répertoires folklorique et symphonique. \nDécrit comme un « [… ] humoriste [faisant] preuve d’une sensibilité quasi insoupçonnée et [offrant ] l’un des moments les plus forts en émotions de la soirée. » (Journal de Montréal)\, ne manquez-pas l’occasion de voir Laurent Paquin dans la grande tradition du conte de Noël à l’OSM. \n\n\nOrchestre symphonique de Montréal \n\n\n\n\n\n\n\n\nKent Nagano\, chef d’orchestre\nRené Richard Cyr\, metteur en scène\nLaurent Paquin\, comédien et humoriste \nŒuvres \n\nMendelssohn\, Les Hébrides\, op. 26 (10 min)\nAndré Brunet\, Maison de glace (air de violon solo) (2 min)\nBeethoven\, Symphonie no 4 : « Adagio » (extrait) (2 min)\nBerlioz\, Symphonie fantastique : « Songe d’une nuit de sabbat » (extrait) (7 min)\nChostakovitch\, Hamlet : « The Ghost » (5 min)\nGary Kulesha\, Thème du canot (approx. 2 min)\nElgar\, Variations Enigma : « Nimrod » (4 min)\nProkofiev\, Symphonie no 5 : « Allegro marcato » (8 min)\nLes anges dans nos campagnes (air de Noël à 2 vibraphones) (1 min)\nGershwin\, Rhapsody in Blue (extraits) (9 min)\nProkofiev\, Pierre et le Loup : « Thème du grand-père » (1 min)\nGary Kulesha\, Thème du canot (1 min)\nAnonyme\, Reel des soucoupes volantes (arr. J.-F. Girard) (3 min)\nHumperdinck\, Hansel et Gretel : Ouverture (8 min)
URL:https://www.ludwig-van.com/montreal/event/osm-diable-canot-decorce-conte-de-noel-de-michel-tremblay/2017-12-19/
LOCATION:Maison Symphonique\, 1600 rue St-Urbain\, Montréal\, Québec\, H2S0X1\, Canada
CATEGORIES:Holiday,Musical Theatre,Orchestra
ATTACH;FMTTYPE=image/jpeg:https://www.ludwig-van.com/montreal/wp-content/uploads/sites/3/2017/11/laurent_paquin.jpg
GEO:45.5310103;-73.613956
X-APPLE-STRUCTURED-LOCATION;VALUE=URI;X-ADDRESS=Maison Symphonique 1600 rue St-Urbain Montréal Québec H2S0X1 Canada;X-APPLE-RADIUS=500;X-TITLE=1600 rue St-Urbain:geo:-73.613956,45.5310103
END:VEVENT
END:VCALENDAR