BEGIN:VCALENDAR
VERSION:2.0
PRODID:-//Ludwig Van Montreal - ECPv5.9.1//NONSGML v1.0//EN
CALSCALE:GREGORIAN
METHOD:PUBLISH
X-WR-CALNAME:Ludwig Van Montreal
X-ORIGINAL-URL:https://www.ludwig-van.com/montreal
X-WR-CALDESC:évènements pour Ludwig Van Montreal
BEGIN:VTIMEZONE
TZID:America/Toronto
BEGIN:DAYLIGHT
TZOFFSETFROM:-0500
TZOFFSETTO:-0400
TZNAME:EDT
DTSTART:20170312T070000
END:DAYLIGHT
BEGIN:STANDARD
TZOFFSETFROM:-0400
TZOFFSETTO:-0500
TZNAME:EST
DTSTART:20171105T060000
END:STANDARD
END:VTIMEZONE
BEGIN:VEVENT
DTSTART;TZID=America/Toronto:20171213T193000
DTEND;TZID=America/Toronto:20171213T213000
DTSTAMP:20260422T070231
CREATED:20171104T000306Z
LAST-MODIFIED:20171104T000306Z
UID:49470-1513193400-1513200600@www.ludwig-van.com
SUMMARY:Orchestre symphonique de Laval | Les grands concerts : Un monde de traditions
DESCRIPTION:Voilà une chance unique de faire un tour du monde en musique! De la Russie à l’Amérique du Sud en passant par l’Afrique\, la Syrie\, la France\, l’Ukraine\, l’Angleterre et\, bien sûr\, le Canada\, voyagez au son de musiques traditionnelles interprétées par l’excellent choeur des Petits Chanteurs de Laval et l’Orchestre symphonique de Laval\, sous la direction d’Alain Trudel. \nUne activité parfaite pour vous mettre dans l’esprit des fêtes et de Noël! \n\n\n\n\n\n\n\nBizet\, L’Arlésienne\nRimski-Korsakov\, Ouverture de la Grande Pâque Russe\nDiverse musiques issues des traditions du monde \n\n\n\n\n\n\n\n\nLes Petits Chanteurs de Laval\nAlain Trudel\, chef
URL:https://www.ludwig-van.com/montreal/event/orchestre-symphonique-de-laval-grands-concerts-monde-de-traditions/
LOCATION:Salle André-Mathieu\, 475 Boulevard de l'Avenir\, Laval\, Québec\, H7N 5H9\, Canada
CATEGORIES:Holiday,Orchestra,Vocal
ATTACH;FMTTYPE=image/jpeg:https://www.ludwig-van.com/montreal/wp-content/uploads/sites/3/2017/11/mondetraditions.jpg
GEO:45.5599926;-73.7188476
X-APPLE-STRUCTURED-LOCATION;VALUE=URI;X-ADDRESS=Salle André-Mathieu 475 Boulevard de l'Avenir Laval Québec H7N 5H9 Canada;X-APPLE-RADIUS=500;X-TITLE=475 Boulevard de l'Avenir:geo:-73.7188476,45.5599926
END:VEVENT
BEGIN:VEVENT
DTSTART;TZID=America/Toronto:20171213T200000
DTEND;TZID=America/Toronto:20171213T220000
DTSTAMP:20260422T070231
CREATED:20171109T213700Z
LAST-MODIFIED:20171109T213700Z
UID:49615-1513195200-1513202400@www.ludwig-van.com
SUMMARY:Le Vivier | VivierMix festif
DESCRIPTION:Une soirée festive où 20 musiciens s’amusent à vous étonner\, à vous émouvoir. \nRéunissant 20 musiciens sur scène\, la fête sera assurément au rendez-vous avec: Codes d’accès et QUADr; Bradyworks et son quatuor de guitares; Fiolûtröniq et son duo Beta Lyræ; Innovations en concert et 10 violoncelles. \nPARTICIPANTS \n\nBradyworks (Tim Brady\, guitare; Jonathan Barriault\, guitare; Simon Duchesneau\, guitare; Marc-Olivier Lamontagne\, guitare)\nBeta Lyræ (Cléo Palacio-Quintin\, hyper-flûte; Terri Hron\, flûte)\nQUADr\n+ 10 violoncellistes
URL:https://www.ludwig-van.com/montreal/event/vivier-viviermix-festif/
LOCATION:Le Gesù\, 1200\, rue de Bleury\, Montréal\, Québec\, H3B 3J3\, Canada
CATEGORIES:Cello,Contemporary Music,Guitar,Holiday
ATTACH;FMTTYPE=image/jpeg:https://www.ludwig-van.com/montreal/wp-content/uploads/sites/3/2017/09/VivierMix_rectangle.jpg
ORGANIZER;CN="Le%20Vivier":MAILTO:info@levivier.ca
GEO:45.50568;-73.565996
X-APPLE-STRUCTURED-LOCATION;VALUE=URI;X-ADDRESS=Le Gesù 1200 rue de Bleury Montréal Québec H3B 3J3 Canada;X-APPLE-RADIUS=500;X-TITLE=1200\, rue de Bleury:geo:-73.565996,45.50568
END:VEVENT
END:VCALENDAR