BEGIN:VCALENDAR
VERSION:2.0
PRODID:-//Ludwig Van Montreal - ECPv5.9.1//NONSGML v1.0//EN
CALSCALE:GREGORIAN
METHOD:PUBLISH
X-WR-CALNAME:Ludwig Van Montreal
X-ORIGINAL-URL:https://www.ludwig-van.com/montreal
X-WR-CALDESC:évènements pour Ludwig Van Montreal
BEGIN:VTIMEZONE
TZID:America/Toronto
BEGIN:DAYLIGHT
TZOFFSETFROM:-0500
TZOFFSETTO:-0400
TZNAME:EDT
DTSTART:20170312T070000
END:DAYLIGHT
BEGIN:STANDARD
TZOFFSETFROM:-0400
TZOFFSETTO:-0500
TZNAME:EST
DTSTART:20171105T060000
END:STANDARD
END:VTIMEZONE
BEGIN:VEVENT
DTSTART;TZID=America/Toronto:20171210T100000
DTEND;TZID=America/Toronto:20171210T110000
DTSTAMP:20260422T020822
CREATED:20171104T052629Z
LAST-MODIFIED:20171113T193118Z
UID:49487-1512900000-1512903600@www.ludwig-van.com
SUMMARY:Jeunesses Musicales | Noël en Nouvelle-France
DESCRIPTION:Approchez\, bonnes gens! Venez entendre les beaux airs d’un Noël en Nouvelle-France. Le doux chant des bergers et les timbres fascinants des instruments anciens\, entremêlés aux rythmes et aux couleurs des mélodies françaises\, irlandaises\, écossaises et amérindiennes\, résonnent pour le plaisir des petits et des grands! Enrobé d’anecdotes amusantes et de peintures inspirantes\, ce concert transporte le jeune public aux sources des traditions et des coutumes qui accompagnaient les premiers Noëls d’autrefois. \nUne codiffusion des JMC avec L’Atelier du Conte en Musique et en Images \n** Concert offert en Escapades musicales : les 4\, 5\, 6\, 7 et 8 décembre  2017 à la Salle Joseph-Rouleau de la Maison des Jeunesses Musicales Canada et le 17 décembre 2017 à la Salle Bourgie du Musée des Beaux-Arts de Montréal.
URL:https://www.ludwig-van.com/montreal/event/jeunesses-musicales-noel-nouvelle-france/2017-12-10/
LOCATION:Salle Joseph-Rouleau\, 305 Avenue du Mont-Royal E\, Montréal\, Québec\, H2T 1P8\, Canada
CATEGORIES:Holiday,Kids
ATTACH;FMTTYPE=image/jpeg:https://www.ludwig-van.com/montreal/wp-content/uploads/sites/3/2017/11/Noâl-en-Nouvelle-France_CrÇdit-Lorraine-Beaudoin.jpg
ORGANIZER;CN="Jeunesses%20Musicales%20du%20Canada":MAILTO:amercier@jmcanada.ca
GEO:45.5230871;-73.5838585
X-APPLE-STRUCTURED-LOCATION;VALUE=URI;X-ADDRESS=Salle Joseph-Rouleau 305 Avenue du Mont-Royal E Montréal Québec H2T 1P8 Canada;X-APPLE-RADIUS=500;X-TITLE=305 Avenue du Mont-Royal E:geo:-73.5838585,45.5230871
END:VEVENT
BEGIN:VEVENT
DTSTART;TZID=America/Toronto:20171210T150000
DTEND;TZID=America/Toronto:20171210T163000
DTSTAMP:20260422T020822
CREATED:20171113T190059Z
LAST-MODIFIED:20171201T230325Z
UID:49702-1512918000-1512923400@www.ludwig-van.com
SUMMARY:Fondation Arte Musica et l'OPCM | Chantons Noël !
DESCRIPTION:38e CHRISTMAS SING-IN DE LA CBC \nFidèle à la tradition\, la Fondation Arte Musica vous invite à la diffusion simultanée du concert de Noël présenté à l’église St. Andrew et St. Paul\, dans le cadre de la 38e édition de cette populaire célébration montréalaise. \nUn évènement produit par la CBC Montreal\, en collaboration avec l’église St. Andrew et St. Paul\, la Fondation Arte Musica et le Musée des beaux-arts de Montréal \nEntrée libre \n(les dons seront versés à un organisme de charité local)
URL:https://www.ludwig-van.com/montreal/event/fondation-arte-musica-chantons-noel/
LOCATION:Salle Bourgie\, 1339 rue Sherbrooke Ouest\, Montréal\, Québec\, H3G 1G2\, Canada
CATEGORIES:Holiday,Vocal
ATTACH;FMTTYPE=image/jpeg:https://www.ludwig-van.com/montreal/wp-content/uploads/sites/3/2017/11/FAM-chantons-noel.jpg
GEO:45.4991991;-73.57963
X-APPLE-STRUCTURED-LOCATION;VALUE=URI;X-ADDRESS=Salle Bourgie 1339 rue Sherbrooke Ouest Montréal Québec H3G 1G2 Canada;X-APPLE-RADIUS=500;X-TITLE=1339 rue Sherbrooke Ouest:geo:-73.57963,45.4991991
END:VEVENT
BEGIN:VEVENT
DTSTART;TZID=America/Toronto:20171210T150000
DTEND;TZID=America/Toronto:20171210T170000
DTSTAMP:20260422T020823
CREATED:20171115T235837Z
LAST-MODIFIED:20171115T235837Z
UID:49815-1512918000-1512925200@www.ludwig-van.com
SUMMARY:Chapelle Historique du Bon-Pasteur | La veillée de Noël - de la France à l’Acadie
DESCRIPTION:Entourée de musiciens chevronnés\, la soprano Suzie LeBlanc fait revivre des chants traditionnels de Noël\, tirés du recueil Rondes et chansons populaires illustrées. Publié à Paris à la fin du XIXe siècle\, cette musique a été adoptée par les Acadiens de la Vallée de Memramcook au Nouveau-Brunswick. \nSuzie Le Blanc\, chant\nJean-François Bélanger\, nyckelharpa & violon\nÉlizabeth Giroux\, violoncelle\nJean-Willy Kunz\, clavecin\nPatrick Graham\, percussions \nLa Veillée de Noël – La France et l’Acadie en tournée \n\ndimanche 3 déc 14h00\, Centre culturel de de Pierrefonds\njeudi 7 déc 13h30\, Centre culturel de Villeray\nvendredi 8 déc 20h00\, Paroisses Saint-Joachim\, 2 Avenue Ste Anne\, Pointe-Claire\nsamedi 9 déc 19h30\, Maison de la culture Ahuntsic – Cartierville\ndimanche 10 déc 15h00\, Chappelle historique de Bon Pasteur\, Montreal\njeudi 14 déc 20h00\, Diffusion de la coulisse\, Centre culturel de Beloeil
URL:https://www.ludwig-van.com/montreal/event/chapelle-historique-pasteur-veillee-de-noel-de-france-a-lacadie/
LOCATION:Chapelle Historique du Bon-Pasteur\, 100\, rue Sherbrooke Est\, Montréal\, Québec\, H2X 1C3\, Canada
CATEGORIES:Cello,Holiday,Violin,Vocal
ATTACH;FMTTYPE=image/jpeg:https://www.ludwig-van.com/montreal/wp-content/uploads/sites/3/2017/11/Suzie-LeBlanc-calendrier.jpg
ORGANIZER;CN="Chapelle%20Historique%20du%20Bon-Pasteur":MAILTO:chapelle@ville.montreal.qc.ca
GEO:45.5134842;-73.5685097
X-APPLE-STRUCTURED-LOCATION;VALUE=URI;X-ADDRESS=Chapelle Historique du Bon-Pasteur 100 rue Sherbrooke Est Montréal Québec H2X 1C3 Canada;X-APPLE-RADIUS=500;X-TITLE=100\, rue Sherbrooke Est:geo:-73.5685097,45.5134842
END:VEVENT
BEGIN:VEVENT
DTSTART;TZID=America/Toronto:20171210T153000
DTEND;TZID=America/Toronto:20171210T170000
DTSTAMP:20260422T020823
CREATED:20171025T195844Z
LAST-MODIFIED:20171101T204933Z
UID:49177-1512919800-1512925200@www.ludwig-van.com
SUMMARY:Oratoire Saint-Joseph | Noël en Italie avec Georgio Revelli
DESCRIPTION:Série Noël à l’orgue à l’Oratoire Saint-Joseph : Noël en Italie avec Georgio Revelli\, organiste (Italie) \nTous les dimanches à 15:30 – contribution à discrétion et projection sur écran géant. \nLes Concerts du dimanche 2017-2018 \nCes concerts hebdomadaires\, dont 50 seront gratuits\, permettront d’entendre 42 organistes provenant de 8 pays\, accompagnés de 800 choristes et instrumentistes. Un répertoire varié mettra également en valeur le grand orgue Rudolf von Beckerath de 78 jeux et 5811 tuyaux sur 5 claviers\, le plus grand orgue entièrement mécanique en Amérique du Nord. Tous les concerts seront animés et projetés sur écran géant. \nGiorgio Revelli est organiste\, claveciniste et directeur de choeur. \nIl a accompli ses études musicales au Conservatoire National de Région de Nice (France) dans la classe d’orgue de René Saorgin; dans la classe de clavecin avec Mireille Podeur au Département de musique ancienne du même Conservatoire\, et le piano avec Elzbieta Glabowna. \nDépuis le 2007 il est organiste titulaire du grand orgue Locatelli-Bossi près de la Basilique Sanctuaire du Sacré Coeur en Bussana de Sanremo depuis le Décembre 2007 et de l’année 2010 il est directeur artistique du Festival International d’orgue « Serate organistiche Leonardiane » de la Concathedrale S. Maurizio de Imperia et du Festival International de musique classique « Appunti Sonori ». \nDès janvier 2016 il a été nomé  résponsable des evennement et activitées musicales et chèf de choeur de la maitrise du Dome de Imperia. \nAujourd’hui Giorgio Revelli se produir ponctuellement en concert au sein de prestigieux Festivals et initiatives musicales internationales en Italie\, en Europe\, en Amérique du Sud\, et au Canada. Le concert avec orchestre tenu au teatre Avenida de Buenos Aires en Novembre 2016 dirigé par la Mtra Patricia POUCULU il a été choisi par la Television Nationale Argentine Canal 9er par la chène culturelle Arpeggio comme emmission en première soiré du 24 Décembre\, tranmis en toute Argentine et en toute l’Amerique du Sud. \nEn avril 2007\, en collaboration avec la guitariste Sara Gianfelici\, prend vie le Duo « Ariel 414 »  dans la formation de guitare et clavecin\, et de guitare et orgue. \nEn 2012 a  été  nommé premier et unique membre italien du jury du Concours d’Improvvisation de Saint-Colomban de Luxeuil présidé par M. Pierre Pincemaille. \nGiorgio Revelli\, depuis 2010\, enregistre avec le label international CLASSIC CONCERT de Saltzbourg et le label italo-allemand CENTAURUS MUSIC.
URL:https://www.ludwig-van.com/montreal/event/oratoire-saint-joseph-noel-italie-georgio-revelli/
LOCATION:L’Oratoire Saint-Joseph du Mont-Royal\, 3800\, chemin Queen-Mary\, Montréal\, Québec\, H3V 1H6\, Canada
CATEGORIES:Holiday,Organ
ATTACH;FMTTYPE=image/jpeg:https://www.ludwig-van.com/montreal/wp-content/uploads/sites/3/2017/10/concerts-du-dimanche-Noels-a-l-orgue-2016.jpg
ORGANIZER;CN="L%27Oratoire%20Saint-Joseph%20du%20Mont-Royal":MAILTO:info@osj.qc.ca
GEO:45.4921716;-73.616944
X-APPLE-STRUCTURED-LOCATION;VALUE=URI;X-ADDRESS=L’Oratoire Saint-Joseph du Mont-Royal 3800 chemin Queen-Mary Montréal Québec H3V 1H6 Canada;X-APPLE-RADIUS=500;X-TITLE=3800\, chemin Queen-Mary:geo:-73.616944,45.4921716
END:VEVENT
END:VCALENDAR