BEGIN:VCALENDAR
VERSION:2.0
PRODID:-//Ludwig Van Montreal - ECPv5.9.1//NONSGML v1.0//EN
CALSCALE:GREGORIAN
METHOD:PUBLISH
X-WR-CALNAME:Ludwig Van Montreal
X-ORIGINAL-URL:https://www.ludwig-van.com/montreal
X-WR-CALDESC:évènements pour Ludwig Van Montreal
BEGIN:VTIMEZONE
TZID:America/Toronto
BEGIN:DAYLIGHT
TZOFFSETFROM:-0500
TZOFFSETTO:-0400
TZNAME:EDT
DTSTART:20170312T070000
END:DAYLIGHT
BEGIN:STANDARD
TZOFFSETFROM:-0400
TZOFFSETTO:-0500
TZNAME:EST
DTSTART:20171105T060000
END:STANDARD
END:VTIMEZONE
BEGIN:VEVENT
DTSTART;TZID=America/Toronto:20171207T120000
DTEND;TZID=America/Toronto:20171207T130000
DTSTAMP:20260421T203654
CREATED:20171102T233549Z
LAST-MODIFIED:20171102T233549Z
UID:49431-1512648000-1512651600@www.ludwig-van.com
SUMMARY:Société Pro Musica | Les mélodînes de Noël avec Quartom
DESCRIPTION:Formé de quatre jeunes chanteurs au talent et au charisme manifestes\, le quatuor vocal a cappella Quartom propose des concerts où la musique classique s’acoquine à des airs populaires. Avec des arrangements originaux sur des mélodies connues\, le Noël de Quartom nous met dans l’ambiance des Fêtes. Tantôt sérieux\, tantôt espiègles\, les quatre chanteurs interprètent les plus grands classiques ainsi que des Noëls du monde. \nGaëtan Sauvageau\, ténor\nJulien Patenaude\, baryton\nBenoit Le Blanc\, baryton\nPhilippe Martel\, basse
URL:https://www.ludwig-van.com/montreal/event/societe-pro-musica-melodines-de-noel-quartom/
LOCATION:Piano nobile de la Place des Arts\, 175 rue Sainte-Catherine Ouest\, Montréal\, Québec\, H2X 1Y9\, Canada
CATEGORIES:Holiday,Vocal
ATTACH;FMTTYPE=image/jpeg:https://www.ludwig-van.com/montreal/wp-content/uploads/sites/3/2017/10/Quartom-calendrier.jpg
ORGANIZER;CN="Soci%C3%A9t%C3%A9%20Pro%20Musica":MAILTO:concerts@promusica.qc.ca
GEO:45.5085143;-73.5656277
X-APPLE-STRUCTURED-LOCATION;VALUE=URI;X-ADDRESS=Piano nobile de la Place des Arts 175 rue Sainte-Catherine Ouest Montréal Québec H2X 1Y9 Canada;X-APPLE-RADIUS=500;X-TITLE=175 rue Sainte-Catherine Ouest:geo:-73.5656277,45.5085143
END:VEVENT
END:VCALENDAR