BEGIN:VCALENDAR
VERSION:2.0
PRODID:-//Ludwig Van Montreal - ECPv5.9.1//NONSGML v1.0//EN
CALSCALE:GREGORIAN
METHOD:PUBLISH
X-WR-CALNAME:Ludwig Van Montreal
X-ORIGINAL-URL:https://www.ludwig-van.com/montreal
X-WR-CALDESC:évènements pour Ludwig Van Montreal
BEGIN:VTIMEZONE
TZID:America/Toronto
BEGIN:DAYLIGHT
TZOFFSETFROM:-0500
TZOFFSETTO:-0400
TZNAME:EDT
DTSTART:20170312T070000
END:DAYLIGHT
BEGIN:STANDARD
TZOFFSETFROM:-0400
TZOFFSETTO:-0500
TZNAME:EST
DTSTART:20171105T060000
END:STANDARD
END:VTIMEZONE
BEGIN:VEVENT
DTSTART;TZID=America/Toronto:20171203T140000
DTEND;TZID=America/Toronto:20171203T153000
DTSTAMP:20260421T131312
CREATED:20171113T182836Z
LAST-MODIFIED:20171113T182836Z
UID:49698-1512309600-1512315000@www.ludwig-van.com
SUMMARY:Fondation Arte Musica | Fantaisies de Noël
DESCRIPTION:Redécouvrez des airs de Noël connus et aimés de tous dans de magnifiques arrangements qui mettent en valeur les sonorités envoûtantes de la harpe. Valérie Milot et Antoine Bareil  nous offrent un moment de sérénité avant le tourbillon des Fêtes. \n\nVALÉRIE MILOT\, harpe\nANTOINE BAREIL\, violon
URL:https://www.ludwig-van.com/montreal/event/fondation-arte-musica-fantaisies-de-noel/
LOCATION:Salle Bourgie\, 1339 rue Sherbrooke Ouest\, Montréal\, Québec\, H3G 1G2\, Canada
CATEGORIES:Chamber music,Harp,Holiday,Violin
ATTACH;FMTTYPE=image/jpeg:https://www.ludwig-van.com/montreal/wp-content/uploads/sites/3/2017/11/Valerie-Milot-Antoine-Bareil-photo-Eve-Leclerc-Studio-Perspective-calendrier.jpg
GEO:45.4991991;-73.57963
X-APPLE-STRUCTURED-LOCATION;VALUE=URI;X-ADDRESS=Salle Bourgie 1339 rue Sherbrooke Ouest Montréal Québec H3G 1G2 Canada;X-APPLE-RADIUS=500;X-TITLE=1339 rue Sherbrooke Ouest:geo:-73.57963,45.4991991
END:VEVENT
END:VCALENDAR