BEGIN:VCALENDAR
VERSION:2.0
PRODID:-//Ludwig Van Montreal - ECPv5.9.1//NONSGML v1.0//EN
CALSCALE:GREGORIAN
METHOD:PUBLISH
X-WR-CALNAME:Ludwig Van Montreal
X-ORIGINAL-URL:https://www.ludwig-van.com/montreal
X-WR-CALDESC:évènements pour Ludwig Van Montreal
BEGIN:VTIMEZONE
TZID:America/Toronto
BEGIN:DAYLIGHT
TZOFFSETFROM:-0500
TZOFFSETTO:-0400
TZNAME:EDT
DTSTART:20170312T070000
END:DAYLIGHT
BEGIN:STANDARD
TZOFFSETFROM:-0400
TZOFFSETTO:-0500
TZNAME:EST
DTSTART:20171105T060000
END:STANDARD
END:VTIMEZONE
BEGIN:VEVENT
DTSTART;TZID=America/Toronto:20171201T193000
DTEND;TZID=America/Toronto:20171201T213000
DTSTAMP:20260421T094636
CREATED:20171025T000023Z
LAST-MODIFIED:20171120T034324Z
UID:49134-1512156600-1512163800@www.ludwig-van.com
SUMMARY:Orchestre de chambre McGill | La résurrection de Monsieur Händel
DESCRIPTION:G. F. Haendel: Le Messie\nRécit musical sur la création du Messie par Paul Audet \nEn collaboration avec le choeur de l’Église St-Andrew et St-Paul \nHélène Brunet\, soprano\nDaniel Taylor\, contre-ténor\nIsaiah Bell\, ténor\nJoel Allison\, basse-baryton \nJoignez-vous à nous à la somptueuse Église Saint-Jean-Baptiste pour une variation narrée du Messie de Handel\, écrite et mise en scène par Pierre Audet. Mettant en vedette nos exceptionnels solistes\, le Choeur de l’Église St-Andrew et St-Paul\, cette production fait le lien entre la vie de Handel et son célèbre oratorio. \n« La résurrection de Monsieur Händel » \nRécit musical sur la création du Messie \nLuc Guérin dans le rôle du domestique de Händel \nTexte et mise en scène de Pierre Audet \nJoin us at the sumptuous Saint-Jean-Baptiste Church for a narrated variation of Handel’s Messiah\, written and staged by Pierre Audet. Featuring our outstanding soloists\, the Church of St. Andrew & St. Paul Choir\, this production will link Handel’s life with his famous oratorio.
URL:https://www.ludwig-van.com/montreal/event/orchestre-de-chambre-mcgill-messie-recit-musical/
LOCATION:Église Saint-Jean-Baptiste\, 4237\, avenue Henri-Julien\, Montréal\, Québec\, H2W 2K7\, Canada
CATEGORIES:Holiday,Musical Theatre,Vocal
ATTACH;FMTTYPE=image/jpeg:https://www.ludwig-van.com/montreal/wp-content/uploads/sites/3/2017/10/15542412_1385859144760412_3439442916480640884_n.jpg
ORGANIZER;CN="Orchestre%20classique%20de%20Montr%C3%A9al%20%2F%20Montr%C3%A9al%20Classical%20Orchestra":MAILTO:info@ocm-mco.org
GEO:45.5211996;-73.5799119
X-APPLE-STRUCTURED-LOCATION;VALUE=URI;X-ADDRESS=Église Saint-Jean-Baptiste 4237 avenue Henri-Julien Montréal Québec H2W 2K7 Canada;X-APPLE-RADIUS=500;X-TITLE=4237\, avenue Henri-Julien:geo:-73.5799119,45.5211996
END:VEVENT
END:VCALENDAR