BEGIN:VCALENDAR
VERSION:2.0
PRODID:-//Ludwig Van Montreal - ECPv5.9.1//NONSGML v1.0//EN
CALSCALE:GREGORIAN
METHOD:PUBLISH
X-WR-CALNAME:Ludwig Van Montreal
X-ORIGINAL-URL:https://www.ludwig-van.com/montreal
X-WR-CALDESC:évènements pour Ludwig Van Montreal
BEGIN:VTIMEZONE
TZID:America/Toronto
BEGIN:DAYLIGHT
TZOFFSETFROM:-0500
TZOFFSETTO:-0400
TZNAME:EDT
DTSTART:20170312T070000
END:DAYLIGHT
BEGIN:STANDARD
TZOFFSETFROM:-0400
TZOFFSETTO:-0500
TZNAME:EST
DTSTART:20171105T060000
END:STANDARD
END:VTIMEZONE
BEGIN:VEVENT
DTSTART;TZID=America/Toronto:20171130T193000
DTEND;TZID=America/Toronto:20171130T213000
DTSTAMP:20260421T075215
CREATED:20171024T221638Z
LAST-MODIFIED:20171024T221638Z
UID:49130-1512070200-1512077400@www.ludwig-van.com
SUMMARY:Orchestre de chambre McGill | Messie traditionnel
DESCRIPTION:F. Haendel: Le Messie\nVersion traditionnelle\n\nEn collaboration avec le choeur de l’Église St-Andrew et St-Paul \nHélène Brunet\, soprano\nDaniel Taylor\, contre-ténor\nIsaiah Bell\, ténor\nJoel Allison\, baryton-basse \nJoignez-vous à nous dans la magnifique Église St-Andrew & St-Paul\, pour ce Messie dans sa version traditionnelle. Une tradition annuelle qui perdure depuis plus d’un quart de siècle\, mettant en vedette quatre fantastiques solistes canadiens ainsi que le Choeur de l’Église St-Andrew & St-Paul. \nJoin us in Montreal’s Golden Mile at the Church of St. Andrew & St. Paul for the original complete Messiah\, as we have presented annually for over a quarter century\, featuring a fantastic Canadian cast as well as the Church of St. Andrew & St. Paul Choir.
URL:https://www.ludwig-van.com/montreal/event/orchestre-de-chambre-mcgill-messie-traditionnel/
LOCATION:Église St. Andrew & St. Paul\, 3415\, Rue Redpath (entrée sur Sherbrooke)\, Montréal\, Québec\, H3G 2G2\, Canada
CATEGORIES:Holiday,Vocal
ATTACH;FMTTYPE=image/jpeg:https://www.ludwig-van.com/montreal/wp-content/uploads/sites/3/2017/10/15542412_1385859144760412_3439442916480640884_n.jpg
ORGANIZER;CN="Orchestre%20classique%20de%20Montr%C3%A9al%20%2F%20Montr%C3%A9al%20Classical%20Orchestra":MAILTO:info@ocm-mco.org
GEO:45.498342;-73.5809527
X-APPLE-STRUCTURED-LOCATION;VALUE=URI;X-ADDRESS=Église St. Andrew & St. Paul 3415 Rue Redpath (entrée sur Sherbrooke) Montréal Québec H3G 2G2 Canada;X-APPLE-RADIUS=500;X-TITLE=3415\, Rue Redpath (entrée sur Sherbrooke):geo:-73.5809527,45.498342
END:VEVENT
END:VCALENDAR