BEGIN:VCALENDAR
VERSION:2.0
PRODID:-//Ludwig Van Montreal - ECPv5.9.1//NONSGML v1.0//EN
CALSCALE:GREGORIAN
METHOD:PUBLISH
X-WR-CALNAME:Ludwig Van Montreal
X-ORIGINAL-URL:https://www.ludwig-van.com/montreal
X-WR-CALDESC:évènements pour Ludwig Van Montreal
BEGIN:VTIMEZONE
TZID:America/Toronto
BEGIN:DAYLIGHT
TZOFFSETFROM:-0500
TZOFFSETTO:-0400
TZNAME:EDT
DTSTART:20220313T070000
END:DAYLIGHT
BEGIN:STANDARD
TZOFFSETFROM:-0400
TZOFFSETTO:-0500
TZNAME:EST
DTSTART:20221106T060000
END:STANDARD
END:VTIMEZONE
BEGIN:VEVENT
DTSTART;TZID=America/Toronto:20220302T190000
DTEND;TZID=America/Toronto:20220302T200000
DTSTAMP:20260421T065900
CREATED:20220214T132648Z
LAST-MODIFIED:20220214T132648Z
UID:69471-1646247600-1646251200@www.ludwig-van.com
SUMMARY:Quatuor Bozzini - Innamorati
DESCRIPTION:Innamorati est une suite de courtes pièces de musique contemporaine interprétées par quatre musiciens lumineux et librement illustrées par deux marionnettistes bienveillants. \nAlors que Colombine s’élève et que Zanni tente de rattraper ses pieds\, des oiseaux bavardent et des musiciens jouent du ressort. Ces amoureux improbables se rencontrent sur une feuille de papier ou ils s’entremêlent pour gagner une ultime course contre la mort. \nPrésenté en co-diffusion avec Le Vivier. \n 
URL:https://www.ludwig-van.com/montreal/event/quatuor-bozzini-innamorati/2022-03-02/
LOCATION:Théâtre Outremont\, 1248 Avenue Bernard\, Montréal\, Québec\, H2V 1V6\, Canada
CATEGORIES:Contemporary Music
ATTACH;FMTTYPE=image/jpeg:https://www.ludwig-van.com/montreal/wp-content/uploads/sites/3/2022/02/Innamorati.jpg
ORGANIZER;CN="Quatuor%20Bozzini":MAILTO:projet@quatuorbozzini.ca
GEO:45.5199436;-73.6086699
X-APPLE-STRUCTURED-LOCATION;VALUE=URI;X-ADDRESS=Théâtre Outremont 1248 Avenue Bernard Montréal Québec H2V 1V6 Canada;X-APPLE-RADIUS=500;X-TITLE=1248 Avenue Bernard:geo:-73.6086699,45.5199436
END:VEVENT
END:VCALENDAR