BEGIN:VCALENDAR
VERSION:2.0
PRODID:-//Ludwig Van Montreal - ECPv5.9.1//NONSGML v1.0//EN
CALSCALE:GREGORIAN
METHOD:PUBLISH
X-WR-CALNAME:Ludwig Van Montreal
X-ORIGINAL-URL:https://www.ludwig-van.com/montreal
X-WR-CALDESC:évènements pour Ludwig Van Montreal
BEGIN:VTIMEZONE
TZID:America/Toronto
BEGIN:DAYLIGHT
TZOFFSETFROM:-0500
TZOFFSETTO:-0400
TZNAME:EDT
DTSTART:20180311T070000
END:DAYLIGHT
BEGIN:STANDARD
TZOFFSETFROM:-0400
TZOFFSETTO:-0500
TZNAME:EST
DTSTART:20181104T060000
END:STANDARD
END:VTIMEZONE
BEGIN:VEVENT
DTSTART;TZID=America/Toronto:20181124T200000
DTEND;TZID=America/Toronto:20181124T220000
DTSTAMP:20260420T223520
CREATED:20181107T193233Z
LAST-MODIFIED:20181107T193233Z
UID:57359-1543089600-1543096800@www.ludwig-van.com
SUMMARY:Maison de la musique de Sorel-Tracy | Tessala baroque trio
DESCRIPTION:Ensemble Tessala est la rencontre de trois musiciens provenant d’horizons distincts. Passionnés de musiques anciennes\, autant classiques que liturgiques ou populaires\, ils revisitent notamment les mélodies arabo-andalouses\, juives ou baroques\, allant même jusqu’à se ré-approprier des airs du folklore québécois. \nTout en respectant l’esthétique propre à chacune de ses influences\, Ensemble Tessala présente son répertoire sous une forme contemporaine élaborant des arrangements originaux qui laissent place à l’improvisation. \nEnsemble Tessala est composé de trois instruments maîtres : la guitare classique\, jouée par Samuel Bonnet\, la percussion orientale (Riqq & Bendir) par Nathaniel Huard et l’Oud\, par Khalil Moqadem.
URL:https://www.ludwig-van.com/montreal/event/maison-de-musique-de-sorel-tracy-tessala-baroque-trio/
LOCATION:Maison de la musique de Sorel-Tracy\, 124 Rue George\, Sorel-Tracy\, Québec\, J3P 1C6\, Canada
CATEGORIES:classical guitar,Guitar,percussion,Period ensemble,World Music
ATTACH;FMTTYPE=image/jpeg:https://www.ludwig-van.com/montreal/wp-content/uploads/sites/3/2018/11/Tessala-baroque-trio.jpg
ORGANIZER;CN="Maison%20de%20la%20musique%20de%20Sorel-Tracy":MAILTO:clarkrebeccaanne@gmail.com
END:VEVENT
END:VCALENDAR