BEGIN:VCALENDAR
VERSION:2.0
PRODID:-//Ludwig Van Montreal - ECPv5.9.1//NONSGML v1.0//EN
CALSCALE:GREGORIAN
METHOD:PUBLISH
X-WR-CALNAME:Ludwig Van Montreal
X-ORIGINAL-URL:https://www.ludwig-van.com/montreal
X-WR-CALDESC:évènements pour Ludwig Van Montreal
BEGIN:VTIMEZONE
TZID:America/Toronto
BEGIN:DAYLIGHT
TZOFFSETFROM:-0500
TZOFFSETTO:-0400
TZNAME:EDT
DTSTART:20180311T070000
END:DAYLIGHT
BEGIN:STANDARD
TZOFFSETFROM:-0400
TZOFFSETTO:-0500
TZNAME:EST
DTSTART:20181104T060000
END:STANDARD
END:VTIMEZONE
BEGIN:VEVENT
DTSTART;TZID=America/Toronto:20180408T100000
DTEND;TZID=America/Toronto:20180408T110000
DTSTAMP:20260419T234848
CREATED:20180315T211527Z
LAST-MODIFIED:20180315T211829Z
UID:52547-1523181600-1523185200@www.ludwig-van.com
SUMMARY:Jeunesses Musicales | Le luth\, l'ami des rois
DESCRIPTION:Le luth\, l’ami des rois \nUn concert interactif qui vous plongera au coeur de l’âge d’or du luth ! \nInstrument à cordes le plus populaire de la Renaissance\, le luth\, séduisait tous les publics par sa sonorité riche et veloutée\, et son allure exotique. Les meilleurs luthistes étaient de véritables « rock stars » qui parcouraient l’Europe en tournée dans les châteaux. Même les rois et les reines en jouaient avec leurs amis et commandaient des œuvres de luth aux plus grands compositeurs. \n400 ans plus tard\, la luthiste Madeleine Owen vous invite à faire connaissance avec cet instrument raffiné et délicat\, par ses allures de bijou oriental\, et accessible par la beauté de ses mélodies. Chantez en canon comme à la cour de France\, décodez d’anciennes partitions retrouvées au château d’Élisabeth 1ère d’Angleterre\, et découvrez les pièces favorites du roi Christian IV du Danemark ! \nPublic cible : 3 ans et plus\nLangue de présentation : français \nARTISTE\nMadeleine Owen\, luth et théorbe\n\nCONCEPTION ET TEXTE\nMadeleine Owen et François Racine\n\nMISE EN SCÈNE\nFrançois Racine\n\nSCÉNOGRAPHIE\nDanaëlle Lareau\nConcertinos famille vous propose\, pour sa 14e saison\, une série de sept concerts pour les jeunes de 3 ans et plus dont deux nouveautés\, présentés les dimanches à 10 h 00 et 11 h30 à la Salle Joseph-Rouleau de la Maison André-Bourbeau des JMC. \nVenez voir et écouter la magie de la musique avec vos enfants lors d’un concert pour toute la famille!
URL:https://www.ludwig-van.com/montreal/event/jeunesses-musicales-luth-lami-rois/2018-04-08/
LOCATION:Salle Joseph-Rouleau\, 305 Avenue du Mont-Royal E\, Montréal\, Québec\, H2T 1P8\, Canada
CATEGORIES:classical guitar,Guitar,Kids
ATTACH;FMTTYPE=image/jpeg:https://www.ludwig-van.com/montreal/wp-content/uploads/sites/3/2018/03/Luth-lami-des-rois-photo-Antoine-Saito-calendrier.jpg
ORGANIZER;CN="Jeunesses%20Musicales%20du%20Canada":MAILTO:amercier@jmcanada.ca
GEO:45.5230871;-73.5838585
X-APPLE-STRUCTURED-LOCATION;VALUE=URI;X-ADDRESS=Salle Joseph-Rouleau 305 Avenue du Mont-Royal E Montréal Québec H2T 1P8 Canada;X-APPLE-RADIUS=500;X-TITLE=305 Avenue du Mont-Royal E:geo:-73.5838585,45.5230871
END:VEVENT
BEGIN:VEVENT
DTSTART;TZID=America/Toronto:20180408T140000
DTEND;TZID=America/Toronto:20180408T153000
DTSTAMP:20260419T234848
CREATED:20180308T222109Z
LAST-MODIFIED:20180308T222109Z
UID:52411-1523196000-1523201400@www.ludwig-van.com
SUMMARY:Fondation Arte Musica | Ma Belle si tu voulais…
DESCRIPTION:Les chanteurs Marc Boucher et Andréanne Brisson-Paquin recréent les plus belles romances et complaintes d’autrefois\, nous transportant de la France médiévale à la Nouvelle-France. Ils interprètent des chansons transmises par la tradition orale depuis des siècles\, telles que Belle Doëtte\, Aux marches du palais et À l’abri d’une olive\, toujours présentes dans notre patrimoine musical. \nARTISTES\n\nAndréanne Brisson-Paquin\, soprano\nMarc Boucher\, baryton\nJoannie Labelle\,  percussion\nMarie-Laurence Primeau\, viole de gambe et flûtes\nMélisande Corriveau\, viole de gambe et flûtes\nDavid Jacques\, guitares\, théorbe et basse
URL:https://www.ludwig-van.com/montreal/event/fondation-arte-musica-belle-voulais/
LOCATION:Salle Bourgie\, 1339 rue Sherbrooke Ouest\, Montréal\, Québec\, H3G 1G2\, Canada
CATEGORIES:classical guitar,Guitar,percussion,Period ensemble,viola,Vocal
ATTACH;FMTTYPE=image/jpeg:https://www.ludwig-van.com/montreal/wp-content/uploads/sites/3/2018/01/Marc-Boucher-web.jpg
GEO:45.4991991;-73.57963
X-APPLE-STRUCTURED-LOCATION;VALUE=URI;X-ADDRESS=Salle Bourgie 1339 rue Sherbrooke Ouest Montréal Québec H3G 1G2 Canada;X-APPLE-RADIUS=500;X-TITLE=1339 rue Sherbrooke Ouest:geo:-73.57963,45.4991991
END:VEVENT
END:VCALENDAR