BEGIN:VCALENDAR
VERSION:2.0
PRODID:-//Ludwig Van Montreal - ECPv5.9.1//NONSGML v1.0//EN
CALSCALE:GREGORIAN
METHOD:PUBLISH
X-WR-CALNAME:Ludwig Van Montreal
X-ORIGINAL-URL:https://www.ludwig-van.com/montreal
X-WR-CALDESC:évènements pour Ludwig Van Montreal
BEGIN:VTIMEZONE
TZID:America/Toronto
BEGIN:DAYLIGHT
TZOFFSETFROM:-0500
TZOFFSETTO:-0400
TZNAME:EDT
DTSTART:20250309T070000
END:DAYLIGHT
BEGIN:STANDARD
TZOFFSETFROM:-0400
TZOFFSETTO:-0500
TZNAME:EST
DTSTART:20251102T060000
END:STANDARD
END:VTIMEZONE
BEGIN:VEVENT
DTSTART;TZID=America/Toronto:20250504T150000
DTEND;TZID=America/Toronto:20250504T170000
DTSTAMP:20260425T140003
CREATED:20250429T201844Z
LAST-MODIFIED:20250429T201844Z
UID:87490-1746370800-1746378000@www.ludwig-van.com
SUMMARY:Orchestre philharmonique du Québec | Hollywood : L'âge d'or du cinéma
DESCRIPTION:L’essor du cinéma au XXe siècle a bouleversé l’évolution de la musique symphonique\, et certaines des plus belles partitions sont nées dans les studios de Hollywood. L’Orchestre Philharmonique du Québec et Alexandre Da Costa rendent justice aux pionniers et aux visionnaires qui\, en servant le septième art\, ont façonné un langage symphonique dont l’influence est omniprésente aujourd’hui. Max Steiner\, Elmer Bernstein\, Miklos Rozsa ou encore Erich Wolfgang Korngold font partie de cet âge d’or du cinéma hollywoodien\, dont on découvrira certaines pépites lors de ce concert avec les trames symphoniques de King Kong\, Autant en emporte le vent\, Casablanca\, Ben Hur ou Les aventures de Robin des bois. Ce répertoire haut en couleurs sera sublimé par les envolées mélodiques du Stradivarius «Deveault» 1701 d’Alexandre Da Costa! \nPROGRAMME \nFrederick Loewe\, arr. Robert Russell Bennet : My fair Lady\, ouverture \nJerry Bock : Fiddler on the Roof \nMax Steiner : King Kong\, Ouverture; Gone With the Wind; Casablanca Suit \nElmer Bernstein : The Magnificent Seven \nGeorge Gershwin\, arr. Ray Heindorf : Rhapsody in Blue\, ouverture \nMicklós Rózsa : Ben Hur\, prélude; El Cid\, thème d’amour; Le voleur de Bagdad\, ouverture \nErich Wolfgang Korngold : Les aventures de Robin des Bois \nINTERPRÈTES \nOrchestre Philharmonique du Québec\nAlexandre Da Costa\, chef et violoniste \nENTRÉE \nÀ partir de 30$
URL:https://www.ludwig-van.com/montreal/event/orchestre-philharmonique-du-quebec-hollywood-lage-dor-du-cinema/
LOCATION:Théâtre Maisonneuve\, Place des Arts\, 260 Boulevard de Maisonneuve O\, Montréal\, Québec\, H2X 1Y9\, Canada
CATEGORIES:Film,Orchestra
ATTACH;FMTTYPE=image/jpeg:https://www.ludwig-van.com/montreal/wp-content/uploads/sites/3/2025/04/OPQ_age-dor-du-cinema_cropped.jpg
GEO:45.5087977;-73.5672214
X-APPLE-STRUCTURED-LOCATION;VALUE=URI;X-ADDRESS=Théâtre Maisonneuve Place des Arts 260 Boulevard de Maisonneuve O Montréal Québec H2X 1Y9 Canada;X-APPLE-RADIUS=500;X-TITLE=260 Boulevard de Maisonneuve O:geo:-73.5672214,45.5087977
END:VEVENT
END:VCALENDAR