BEGIN:VCALENDAR
VERSION:2.0
PRODID:-//Ludwig Van Montreal - ECPv5.9.1//NONSGML v1.0//EN
CALSCALE:GREGORIAN
METHOD:PUBLISH
X-WR-CALNAME:Ludwig Van Montreal
X-ORIGINAL-URL:https://www.ludwig-van.com/montreal
X-WR-CALDESC:évènements pour Ludwig Van Montreal
BEGIN:VTIMEZONE
TZID:America/Toronto
BEGIN:DAYLIGHT
TZOFFSETFROM:-0500
TZOFFSETTO:-0400
TZNAME:EDT
DTSTART:20250309T070000
END:DAYLIGHT
BEGIN:STANDARD
TZOFFSETFROM:-0400
TZOFFSETTO:-0500
TZNAME:EST
DTSTART:20251102T060000
END:STANDARD
END:VTIMEZONE
BEGIN:VEVENT
DTSTART;TZID=America/Toronto:20250430T073000
DTEND;TZID=America/Toronto:20250430T093000
DTSTAMP:20260425T065222
CREATED:20250429T154430Z
LAST-MODIFIED:20250429T154430Z
UID:87460-1745998200-1746005400@www.ludwig-van.com
SUMMARY:Orchestre philharmonique du Québec | Brahms réinventé
DESCRIPTION:Brahms nous a légué un répertoire d’une beauté infinie\, dont certaines des plus profondes pages ont été inspirées par son amour pour l’épouse de son mentor… Cet amour complexe\, interdit et charnel reflète la puissance des sentiments les plus humains. C’est donc inspirés par cette histoire que les musiciens de l’Orchestre Philharmonique du Québec\, sous la direction d’Alexandre Da Costa\, vous proposent des relectures des œuvres préférées du compositeur ainsi que les plus grands hits de Brahms en version explosée. \n  \nPROGRAMME \ninclut \n\nSonate no 3 en fa mineur\, opus 5 – Johannes Brahms\nSymphonie no 1 en ut mineur\, opus 68 – Johannes Brahms\n\nINTERPRÈTES \nOrchestre philharmonique du Québec \nAlexandre da Costa\, direction \nENTRÉE \nRégulier : 65 $; Strapontins (confort réduit) : 55 $; Loge Desjardins : 69 $
URL:https://www.ludwig-van.com/montreal/event/orchestre-philharmonique-du-quebec-brahms-reinvente/
LOCATION:Théâtre de la Ville\, 150\, rue De Gentilly Est\, Longueuil\, Québec\, J4H 4A9\, Canada
CATEGORIES:Orchestra
ATTACH;FMTTYPE=image/jpeg:https://www.ludwig-van.com/montreal/wp-content/uploads/sites/3/2025/04/OPQ_Brahms_1200.jpg
GEO:45.5368604;-73.494749
X-APPLE-STRUCTURED-LOCATION;VALUE=URI;X-ADDRESS=Théâtre de la Ville 150 rue De Gentilly Est Longueuil Québec J4H 4A9 Canada;X-APPLE-RADIUS=500;X-TITLE=150\, rue De Gentilly Est:geo:-73.494749,45.5368604
END:VEVENT
END:VCALENDAR