BEGIN:VCALENDAR
VERSION:2.0
PRODID:-//Ludwig Van Montreal - ECPv5.9.1//NONSGML v1.0//EN
CALSCALE:GREGORIAN
METHOD:PUBLISH
X-WR-CALNAME:Ludwig Van Montreal
X-ORIGINAL-URL:https://www.ludwig-van.com/montreal
X-WR-CALDESC:évènements pour Ludwig Van Montreal
BEGIN:VTIMEZONE
TZID:America/Toronto
BEGIN:DAYLIGHT
TZOFFSETFROM:-0500
TZOFFSETTO:-0400
TZNAME:EDT
DTSTART:20250309T070000
END:DAYLIGHT
BEGIN:STANDARD
TZOFFSETFROM:-0400
TZOFFSETTO:-0500
TZNAME:EST
DTSTART:20251102T060000
END:STANDARD
END:VTIMEZONE
BEGIN:VEVENT
DTSTART;TZID=America/Toronto:20250416T193000
DTEND;TZID=America/Toronto:20250416T213000
DTSTAMP:20260424T071026
CREATED:20241026T071413Z
LAST-MODIFIED:20241026T071413Z
UID:84614-1744831800-1744839000@www.ludwig-van.com
SUMMARY:OSL | Unique : jazz symphonique avec Rieu et Belmondo
DESCRIPTION:Rencontre musicale entre la France et le Québec. Les musiciens du sextet de jazz Yannick Rieu et Lionel Belmondo aux saxophones\, Stéphane Belmondo à la trompette\, Jonathan Cayer au piano\, Rémi-Jean Leblanc à la contrebasse et Louis-Vincent Hamel à la batterie se joignent à l’OSL pour une soirée unique où le jazz et la musique symphonique se rencontrent et s’entremêlent harmonieusement.  \nPROGRAMME \nŒuvres pour sextet de jazz et orchestre basées sur Brahms et Ravel \nINTERPRÈTES \nYannick Rieu\, saxophones ténor et soprano\, compositions \nLionel Belmondo\, saxophone ténor\, flûte et compositions \nStéphane Belmondo\, trompette et flugelhorn \nJonathan Cayer\, piano \nRémi-Jean Leblanc\, contrebasse \nLouis-Vincent Hamel\, batterie \nOrchestre symphonique de Laval \nDaniel Bartholomew Poyser\, direction \nENTRÉE \nÀ partir de 62 $
URL:https://www.ludwig-van.com/montreal/event/osl-unique-jazz-symphonique-avec-rieu-et-belmondo/
LOCATION:Salle André-Mathieu\, 475 Boulevard de l'Avenir\, Laval\, Québec\, H7N 5H9\, Canada
CATEGORIES:Jazz,Orchestra
ATTACH;FMTTYPE=image/jpeg:https://www.ludwig-van.com/montreal/wp-content/uploads/sites/3/2024/02/Daniel-Bartholomew-Poyser_@RILEYSMITHPHOTO_1200.jpg
GEO:45.5599926;-73.7188476
X-APPLE-STRUCTURED-LOCATION;VALUE=URI;X-ADDRESS=Salle André-Mathieu 475 Boulevard de l'Avenir Laval Québec H7N 5H9 Canada;X-APPLE-RADIUS=500;X-TITLE=475 Boulevard de l'Avenir:geo:-73.7188476,45.5599926
END:VEVENT
END:VCALENDAR