BEGIN:VCALENDAR
VERSION:2.0
PRODID:-//Ludwig Van Montreal - ECPv5.9.1//NONSGML v1.0//EN
CALSCALE:GREGORIAN
METHOD:PUBLISH
X-WR-CALNAME:Ludwig Van Montreal
X-ORIGINAL-URL:https://www.ludwig-van.com/montreal
X-WR-CALDESC:évènements pour Ludwig Van Montreal
BEGIN:VTIMEZONE
TZID:America/Toronto
BEGIN:DAYLIGHT
TZOFFSETFROM:-0500
TZOFFSETTO:-0400
TZNAME:EDT
DTSTART:20250309T070000
END:DAYLIGHT
BEGIN:STANDARD
TZOFFSETFROM:-0400
TZOFFSETTO:-0500
TZNAME:EST
DTSTART:20251102T060000
END:STANDARD
END:VTIMEZONE
BEGIN:VEVENT
DTSTART;TZID=America/Toronto:20250404T193000
DTEND;TZID=America/Toronto:20250404T213000
DTSTAMP:20260423T115209
CREATED:20240827T020523Z
LAST-MODIFIED:20240827T020612Z
UID:83438-1743795000-1743802200@www.ludwig-van.com
SUMMARY:Arte musica - Salle Bourgie | Antoine Tamestit et les Violons du Roy : Requiem pour cordes
DESCRIPTION:Après ses débuts mémorables en 2023\, le grand altiste Antoine Tamestit revient auprès des Violons du Roy pour une nouvelle rencontre qui s’annonce tout aussi exaltante et bouleversante avec\, entre autres\, une transcription pour orchestre à cordes du 15e quatuor de Chostakovitch. \nINTERPRÈTES \n\nLes Violons du Roy\nAntoine Tamestit\, alto et chef \n\nPROGRAMME \n\nVIVALDI Sinfonia en si mineur\, RV 169\, « Al Santo Sepolcro »\nBIBER Balletti lamentabili\, C 59\nLOCATELLI Sinfonia funebre en fa mineur\nPÁRTOS Yizkor (In Memoriam) pour alto et cordes\nCHOSTAKOVITCH Quatuor à cordes n° 15 en mi bémol mineur\, op. 144 (pour orch. à cordes) \n\nENTRÉE \nRégulier : 70 $; Membres du Musée : 60 $; 34 ans ou moins : 35 $
URL:https://www.ludwig-van.com/montreal/event/arte-musica-salle-bourgie-antoine-tamestit-et-les-violons-du-roy-requiem-pour-cordes/
LOCATION:Salle Bourgie\, 1339 rue Sherbrooke Ouest\, Montréal\, Québec\, H3G 1G2\, Canada
CATEGORIES:Chamber orchestra,viola
ATTACH;FMTTYPE=image/jpeg:https://www.ludwig-van.com/montreal/wp-content/uploads/sites/3/2024/08/Antoine-Tamestit_courtoisie-Bourgie.jpeg
GEO:45.4991991;-73.57963
X-APPLE-STRUCTURED-LOCATION;VALUE=URI;X-ADDRESS=Salle Bourgie 1339 rue Sherbrooke Ouest Montréal Québec H3G 1G2 Canada;X-APPLE-RADIUS=500;X-TITLE=1339 rue Sherbrooke Ouest:geo:-73.57963,45.4991991
END:VEVENT
END:VCALENDAR