BEGIN:VCALENDAR
VERSION:2.0
PRODID:-//Ludwig Van Montreal - ECPv5.9.1//NONSGML v1.0//EN
CALSCALE:GREGORIAN
METHOD:PUBLISH
X-WR-CALNAME:Ludwig Van Montreal
X-ORIGINAL-URL:https://www.ludwig-van.com/montreal
X-WR-CALDESC:évènements pour Ludwig Van Montreal
BEGIN:VTIMEZONE
TZID:America/Toronto
BEGIN:DAYLIGHT
TZOFFSETFROM:-0500
TZOFFSETTO:-0400
TZNAME:EDT
DTSTART:20250309T070000
END:DAYLIGHT
BEGIN:STANDARD
TZOFFSETFROM:-0400
TZOFFSETTO:-0500
TZNAME:EST
DTSTART:20251102T060000
END:STANDARD
END:VTIMEZONE
BEGIN:VEVENT
DTSTART;TZID=America/Toronto:20250403T190000
DTEND;TZID=America/Toronto:20250403T210000
DTSTAMP:20260423T103429
CREATED:20240905T064310Z
LAST-MODIFIED:20240905T064310Z
UID:83729-1743706800-1743714000@www.ludwig-van.com
SUMMARY:JMC | Touches modernes : Debussy\, Descarries\, Louie
DESCRIPTION:Gabrielle Gagnon-Picard vous invite à découvrir le répertoire canadien dans une formule inédite pour piano solo. Laissez-vous émerveiller par son interprétation sensible et imprégnez-vous de la force créatrice de compositions impressionnistes et contemporaines des 100 dernières années. En parallèle avec la musique de Debussy\, ce récital unique et audacieux met de l’avant la richesse des compositions d’Auguste Descarries et de la toujours active Alexina Louie. \nINTERPRÈTE \nGabrielle Gagnon-Picard \nAPERÇU DU REPERTOIRE \nAuguste DESCARRIES (1896-1958)\nAu gré de l’onde  \nAlexina LOUIE (née en 1949)\nScenes from a jade terrace: Warrior
URL:https://www.ludwig-van.com/montreal/event/jmc-touches-modernes-debussy-descarries-louie/
LOCATION:Salle Joseph-Rouleau\, 305 Avenue du Mont-Royal E\, Montréal\, Québec\, H2T 1P8\, Canada
CATEGORIES:piano
ATTACH;FMTTYPE=image/png:https://www.ludwig-van.com/montreal/wp-content/uploads/sites/3/2024/09/Touches-Modernes-Piano-Jeunesses-Musicales-Canada.png
ORGANIZER;CN="Jeunesses%20Musicales%20du%20Canada":MAILTO:amercier@jmcanada.ca
GEO:45.5230871;-73.5838585
X-APPLE-STRUCTURED-LOCATION;VALUE=URI;X-ADDRESS=Salle Joseph-Rouleau 305 Avenue du Mont-Royal E Montréal Québec H2T 1P8 Canada;X-APPLE-RADIUS=500;X-TITLE=305 Avenue du Mont-Royal E:geo:-73.5838585,45.5230871
END:VEVENT
BEGIN:VEVENT
DTSTART;TZID=America/Toronto:20250403T193000
DTEND;TZID=America/Toronto:20250403T213000
DTSTAMP:20260423T103429
CREATED:20240624T202439Z
LAST-MODIFIED:20250331T164911Z
UID:82407-1743708600-1743715800@www.ludwig-van.com
SUMMARY:I Musici | Jeunesse éternelle
DESCRIPTION:On ne vantera jamais assez la richesse et le caractère innovateur de la musique des compositeurs dans leur période de jeunesse.  On pense immédiatement au très jeune Mozart du Divertimento K. 136 que vous entendrez à la fin de ce concert.  Haydn\, quant à lui\, avait 30 ans lorsqu’il a composé son premier concerto pour violoncelle et déjà\, à ce moment\, dans les années 1760\, il témoigne de sa maîtrise absolue de l’écriture des instruments à cordes\, et inventera carrément la période classique (avec un brin d’aide de la part de Carl Philipp Emmanuel Bach…).  Mais le prodige le plus précoce de toute la belle histoire de notre musique européenne\, c’est bel et bien Mendelssohn.  Il a écrit ses 12 superbes symphonies pour cordes entre 12 et 14 ans\, et elles sont d’une telle maturité\, d’une telle ingéniosité que c’est presque incroyable.  Et puis\, tant qu’à y être\, saviez-vous que Stéphane Tétreault a joué en solo avec I Musici (et Yuli Turovsky) la première fois à l’âge de 11 ans? \n– Jean-François Rivest \n\n\n\n\n\n\n\n\n\nENTRÉE \nRégulier : 55 $; Aîné : 50 $; 35 ans et moins : 35 $; Étudiant : 20 $
URL:https://www.ludwig-van.com/montreal/event/musici-carte-blanche-sarahmee/
LOCATION:Salle Pierre-Mercure — Centre Pierre-Péladeau\, 300\, boulevard de Maisonneuve Est\, Montréal\, Québec\, H2X 3X6\, Canada
CATEGORIES:Chamber orchestra,crossover
ATTACH;FMTTYPE=image/jpeg:https://www.ludwig-van.com/montreal/wp-content/uploads/sites/3/2025/03/Stephane-Tetreault.jpg
ORGANIZER;CN="I%20Musici%20de%20Montr%C3%A9al":MAILTO:info@imusici.com
GEO:45.5137738;-73.5621857
X-APPLE-STRUCTURED-LOCATION;VALUE=URI;X-ADDRESS=Salle Pierre-Mercure — Centre Pierre-Péladeau 300 boulevard de Maisonneuve Est Montréal Québec H2X 3X6 Canada;X-APPLE-RADIUS=500;X-TITLE=300\, boulevard de Maisonneuve Est:geo:-73.5621857,45.5137738
END:VEVENT
END:VCALENDAR