BEGIN:VCALENDAR
VERSION:2.0
PRODID:-//Ludwig Van Montreal - ECPv5.9.1//NONSGML v1.0//EN
CALSCALE:GREGORIAN
METHOD:PUBLISH
X-WR-CALNAME:Ludwig Van Montreal
X-ORIGINAL-URL:https://www.ludwig-van.com/montreal
X-WR-CALDESC:évènements pour Ludwig Van Montreal
BEGIN:VTIMEZONE
TZID:America/Toronto
BEGIN:DAYLIGHT
TZOFFSETFROM:-0500
TZOFFSETTO:-0400
TZNAME:EDT
DTSTART:20250309T070000
END:DAYLIGHT
BEGIN:STANDARD
TZOFFSETFROM:-0400
TZOFFSETTO:-0500
TZNAME:EST
DTSTART:20251102T060000
END:STANDARD
END:VTIMEZONE
BEGIN:VEVENT
DTSTART;TZID=America/Toronto:20250322T193000
DTEND;TZID=America/Toronto:20250322T213000
DTSTAMP:20260422T135939
CREATED:20250224T180215Z
LAST-MODIFIED:20250224T180344Z
UID:84449-1742671800-1742679000@www.ludwig-van.com
SUMMARY:CHOEUR ST-LAURENT | Destinées
DESCRIPTION:L’oratorio brûlant de Walton\, Belshazzar’s Feast\, composé pour baryton\, chœur et orchestre\, est basé sur l’incroyable histoire du roi babylonien Belshazzar\, dans laquelle se trouve la fameuse scène du festin\, où une main apparaît et écrit prophétiquement un message divin sur le mur. Souvent comparé à Carmina Burana de Carl Orff en raison de sa vigueur rythmique et de sa splendeur barbare\, Belshazzar’s Feast est aujourd’hui considéré comme l’une des meilleures œuvres chorales britanniques de grande envergure depuis The Dream of Gerontius d’Elgar. \nÀ l’œuvre grandiose de William Walton on oppose ce soir la cantate nostalgique d’Edward Elgar\, autre compositeur éminent de la Grande-Bretagne\, The Music Makers où l’on peut entendre plusieurs citations de ses propres œuvres. La pièce reprend le texte d’Arthur O’Shaughnessy\, Music and Moonlight (1874)\, inspiré par l’idée que les artistes sont les vrais créateurs et artisans de l’Histoire et de la société. \nPROGRAMME \nWilliam Walton : Belshazzar’s Feast \nEdward Elgar : The Music Makers \nINTERPRÈTES \nChœur St-Laurent \nChœur de l’Université de Montréal \nOrchestre du Chœur St-Laurent \nPhilippe Bourque\, direction \nRose Naggar-Tremblay\, contralto \nJorell William\, Baryton \nENTRÉE \n65\,89 $ à 115\,18 $
URL:https://www.ludwig-van.com/montreal/event/choeur-st-laurent-destinees/
LOCATION:Maison Symphonique\, 1600 rue St-Urbain\, Montréal\, Québec\, H2S0X1\, Canada
CATEGORIES:choeur,Orchestra
ATTACH;FMTTYPE=image/jpeg:https://www.ludwig-van.com/montreal/wp-content/uploads/sites/3/2025/02/Billeterie_Destinees.jpg
ORGANIZER;CN="Choeur%20St-Laurent":MAILTO:info@choeur.qc.ca
GEO:45.5310103;-73.613956
X-APPLE-STRUCTURED-LOCATION;VALUE=URI;X-ADDRESS=Maison Symphonique 1600 rue St-Urbain Montréal Québec H2S0X1 Canada;X-APPLE-RADIUS=500;X-TITLE=1600 rue St-Urbain:geo:-73.613956,45.5310103
END:VEVENT
END:VCALENDAR