BEGIN:VCALENDAR
VERSION:2.0
PRODID:-//Ludwig Van Montreal - ECPv5.9.1//NONSGML v1.0//EN
CALSCALE:GREGORIAN
METHOD:PUBLISH
X-WR-CALNAME:Ludwig Van Montreal
X-ORIGINAL-URL:https://www.ludwig-van.com/montreal
X-WR-CALDESC:évènements pour Ludwig Van Montreal
BEGIN:VTIMEZONE
TZID:America/Toronto
BEGIN:DAYLIGHT
TZOFFSETFROM:-0500
TZOFFSETTO:-0400
TZNAME:EDT
DTSTART:20250309T070000
END:DAYLIGHT
BEGIN:STANDARD
TZOFFSETFROM:-0400
TZOFFSETTO:-0500
TZNAME:EST
DTSTART:20251102T060000
END:STANDARD
END:VTIMEZONE
BEGIN:VEVENT
DTSTART;TZID=America/Toronto:20250315T150000
DTEND;TZID=America/Toronto:20250315T170000
DTSTAMP:20260422T015128
CREATED:20250103T054909Z
LAST-MODIFIED:20250103T054909Z
UID:85698-1742050800-1742058000@www.ludwig-van.com
SUMMARY:Instruments of Happiness | Deux guitares\, deux générations : Matthew Warren Ruth et Tim Brady
DESCRIPTION:Deux virtuoses de la guitare réunis sur scène! \nLe concert met en vedette deux guitaristes de talent : Matthew Warren Ruth et Tim Brady. Le jeune compositeur et guitariste Matthew Warren Ruth ouvrira la soirée avec ses compositions originales et autres oeuvres du répertoire pour guitare électrique solo. Récipiendaire d’un prix SOCAN pour sa pièce pour quatuor de guitares électriques\, Matthew explore les frontières de la musique contemporaine avec une énergie débordante. En deuxième partie\, Tim Brady\, figure incontournable de la scène musicale montréalaise\, interprétera des extraits de sa récente œuvre Symphony in 18 Parts for Solo Electric Guitar\, saluée par le New York Times. Le public pourra également découvrir sa nouvelle création For Electric Guitar\, spécialement composée pour ce concert. \nUne production de Bradyworks en codiffusion avec Le Vivier. \nPROGRAMME \nMatthew Warren Ruth: Créations (2024 – 25) – 25’\nTim Brady : Symphony in 18 Parts for Solo Electric Guitar (2021-22) (extraits) – 20’\nTim Brady : For Electric Guitar (2024) – création – 25’ \nINTERPRÈTES \nTim Brady \nMatthew Warren Ruth \nENTRÉE \nBillet solidaire : 35 $; Billet régulier : 25 $; Étudiant : 15 $
URL:https://www.ludwig-van.com/montreal/event/instruments-happiness-deux-guitares-deux-generations-matthew-warren-ruth-et-tim-brady/
LOCATION:La Chapelle Scènes Contemporaines\, 3700 rue St-Dominique\, Montréal\, Québec\, H2X 2X7\, Canada
CATEGORIES:Contemporary Music
ATTACH;FMTTYPE=image/jpeg:https://www.ludwig-van.com/montreal/wp-content/uploads/sites/3/2018/10/Two-Guitars_Brady-and-Warren-Ruth.jpg
ORGANIZER;CN="Bradyworks":MAILTO:tim@timbrady.ca
GEO:45.5149262;-73.5736841
X-APPLE-STRUCTURED-LOCATION;VALUE=URI;X-ADDRESS=La Chapelle Scènes Contemporaines 3700 rue St-Dominique Montréal Québec H2X 2X7 Canada;X-APPLE-RADIUS=500;X-TITLE=3700 rue St-Dominique:geo:-73.5736841,45.5149262
END:VEVENT
BEGIN:VEVENT
DTSTART;TZID=America/Toronto:20250315T193000
DTEND;TZID=America/Toronto:20250315T210000
DTSTAMP:20260422T015128
CREATED:20250213T043358Z
LAST-MODIFIED:20250213T043358Z
UID:86291-1742067000-1742072400@www.ludwig-van.com
SUMMARY:OSJM | Musica esplorativa
DESCRIPTION:Composées comme des invitations à l’exploration\, les œuvres de ce concert brisent les codes à leur façon pour prendre la liberté de la découverte. Un regard\, une exploration de soi et du monde pour ressentir la puissance de nos émotions et de leur rayonnement autour et en nous. \nPROGRAMME \nDevenir : Hymne de l’Ordre National du Québec – Steve Barakatt \nConcerto pour violon no 1 – Dmitri Shostakovich\nDabin Zoey Yang\, Lauréate du Prix d’Europe 2024 \nLes planètes – Gustav Holst \nINTERPRÈTES \nDabin Zoey Yang\, Lauréate du Prix d’Europe 2024 \nOrchestre symphonique des jeunes de Montréal \nLouis Lavigueur\, direction \nENTRÉE \nRégulier : 36\,15 $; Étudiant : 21\,15 $
URL:https://www.ludwig-van.com/montreal/event/osjm-musica-esplorativa/
LOCATION:Salle Claude-Champagne\, 220\, avenue Vincent-d'Indy\, Montréal\, Québec\, H2V 2T2\, Canada
CATEGORIES:Orchestra
ATTACH;FMTTYPE=image/jpeg:https://www.ludwig-van.com/montreal/wp-content/uploads/sites/3/2025/02/Affiche_LdM.jpeg
GEO:45.5094594;-73.6100599
X-APPLE-STRUCTURED-LOCATION;VALUE=URI;X-ADDRESS=Salle Claude-Champagne 220 avenue Vincent-d'Indy Montréal Québec H2V 2T2 Canada;X-APPLE-RADIUS=500;X-TITLE=220\, avenue Vincent-d'Indy:geo:-73.6100599,45.5094594
END:VEVENT
END:VCALENDAR