BEGIN:VCALENDAR
VERSION:2.0
PRODID:-//Ludwig Van Montreal - ECPv5.9.1//NONSGML v1.0//EN
CALSCALE:GREGORIAN
METHOD:PUBLISH
X-WR-CALNAME:Ludwig Van Montreal
X-ORIGINAL-URL:https://www.ludwig-van.com/montreal
X-WR-CALDESC:évènements pour Ludwig Van Montreal
BEGIN:VTIMEZONE
TZID:America/Toronto
BEGIN:DAYLIGHT
TZOFFSETFROM:-0500
TZOFFSETTO:-0400
TZNAME:EDT
DTSTART:20250309T070000
END:DAYLIGHT
BEGIN:STANDARD
TZOFFSETFROM:-0400
TZOFFSETTO:-0500
TZNAME:EST
DTSTART:20251102T060000
END:STANDARD
END:VTIMEZONE
BEGIN:VEVENT
DTSTART;TZID=America/Toronto:20250313T190000
DTEND;TZID=America/Toronto:20250313T210000
DTSTAMP:20260421T215622
CREATED:20240905T063931Z
LAST-MODIFIED:20240905T063931Z
UID:83725-1741892400-1741899600@www.ludwig-van.com
SUMMARY:JMC | La guitare aux milles sonorités : de Bach à aujourd'hui
DESCRIPTION:Originaire de la Montérégie\, Tommy Dupuis vous propose de célébrer les sonorités de la guitare classique à travers des pièces d’inspirations africaines\, balkaniques et sud-américaines\, des arrangements\, et des techniques inusitées. Plongez dans son univers musical avec un répertoire allant de Bach à Chopin\, en passant par Brouwer et découvrez des œuvres originales de compositeurs canadiens spécialement écrites pour Tommy. \nINTERPRÈTE \nTommy Dupuis\, guitare classique \nAPERÇU DU REPERTOIRE \nJohann Sebastian BACH (1685-1750)\nPartita no 2 pour violon en ré mineur\, BWV 1004\nI. Allemande \nLeo BROUWER (né en 1939)\nHika \nIn memoriam Toru Takemitsu par Leo Brouwer\nAutorisé par Ediciones Espiral Eterna https://www.eeebrouwer.com
URL:https://www.ludwig-van.com/montreal/event/jmc-la-guitare-aux-milles-sonorites-de-bach-aujourdhui/
LOCATION:Salle Joseph-Rouleau\, 305 Avenue du Mont-Royal E\, Montréal\, Québec\, H2T 1P8\, Canada
CATEGORIES:Guitar
ATTACH;FMTTYPE=image/png:https://www.ludwig-van.com/montreal/wp-content/uploads/sites/3/2024/09/La-Guitare-Aux-Mille-Sonorites-Jeunesses-Musicales-Canada.png
ORGANIZER;CN="Jeunesses%20Musicales%20du%20Canada":MAILTO:amercier@jmcanada.ca
GEO:45.5230871;-73.5838585
X-APPLE-STRUCTURED-LOCATION;VALUE=URI;X-ADDRESS=Salle Joseph-Rouleau 305 Avenue du Mont-Royal E Montréal Québec H2T 1P8 Canada;X-APPLE-RADIUS=500;X-TITLE=305 Avenue du Mont-Royal E:geo:-73.5838585,45.5230871
END:VEVENT
END:VCALENDAR