BEGIN:VCALENDAR
VERSION:2.0
PRODID:-//Ludwig Van Montreal - ECPv5.9.1//NONSGML v1.0//EN
CALSCALE:GREGORIAN
METHOD:PUBLISH
X-WR-CALNAME:Ludwig Van Montreal
X-ORIGINAL-URL:https://www.ludwig-van.com/montreal
X-WR-CALDESC:évènements pour Ludwig Van Montreal
BEGIN:VTIMEZONE
TZID:America/Toronto
BEGIN:DAYLIGHT
TZOFFSETFROM:-0500
TZOFFSETTO:-0400
TZNAME:EDT
DTSTART:20250309T070000
END:DAYLIGHT
BEGIN:STANDARD
TZOFFSETFROM:-0400
TZOFFSETTO:-0500
TZNAME:EST
DTSTART:20251102T060000
END:STANDARD
END:VTIMEZONE
BEGIN:VEVENT
DTSTART;TZID=America/Toronto:20250306T193000
DTEND;TZID=America/Toronto:20250306T193000
DTSTAMP:20260421T090119
CREATED:20240624T212148Z
LAST-MODIFIED:20240624T212148Z
UID:82419-1741289400-1741289400@www.ludwig-van.com
SUMMARY:I Musici | Les tableaux d'une exposition
DESCRIPTION:Les tableaux d’une exposition constituent un des exemples les plus frappant de musique à programme.  Du Gnome à la sorcière Baba Yaga\, du Jardin des Tuileries au Vieux Château en Italie\, des Catacombes à la Grande porte de Kiev\, ce chef-d’œuvre magistral\, accompagné du magnifique film d’animation Tableaux dansants de Natascha Turovski\, saura vous transporter aux confins de votre imaginaire. Alexandre Tharaud\, quant à lui\, est un des pianistes les plus en vue et les plus aimés sur la scène internationale. Ce concert vous propose en outre la deuxième partie de la création de Keiko Devaux\, mettant l’emphase sur l’incroyable résilience de la nature face à la pollution sonore dans l’eau\, à laquelle la parole de Christine Beaulieu fera écho. \n– Jean-François Rivest \nENTRÉE \nRégulier : 55 $; Aîné : 50 $; 35 ans et moins : 35 $; Étudiant : 20 $
URL:https://www.ludwig-van.com/montreal/event/musici-les-tableaux-dune-exposition/
LOCATION:Salle Pierre-Mercure — Centre Pierre-Péladeau\, 300\, boulevard de Maisonneuve Est\, Montréal\, Québec\, H2X 3X6\, Canada
CATEGORIES:Chamber orchestra,piano
ATTACH;FMTTYPE=image/jpeg:https://www.ludwig-van.com/montreal/wp-content/uploads/sites/3/2024/06/Alexandre-Tharaud.jpg
ORGANIZER;CN="I%20Musici%20de%20Montr%C3%A9al":MAILTO:info@imusici.com
GEO:45.5137738;-73.5621857
X-APPLE-STRUCTURED-LOCATION;VALUE=URI;X-ADDRESS=Salle Pierre-Mercure — Centre Pierre-Péladeau 300 boulevard de Maisonneuve Est Montréal Québec H2X 3X6 Canada;X-APPLE-RADIUS=500;X-TITLE=300\, boulevard de Maisonneuve Est:geo:-73.5621857,45.5137738
END:VEVENT
END:VCALENDAR