BEGIN:VCALENDAR
VERSION:2.0
PRODID:-//Ludwig Van Montreal - ECPv5.9.1//NONSGML v1.0//EN
CALSCALE:GREGORIAN
METHOD:PUBLISH
X-WR-CALNAME:Ludwig Van Montreal
X-ORIGINAL-URL:https://www.ludwig-van.com/montreal
X-WR-CALDESC:évènements pour Ludwig Van Montreal
BEGIN:VTIMEZONE
TZID:America/Toronto
BEGIN:DAYLIGHT
TZOFFSETFROM:-0500
TZOFFSETTO:-0400
TZNAME:EDT
DTSTART:20250309T070000
END:DAYLIGHT
BEGIN:STANDARD
TZOFFSETFROM:-0400
TZOFFSETTO:-0500
TZNAME:EST
DTSTART:20251102T060000
END:STANDARD
END:VTIMEZONE
BEGIN:VEVENT
DTSTART;TZID=America/Toronto:20250213T193000
DTEND;TZID=America/Toronto:20250213T213000
DTSTAMP:20260419T221421
CREATED:20240826T021835Z
LAST-MODIFIED:20240826T024021Z
UID:83364-1739475000-1739482200@www.ludwig-van.com
SUMMARY:Arte Musica - Salle Bourgie | Le Chant du cygne de Schubert
DESCRIPTION:Le Chant du cygne regroupe les 14 derniers lieder écrits par Schubert avant sa mort à l’âge de 31 ans. Benjamin Appl et Eric Lu\, deux interprètes réputés que tout destine à l’art schubertien\, joignent leurs forces dans ce programme riche en émotions. \nINTERPRÈTES \n\nBenjamin Appl\, baryton\nEric Lu\, piano \nPROGRAMME \n\nBEETHOVEN An die ferne Geliebte (« À la bien-aimée lointaine »)\, op. 98\nSCHUBERT Schwanengesang (« Le Chant du cygne »)\, D. 957 \nENTRÉE \nRégulier : 60 $; Membres du Musée : 51 $; 34 ans et moins : 30 $
URL:https://www.ludwig-van.com/montreal/event/arte-musica-salle-bourgie-le-chant-du-cygne-de-schubert/
LOCATION:Salle Bourgie\, 1339 rue Sherbrooke Ouest\, Montréal\, Québec\, H3G 1G2\, Canada
CATEGORIES:piano,Vocal
ATTACH;FMTTYPE=image/jpeg:https://www.ludwig-van.com/montreal/wp-content/uploads/sites/3/2024/08/Benjamin-Appl_Eric-Lu.jpg
GEO:45.4991991;-73.57963
X-APPLE-STRUCTURED-LOCATION;VALUE=URI;X-ADDRESS=Salle Bourgie 1339 rue Sherbrooke Ouest Montréal Québec H3G 1G2 Canada;X-APPLE-RADIUS=500;X-TITLE=1339 rue Sherbrooke Ouest:geo:-73.57963,45.4991991
END:VEVENT
END:VCALENDAR