BEGIN:VCALENDAR
VERSION:2.0
PRODID:-//Ludwig Van Montreal - ECPv5.9.1//NONSGML v1.0//EN
CALSCALE:GREGORIAN
METHOD:PUBLISH
X-WR-CALNAME:Ludwig Van Montreal
X-ORIGINAL-URL:https://www.ludwig-van.com/montreal
X-WR-CALDESC:évènements pour Ludwig Van Montreal
BEGIN:VTIMEZONE
TZID:America/Toronto
BEGIN:DAYLIGHT
TZOFFSETFROM:-0500
TZOFFSETTO:-0400
TZNAME:EDT
DTSTART:20250309T070000
END:DAYLIGHT
BEGIN:STANDARD
TZOFFSETFROM:-0400
TZOFFSETTO:-0500
TZNAME:EST
DTSTART:20251102T060000
END:STANDARD
END:VTIMEZONE
BEGIN:VEVENT
DTSTART;TZID=America/Toronto:20250126T153000
DTEND;TZID=America/Toronto:20250126T173000
DTSTAMP:20260419T221341
CREATED:20240816T052955Z
LAST-MODIFIED:20240902T211518Z
UID:83223-1737905400-1737912600@www.ludwig-van.com
SUMMARY:Concerts LMMC | Karina Gauvin\, soprano
DESCRIPTION:La soprano canadienne Karina Gauvin se distingue sur la scène internationale pour sa maîtrise incontestable du répertoire baroque. Son répertoire est cependant loin de s’y limiter\, Gauvin sachant également s’approprier avec brio les œuvres des compositeurs de toutes les époques\, qu’il s’agisse de Beethoven\, de Britten\, ou des compositrices et compositeurs de l’ère contemporaine. Elle se produit aussi bien en Amérique du Nord qu’en Europe\, avec des ensembles tels que l’Orchestre Symphonique de Montréal\, le San Francisco Symphony\, le Chicago Symphony et le Rotterdam Philharmonic. Ses collaborations avec des ensembles baroques comprennent des performances avec Les Talens Lyriques\, le Venice Baroque Orchestra\, l’Accademia Bizantina\, le Tafelmusik Baroque Orchestra et les Violons du Roy. \nParmi ses récents accomplissements\, on compte sa participation\, aux côtés de tout un éventail de chanteuses et de chanteurs réputés\, à l’enregistrement par ATMA Classique de l’intégrale des 320 mélodies pour voix et piano de Jules Massenet. Cet enregistrement a obtenu le Prix Opus 2024 de l’Album de l’année dans la catégorie « Musiques classique\, romantique\, postromantique ». \nParmi ses rôles opératiques les plus brillants\, on compte notamment Vitellia dans La Clemenza di Tito\, de Mozart\, au Théâtre des Champs-Élysées; Alcina de Haendel avec le Teatro Real de Madrid; Armide\, de Gluck\, à l’Opéra national des Pays-Bas; le personnage de Merab dans Saul de Haendel\, au Festival de Glyndebourne et à l’Opéra-Comique à Paris. 5e fois au LMMC. (Catherine Harrison-Boisvert) \n  \nLe programme sera disponible deux semaines avant le concert sur le site du LMMC. \nBILLETS \nRégulier : 60 $; Étudiant (max. 26 ans : 25 $)
URL:https://www.ludwig-van.com/montreal/event/concerts-lmmc-karina-gauvin-soprano/
LOCATION:Salle Oscar Peterson\, 7141 Rue Sherbrooke Ouest\, Montréal\, Québec\, H4B 1R6\, Canada
ATTACH;FMTTYPE=image/jpeg:https://www.ludwig-van.com/montreal/wp-content/uploads/sites/3/2017/12/Karina-Gauvin_Michael-Slobodian_1200.jpg
ORGANIZER;CN="Concerts%20LMMC":MAILTO:lmmc@qc.aibn.com
END:VEVENT
END:VCALENDAR