BEGIN:VCALENDAR
VERSION:2.0
PRODID:-//Ludwig Van Montreal - ECPv5.9.1//NONSGML v1.0//EN
CALSCALE:GREGORIAN
METHOD:PUBLISH
X-WR-CALNAME:Ludwig Van Montreal
X-ORIGINAL-URL:https://www.ludwig-van.com/montreal
X-WR-CALDESC:évènements pour Ludwig Van Montreal
BEGIN:VTIMEZONE
TZID:America/Toronto
BEGIN:DAYLIGHT
TZOFFSETFROM:-0500
TZOFFSETTO:-0400
TZNAME:EDT
DTSTART:20250309T070000
END:DAYLIGHT
BEGIN:STANDARD
TZOFFSETFROM:-0400
TZOFFSETTO:-0500
TZNAME:EST
DTSTART:20251102T060000
END:STANDARD
END:VTIMEZONE
BEGIN:VEVENT
DTSTART;TZID=America/Toronto:20250124T193000
DTEND;TZID=America/Toronto:20250124T210000
DTSTAMP:20260420T013426
CREATED:20250118T012340Z
LAST-MODIFIED:20250118T012340Z
UID:85904-1737747000-1737752400@www.ludwig-van.com
SUMMARY:Conservatoire de musique | La grandiose Cinquième de Prokofiev
DESCRIPTION:Lors de ce concert\, l’Orchestre symphonique du Conservatoire de musique de Montréal\, ainsi que la violoniste Annabelle Chouinard de la classe d’Anne Robert se produiront à la Maison symphonique sous la direction du chef invité Jean-Marie Zeitouni. Au programme\, Aux confins de l’orage de Camille Pépin\, le Concerto pour violon no 1\, op. posthume de Bélà Bartók et la Symphonie no 5\, en si bémol majeur\, op. 100 de Sergueï Prokofiev \nPROGRAMME \nCamille PÉPIN\, Aux confins de l’orage\nBélà BARTÓK\, Concerto pour violon no 1\, op. posthume\nSergueï PROKOFIEV\, Symphonie no 5\, en si bémol majeur\, op. 100 \n\nINTERPRÈTES \nOrchestre symphonique du Conservatoire de musique de Montréal \nJean-Marie Zeitouni\, chef \nAnnabelle Chouinard\, violon \nENTRÉE \n48\,64 $
URL:https://www.ludwig-van.com/montreal/event/conservatoire-de-musique-la-grandiose-cinquieme-de-prokofiev/
LOCATION:Maison Symphonique\, 1600 rue St-Urbain\, Montréal\, Québec\, H2S0X1\, Canada
ATTACH;FMTTYPE=image/jpeg:https://www.ludwig-van.com/montreal/wp-content/uploads/sites/3/2018/03/JeanMarieZeitouni_JMZ_A_noir.jpg
ORGANIZER;CN="Conservatoire%20de%20musique%20de%20Montr%C3%A9al":MAILTO:CMM@conservatoire.gouv.qc.ca
GEO:45.5310103;-73.613956
X-APPLE-STRUCTURED-LOCATION;VALUE=URI;X-ADDRESS=Maison Symphonique 1600 rue St-Urbain Montréal Québec H2S0X1 Canada;X-APPLE-RADIUS=500;X-TITLE=1600 rue St-Urbain:geo:-73.613956,45.5310103
END:VEVENT
END:VCALENDAR