BEGIN:VCALENDAR
VERSION:2.0
PRODID:-//Ludwig Van Montreal - ECPv5.9.1//NONSGML v1.0//EN
CALSCALE:GREGORIAN
METHOD:PUBLISH
X-WR-CALNAME:Ludwig Van Montreal
X-ORIGINAL-URL:https://www.ludwig-van.com/montreal
X-WR-CALDESC:évènements pour Ludwig Van Montreal
BEGIN:VTIMEZONE
TZID:America/Toronto
BEGIN:DAYLIGHT
TZOFFSETFROM:-0500
TZOFFSETTO:-0400
TZNAME:EDT
DTSTART:20240310T070000
END:DAYLIGHT
BEGIN:STANDARD
TZOFFSETFROM:-0400
TZOFFSETTO:-0500
TZNAME:EST
DTSTART:20241103T060000
END:STANDARD
END:VTIMEZONE
BEGIN:VEVENT
DTSTART;TZID=America/Toronto:20241221T193000
DTEND;TZID=America/Toronto:20241221T213000
DTSTAMP:20260420T031114
CREATED:20240905T041823Z
LAST-MODIFIED:20240905T053840Z
UID:83689-1734809400-1734816600@www.ludwig-van.com
SUMMARY:Faculté de musique de l'UdeM | Concert de l'Atelier de gamelan de l'UdeM
DESCRIPTION:Originaire de Java et de Bali\, le gamelan est un orchestre de percussions aux sonorités uniques et très caractéristiques. L’Atelier de gamelan de l’UdeM\, fondé par José Evangelista\, possède plusieurs instruments offerts par le gouvernement indonésien en 1986. L’Atelier permet aux étudiantes et aux étudiants de s’initier à cet art raffiné et de rayonner à travers des concerts au Québec et à l’étranger. \nINTERPRÈTES \nAtelier de gamelan de l’Université de Montréal\nI Putu Arya Deva Suryanegara\, direction \nENTRÉE LIBRE
URL:https://www.ludwig-van.com/montreal/event/faculte-de-musique-de-ludem-concert-de-latelier-de-gamelan-de-ludem/
LOCATION:Salle Claude-Champagne\, 220\, avenue Vincent-d'Indy\, Montréal\, Québec\, H2V 2T2\, Canada
CATEGORIES:World Music
ATTACH;FMTTYPE=image/jpeg:https://www.ludwig-van.com/montreal/wp-content/uploads/sites/3/2024/09/gamelan-UdeM.jpg
ORGANIZER;CN="Facult%C3%A9%20de%20musique%20de%20l%E2%80%99Universit%C3%A9%20de%20Montr%C3%A9al":MAILTO:musique@umontreal.ca
GEO:45.5094594;-73.6100599
X-APPLE-STRUCTURED-LOCATION;VALUE=URI;X-ADDRESS=Salle Claude-Champagne 220 avenue Vincent-d'Indy Montréal Québec H2V 2T2 Canada;X-APPLE-RADIUS=500;X-TITLE=220\, avenue Vincent-d'Indy:geo:-73.6100599,45.5094594
END:VEVENT
END:VCALENDAR