BEGIN:VCALENDAR
VERSION:2.0
PRODID:-//Ludwig Van Montreal - ECPv5.9.1//NONSGML v1.0//EN
CALSCALE:GREGORIAN
METHOD:PUBLISH
X-WR-CALNAME:Ludwig Van Montreal
X-ORIGINAL-URL:https://www.ludwig-van.com/montreal
X-WR-CALDESC:évènements pour Ludwig Van Montreal
BEGIN:VTIMEZONE
TZID:America/Toronto
BEGIN:DAYLIGHT
TZOFFSETFROM:-0500
TZOFFSETTO:-0400
TZNAME:EDT
DTSTART:20240310T070000
END:DAYLIGHT
BEGIN:STANDARD
TZOFFSETFROM:-0400
TZOFFSETTO:-0500
TZNAME:EST
DTSTART:20241103T060000
END:STANDARD
END:VTIMEZONE
BEGIN:VEVENT
DTSTART;TZID=America/Toronto:20241212T193000
DTEND;TZID=America/Toronto:20241212T213000
DTSTAMP:20260419T113154
CREATED:20241017T162632Z
LAST-MODIFIED:20241017T163228Z
UID:84414-1734031800-1734039000@www.ludwig-van.com
SUMMARY:OSD | Robert & Clara
DESCRIPTION:Robert Schumann et sa femme Clara Wieck font partie de ces couples mythiques du monde de la musique. Avec sa pièce Clara\, la compositrice mexicaine Gabriela Ortiz rend hommage à cette grande figure du féminisme musical que fût la femme de Robert Schumann et se questionne sur l’intrigante relation qui peut exister entre deux compositeurs d’exception. Pour compléter le programme\, l’OSD interprétera la Quatrième symphonie de Robert Schumann et accueillera la pianiste Élisabeth Pion dans le Concerto en sol de Ravel\, le tout sous la direction du chef invité Andrei Feher. \nPROGRAMME \nGabriele Ortiz : Clara \nMaurice Ravel : Concerto en sol pour piano et orchestre \nRobert Schumann : Symphonie no 4 \nINTERPRÈTES \nOrchestre symphonique de Drummondville \nAndrei Feher\, chef d’orchestre \nÉlisabeth Pion\, piano \nENTRÉE \nDe 46 $ à 88 $ \n 
URL:https://www.ludwig-van.com/montreal/event/osd-robert-clara/
LOCATION:Maison des arts Desjardins Drummondville\, 175\, rue Ringuet\, Drummondville\, Québec\, J2C 2P7\, Canada
CATEGORIES:Orchestra,piano
ATTACH;FMTTYPE=image/png:https://www.ludwig-van.com/montreal/wp-content/uploads/sites/3/2017/10/osd-grands-concerts-24-25-rc-1920-x-1250.png
GEO:45.8774368;-72.4997082
X-APPLE-STRUCTURED-LOCATION;VALUE=URI;X-ADDRESS=Maison des arts Desjardins Drummondville 175 rue Ringuet Drummondville Québec J2C 2P7 Canada;X-APPLE-RADIUS=500;X-TITLE=175\, rue Ringuet:geo:-72.4997082,45.8774368
END:VEVENT
END:VCALENDAR