BEGIN:VCALENDAR
VERSION:2.0
PRODID:-//Ludwig Van Montreal - ECPv5.9.1//NONSGML v1.0//EN
CALSCALE:GREGORIAN
METHOD:PUBLISH
X-WR-CALNAME:Ludwig Van Montreal
X-ORIGINAL-URL:https://www.ludwig-van.com/montreal
X-WR-CALDESC:évènements pour Ludwig Van Montreal
BEGIN:VTIMEZONE
TZID:America/Toronto
BEGIN:DAYLIGHT
TZOFFSETFROM:-0500
TZOFFSETTO:-0400
TZNAME:EDT
DTSTART:20240310T070000
END:DAYLIGHT
BEGIN:STANDARD
TZOFFSETFROM:-0400
TZOFFSETTO:-0500
TZNAME:EST
DTSTART:20241103T060000
END:STANDARD
END:VTIMEZONE
BEGIN:VEVENT
DTSTART;TZID=America/Toronto:20241211T190000
DTEND;TZID=America/Toronto:20241211T220000
DTSTAMP:20260419T095234
CREATED:20241018T050903Z
LAST-MODIFIED:20241018T050903Z
UID:84444-1733943600-1733954400@www.ludwig-van.com
SUMMARY:CHOEUR ST-LAURENT | Le Messie Sing-Along
DESCRIPTION:Venez joindre votre voix à la nôtre dans cette lecture à vue publique d’un incontournable du Temps des Fêtes\, où les sentiments de joie que procurent les différents chœurs\, particulièrement le fameux « Alléluia »\, sont inégalés. Le Messie\, oratorio qui raconte la naissance\, la vie\, la passion\, la crucifixion\, et ultimement\, la résurrection de Jésus Christ\, est la réponse humaine d’Haendel au divin. Œuvre classique propulsée par le chœur avec un grand impact émotionnel et des messages édifiants\, chantons ensemble pour célébrer Noël. \nPROGRAMME \nG. F. Haendel : Le Messie \nINTERPRÈTES \nChœur St-Laurent \nPhilippe Bourque\, direction \nENTRÉE \ngratuite
URL:https://www.ludwig-van.com/montreal/event/choeur-st-laurent-le-messie-sing-along/
LOCATION:Église Baptiste de Westmount\, 411 avenue Roslyn\, Westmount\, Québec\, H3Y 2T6\, Canada
CATEGORIES:choeur,Chorale
ATTACH;FMTTYPE=image/jpeg:https://www.ludwig-van.com/montreal/wp-content/uploads/sites/3/2024/10/Choeur-St-Laurent_Messie.jpg
ORGANIZER;CN="Choeur%20St-Laurent":MAILTO:info@choeur.qc.ca
END:VEVENT
END:VCALENDAR