BEGIN:VCALENDAR
VERSION:2.0
PRODID:-//Ludwig Van Montreal - ECPv5.9.1//NONSGML v1.0//EN
CALSCALE:GREGORIAN
METHOD:PUBLISH
X-WR-CALNAME:Ludwig Van Montreal
X-ORIGINAL-URL:https://www.ludwig-van.com/montreal
X-WR-CALDESC:évènements pour Ludwig Van Montreal
BEGIN:VTIMEZONE
TZID:America/Toronto
BEGIN:DAYLIGHT
TZOFFSETFROM:-0500
TZOFFSETTO:-0400
TZNAME:EDT
DTSTART:20240310T070000
END:DAYLIGHT
BEGIN:STANDARD
TZOFFSETFROM:-0400
TZOFFSETTO:-0500
TZNAME:EST
DTSTART:20241103T060000
END:STANDARD
END:VTIMEZONE
BEGIN:VEVENT
DTSTART;TZID=America/Toronto:20241210T193000
DTEND;TZID=America/Toronto:20241210T213000
DTSTAMP:20260419T080748
CREATED:20240827T014314Z
LAST-MODIFIED:20240827T014314Z
UID:83435-1733859000-1733866200@www.ludwig-van.com
SUMMARY:Arte Musica - Salle Bourgie | Ensemble Près de votre oreille : Blessed Echoes
DESCRIPTION:Avec Blessed Echoes (« échos bénis »)\, l’ensemble Près de votre oreille propose un riche parcours dans la musique vocale élisabéthaine. Une véritable incursion dans un genre qui fut très prisé à l’époque : la « lute song » (chanson avec luth).\n\nEn collaboration avec Early Music Vancouver \nINTERPRÈTES \n\nEnsemble Près de votre oreille\nAnaïs Bertrand\, mezzo-soprano\nNicolas Kuntzelmann\, contre-ténor\nFrançois-Olivier Jean\, ténor\nCyril Costanzo\, basse\nRobin Pharo\, viole de gambe et direction\nMarion Martineau\, viole de gambe\nSimon Waddell\, luth Renaissance et cistre\nRonan Khalil\, virginal \nPROGRAMME \n\nCAVENDISH Wandring in this place (extr. de Ayres in Tabletorie to the lute)\nCAMPION Never weather-beaten sail (extr. de The First Booke of Ayres)\nROSSETER When Laura Smiles (extr. de A Book of Ayres)\nRobin PHARO\nRéversibilité\, chanson pour 4 voix et guitare sur un poème de Charles Baudelaire\nDOWLAND\nGo Crystal teares (extr. de The First Booke of Songes or Ayres)\nCan she excuse my wrongs (extr. de The First Booke of Songes or Ayres)\nFarewell Fantasie\nFERRABOSCO\nLike Hermit poore (extr. de Ayres)\nAlmain II\nCoranto I\nJONES\nLie down poor heart (extr. de A Musicall Dreame)\nIf in this Flesh (extr. de A Musicall Dreame)\nWhat if I seeke for love (extr. de The First Booke of Songes)\nOnce did I serve a cruel heart (extr. de A Musicall Dreame)\nFORD\nExtraits de Musicke of Sundrie Kindes\nA Pavin\, Sir Richard Westons delight\nHow shall I then describe my love\nNot full twelve yeeres twice tolde\nA Pavin\, M Maines Choice \n\n\nENTRÉE \nRégulier : 48 $; Membres du Musée : 41 $; 34 ans et moins : 24 $
URL:https://www.ludwig-van.com/montreal/event/arte-musica-salle-bourgie-ensemble-pres-de-votre-oreille-blessed-echoes/
LOCATION:Salle Bourgie\, 1339 rue Sherbrooke Ouest\, Montréal\, Québec\, H3G 1G2\, Canada
CATEGORIES:Musique baroque et ancienne
ATTACH;FMTTYPE=image/jpeg:https://www.ludwig-van.com/montreal/wp-content/uploads/sites/3/2024/08/Pres-de-votre-oreille_Ana-Lucia-Montezuma_v2_1200.jpg
GEO:45.4991991;-73.57963
X-APPLE-STRUCTURED-LOCATION;VALUE=URI;X-ADDRESS=Salle Bourgie 1339 rue Sherbrooke Ouest Montréal Québec H3G 1G2 Canada;X-APPLE-RADIUS=500;X-TITLE=1339 rue Sherbrooke Ouest:geo:-73.57963,45.4991991
END:VEVENT
END:VCALENDAR