BEGIN:VCALENDAR
VERSION:2.0
PRODID:-//Ludwig Van Montreal - ECPv5.9.1//NONSGML v1.0//EN
CALSCALE:GREGORIAN
METHOD:PUBLISH
X-WR-CALNAME:Ludwig Van Montreal
X-ORIGINAL-URL:https://www.ludwig-van.com/montreal
X-WR-CALDESC:évènements pour Ludwig Van Montreal
BEGIN:VTIMEZONE
TZID:America/Toronto
BEGIN:DAYLIGHT
TZOFFSETFROM:-0500
TZOFFSETTO:-0400
TZNAME:EDT
DTSTART:20240310T070000
END:DAYLIGHT
BEGIN:STANDARD
TZOFFSETFROM:-0400
TZOFFSETTO:-0500
TZNAME:EST
DTSTART:20241103T060000
END:STANDARD
END:VTIMEZONE
BEGIN:VEVENT
DTSTART;TZID=America/Toronto:20240519T143000
DTEND;TZID=America/Toronto:20240519T163000
DTSTAMP:20260419T165925
CREATED:20230726T191415Z
LAST-MODIFIED:20230726T191415Z
UID:77160-1716129000-1716136200@www.ludwig-van.com
SUMMARY:Arion Orchestre Baroque | "French Connexion"
DESCRIPTION:1642\, révolution de Cromwell. Le roi Charles II est en exil en France\, à la cour de Louis XIV\, son cousin germain. Il y découvre la musique de Versailles\, qui le passionne à tel point qu’elle fera partie de ses bagages lors de son retour en Angleterre en 1660. C’est dans ce contexte que de nombreux artistes français l’accompagnent et viennent s’installer à Londres ; ils vont inspirer les compositeurs anglais\, fascinés par Jean-Baptiste Lully. Débute alors une période de renouveau artistique remarquable pour la musique anglaise\, naturellement encline à s’enrichir de sonorités multiples. Il en résulte des créations passionnantes et dynamiques\, influencées par le métissage des styles. Elles reflètent l’esprit d’ouverture de cette cour cosmopolite qui accueille les meilleurs artistes en provenance du continent.
URL:https://www.ludwig-van.com/montreal/event/arion-orchestre-baroque-french-connexion/2024-05-19/
LOCATION:Salle Bourgie\, 1339 rue Sherbrooke Ouest\, Montréal\, Québec\, H3G 1G2\, Canada
CATEGORIES:Period ensemble
ATTACH;FMTTYPE=image/png:https://www.ludwig-van.com/montreal/wp-content/uploads/sites/3/2023/07/ArionWEB_Saison2023-24-FR7.png
ORGANIZER;CN="Arion%20Orchestre%20Baroque":MAILTO:info@arionbaroque.com
GEO:45.4991991;-73.57963
X-APPLE-STRUCTURED-LOCATION;VALUE=URI;X-ADDRESS=Salle Bourgie 1339 rue Sherbrooke Ouest Montréal Québec H3G 1G2 Canada;X-APPLE-RADIUS=500;X-TITLE=1339 rue Sherbrooke Ouest:geo:-73.57963,45.4991991
END:VEVENT
BEGIN:VEVENT
DTSTART;TZID=America/Toronto:20240519T150000
DTEND;TZID=America/Toronto:20240519T170000
DTSTAMP:20260419T165925
CREATED:20240423T023942Z
LAST-MODIFIED:20240423T023942Z
UID:81279-1716130800-1716138000@www.ludwig-van.com
SUMMARY:PODIUM 2024 | Concert de clôture : Chants d’appel et de liaisons
DESCRIPTION:Pour le concert de clôture de cette édition\, le Festival PODIUM 2024 propose un dialogue interculturel exceptionnel conçu et dirigé par André Pappathomas réunissant des artistes québécois : quatre chœurs québécois issus de différentes communautés culturelles\, Canticorum (Amérique latine)\, Singiza (Rwanda)\, La Muse (Roumanie) et Haïti chante et danse (Haïti)\, quatre chanteurs solistes classiques\, un trio folklorique québécois et un trio de musiciens (violon\, violoncelle et vibraphone/percussions) prendront part à un événement multidisciplinaire où la musique qui lie les voix et les cœurs sera le grand fil conducteur.\nLe programme du concert se déploiera autour d’un principe d’improvisation contrôlée pour ensemble vocal que Pappathomas a développé au fil des ans. Ainsi\, la pièce d’ouverture\, la finale et les liaisons entre les performances de chaque chœur seront abordées sous forme d’improvisation contrôlée.
URL:https://www.ludwig-van.com/montreal/event/podium-2024-concert-de-cloture-chants-dappel-et-de-liaisons/
LOCATION:Salle Pierre-Mercure — Centre Pierre-Péladeau\, 300\, boulevard de Maisonneuve Est\, Montréal\, Québec\, H2X 3X6\, Canada
CATEGORIES:choeur
ATTACH;FMTTYPE=image/jpeg:https://www.ludwig-van.com/montreal/wp-content/uploads/sites/3/2024/04/Chorale-Singiza.jpeg
GEO:45.5137738;-73.5621857
X-APPLE-STRUCTURED-LOCATION;VALUE=URI;X-ADDRESS=Salle Pierre-Mercure — Centre Pierre-Péladeau 300 boulevard de Maisonneuve Est Montréal Québec H2X 3X6 Canada;X-APPLE-RADIUS=500;X-TITLE=300\, boulevard de Maisonneuve Est:geo:-73.5621857,45.5137738
END:VEVENT
END:VCALENDAR